Workbook

Sheet SEKTÖR (U S D)
B1: EYLÜL 2014 İHRACAT RAKAMLARI
A5: SEKTÖREL BAZDA İHRACAT RAKAMLARI -1000 $
B6: EYLÜL | F6: OCAK-EYLÜL | J6: SON 12 AYLIK
A7: SEKTÖRLER | B7: 2013 | C7: 2014 | D7: Değişim ('14/'13) | E7: Pay(14) (%) | F7: 2013 | G7: 2014 | H7: Değişim ('14/'13) | I7: Pay(14) (%) | J7: 2012-2013 | K7: 2013-2014 | L7: Değişim ('14/'13) | M7: Pay(14) (%)
A8: I. TARIM | B8: 1831276.5 | C8: 1907432.9 | D8: =(C8-B8)/B8*100 -> 4.1586469 | E8: =C8/C$44*100 -> 14.347399 | F8: 15067528 | G8: 15989405 | H8: =(G8-F8)/F8*100 -> 6.1183045 | I8: =G8/G$46*100 -> 13.52454 | J8: 20569130 | K8: 22263036 | L8: =(K8-J8)/J8*100 -> 8.2351864 | M8: =K8/K$46*100 -> 14.121371
A9: A. BİTKİSEL ÜRÜNLER | B9: 1257996.4 | C9: 1325413.3 | D9: =(C9-B9)/B9*100 -> 5.3590669 | E9: =C9/C$44*100 -> 9.9695428 | F9: 10428449 | G9: 10914066 | H9: =(G9-F9)/F9*100 -> 4.6566647 | I9: =G9/G$46*100 -> 9.2315959 | J9: 14404258 | K9: 15382085 | L9: =(K9-J9)/J9*100 -> 6.788455 | M9: =K9/K$46*100 -> 9.7568062
A10: Hububat, Bakliyat, Yağlı Tohumlar ve Mam. | B10: 552548.79 | C10: 554511.15 | D10: =(C10-B10)/B10*100 -> 0.35514641 | E10: =C10/C$44*100 -> 4.1709424 | F10: 4706119.4 | G10: 4903296.8 | H10: =(G10-F10)/F10*100 -> 4.1898085 | I10: =G10/G$46*100 -> 4.1474235 | J10: 6291820.7 | K10: 6781819.7 | L10: =(K10-J10)/J10*100 -> 7.7878733 | M10: =K10/K$46*100 -> 4.301686
A11: Yaş Meyve ve Sebze | B11: 126573.58 | C11: 162411.42 | D11: =(C11-B11)/B11*100 -> 28.313837 | E11: =C11/C$44*100 -> 1.2216322 | F11: 1434337.3 | G11: 1506862 | H11: =(G11-F11)/F11*100 -> 5.0563212 | I11: =G11/G$46*100 -> 1.2745699 | J11: 2201844.6 | K11: 2423490 | L11: =(K11-J11)/J11*100 -> 10.066351 | M11: =K11/K$46*100 -> 1.5372118
A12: Meyve Sebze Mamulleri | B12: 126891.69 | C12: 134640.8 | D12: =(C12-B12)/B12*100 -> 6.1068685 | E12: =C12/C$44*100 -> 1.0127461 | F12: 942568.26 | G12: 1043397.7 | H12: =(G12-F12)/F12*100 -> 10.697307 | I12: =G12/G$46*100 -> 0.88255151 | J12: 1295959.5 | K12: 1430821.4 | L12: =(K12-J12)/J12*100 -> 10.406341 | M12: =K12/K$46*100 -> 0.90756534
A13: Kuru Meyve ve Mamulleri | B13: 156917.41 | C13: 132958.67 | D13: =(C13-B13)/B13*100 -> -15.268379 | E13: =C13/C$44*100 -> 1.0000934 | F13: 989220.98 | G13: 970385.37 | H13: =(G13-F13)/F13*100 -> -1.9040858 | I13: =G13/G$46*100 -> 0.82079449 | J13: 1440940.7 | K13: 1419418.1 | L13: =(K13-J13)/J13*100 -> -1.493649 | M13: =K13/K$46*100 -> 0.90033224
A14: Fındık ve Mamulleri | B14: 205906.03 | C14: 218104.65 | D14: =(C14-B14)/B14*100 -> 5.9243631 | E14: =C14/C$44*100 -> 1.6405476 | F14: 1219132.5 | G14: 1440820.6 | H14: =(G14-F14)/F14*100 -> 18.184084 | I14: =G14/G$46*100 -> 1.2187092 | J14: 1776656.8 | K14: 1991665.2 | L14: =(K14-J14)/J14*100 -> 12.101856 | M14: =K14/K$46*100 -> 1.2633067
A15: Zeytin ve Zeytinyağı | B15: 30890.239 | C15: 15411.823 | D15: =(C15-B15)/B15*100 -> -50.10779 | E15: =C15/C$44*100 -> 0.11592522 | F15: 363673.84 | G15: 173061.56 | H15: =(G15-F15)/F15*100 -> -52.412975 | I15: =G15/G$46*100 -> 0.14638306 | J15: 425611.97 | K15: 248955.51 | L15: =(K15-J15)/J15*100 -> -41.506459 | M15: =K15/K$46*100 -> 0.15791167
A16: Tütün ve Mamulleri | B16: 52908.789 | C16: 101496.21 | D16: =(C16-B16)/B16*100 -> 91.832414 | E16: =C16/C$44*100 -> 0.76343791 | F16: 714406.42 | G16: 809364.52 | H16: =(G16-F16)/F16*100 -> 13.291888 | I16: =G16/G$46*100 -> 0.684596 | J16: 894308.77 | K16: 1001045.4 | L16: =(K16-J16)/J16*100 -> 11.935101 | M16: =K16/K$46*100 -> 0.63495984
A17: Süs Bitkileri | B17: 5359.9139 | C17: 5878.6029 | D17: =(C17-B17)/B17*100 -> 9.6771883 | E17: =C17/C$44*100 -> 0.044217892 | F17: 58989.811 | G17: 66877.899 | H17: =(G17-F17)/F17*100 -> 13.371949 | I17: =G17/G$46*100 -> 0.056568259 | J17: 77115.549 | K17: 84869.723 | L17: =(K17-J17)/J17*100 -> 10.055267 | M17: =K17/K$46*100 -> 0.053832587
A18: B. HAYVANSAL ÜRÜNLER | B18: 171162.84 | C18: 192717.94 | D18: =(C18-B18)/B18*100 -> 12.593331 | E18: =C18/C$44*100 -> 1.4495929 | F18: 1437108.8 | G18: 1694105.5 | H18: =(G18-F18)/F18*100 -> 17.8829 | I18: =G18/G$46*100 -> 1.4329487 | J18: 1916119.4 | K18: 2245150.6 | L18: =(K18-J18)/J18*100 -> 17.171747 | M18: =K18/K$46*100 -> 1.4240917
A19: Su Ürünleri ve Hayvansal Mamuller | B19: 171162.84 | C19: 192717.94 | D19: =(C19-B19)/B19*100 -> 12.593331 | E19: =C19/C$44*100 -> 1.4495929 | F19: 1437108.8 | G19: 1694105.5 | H19: =(G19-F19)/F19*100 -> 17.8829 | I19: =G19/G$46*100 -> 1.4329487 | J19: 1916119.4 | K19: 2245150.6 | L19: =(K19-J19)/J19*100 -> 17.171747 | M19: =K19/K$46*100 -> 1.4240917
... A44: T O P L A M (TİM*) | B44: 12485605 | C44: 13294625 | D44: =(C44-B44)/B44*100 -> 6.4796224 | E44: =C44/C$44*100 -> 100 | F44: 1.0683123e+08 | G44: 1.128608e+08 | H44: =(G44-F44)/F44*100 -> 5.6440085 | I44: =G44/G$46*100 -> 95.462611 | J44: 1.4303636e+08 | K44: 1.5142471e+08 | L44: =(K44-J44)/J44*100 -> 5.8644884 | M44: =K44/K$46*100 -> 96.048197
A45: İhracatçı Birlikleri Kaydından Muaf İhracat | F45: =(F46-F44) -> 4966848 | G45: =(G46-G44) -> 5364333.7 | H45: =(G45-F45)/F45*100 -> 8.0027761 | I45: =G45/G$46*100 -> 4.5373887 | J45: =(J46-J44) -> 8311021.4 | K45: =(K46-K44) -> 6230211.4 | L45: =(K45-J45)/J45*100 -> -25.036754 | M45: =K45/K$46*100 -> 3.9518027
A46: T O P L A M (TİM+TUİK*) | B46: 12485605 | C46: 13294625 | D46: =(C46-B46)/B46*100 -> 6.4796224 | E46: =C46/C$44*100 -> 100 | F46: 1.1179808e+08 | G46: 1.1822513e+08 | H46: =(G46-F46)/F46*100 -> 5.7488013 | I46: =G46/G$46*100 -> 100 | J46: 1.5134738e+08 | K46: 1.5765492e+08 | L46: =(K46-J46)/J46*100 -> 4.1675916 | M46: =K46/K$46*100 -> 100
A49: * Son 12 aylık dönem için ilk 11 ay TUİK, son ay TİM rakamı kullanılmıştır.
A50: Ocak-Eylül dönemi için ilk 8 ay TUİK, son ay TİM rakamı kullanılmıştır.

Sheet Seçilmiş İstatistikler
A2: Tablo 1
A3: En yüksek ihracat artışı elde edilen ilk 10 ülke*
A5: ÜLKE (Bin$) | B5: 2013 - EYLÜL | C5: 2014 - EYLÜL | D5: Değ. %
A6: MALTA | B6: 25852 | C6: 64589 | D6: =(C6-B6)/B6 -> 1.498414
A7: İRAN (İSLAM CUM.) | B7: 219368 | C7: 481042 | D7: =(C7-B7)/B7 -> 1.192854
A8: SINGAPUR | B8: 12894 | C8: 26842 | D8: =(C8-B8)/B8 -> 1.0817434
A9: MISIR | B9: 183395 | C9: 356599 | D9: =(C9-B9)/B9 -> 0.94443142
A10: PERU | B10: 6282 | C10: 12121 | D10: =(C10-B10)/B10 -> 0.92948106
A11: UMMAN | B11: 12595 | C11: 24056 | D11: =(C11-B11)/B11 -> 0.90996427
A12: SURİYE | B12: 76144 | C12: 144752 | D12: =(C12-B12)/B12 -> 0.90102963
A13: GANA | B13: 10772 | C13: 20063 | D13: =(C13-B13)/B13 -> 0.86251392
A14: CEBELİ TARIK | B14: 8890 | C14: 15669 | D14: =(C14-B14)/B14 -> 0.76254218
A15: HINDISTAN | B15: 31894 | C15: 52342 | D15: =(C15-B15)/B15 -> 0.64112372
A16: * 10 milyon dolar ve üstünde ihracat yapılan ülkeler arasında
A18: Tablo 2
A19: En fazla ihracat yapılan ilk 10 ülke
A21: ÜLKE (Bin$) | B21: 2013 - EYLÜL | C21: 2014 - EYLÜL | D21: Değ. %
A22: ALMANYA | B22: 1147350 | C22: 1295540 | D22: 0.1291585
A23: BİRLEŞİK KRALLIK | B23: 890023 | C23: 887097 | D23: -0.0032875555
A24: IRAK | B24: 1012747 | C24: 875741 | D24: -0.13528157
A25: BİRLEŞİK DEVLETLER | B25: 425086 | C25: 586785 | D25: 0.38039126
A26: İTALYA | B26: 558951 | C26: 583275 | D26: 0.043517231
A27: FRANSA | B27: 577690 | C27: 542247 | D27: -0.061352975
A28: RUSYA FEDERASYONU | B28: 621631 | C28: 533736 | D28: -0.14139417
A29: İRAN (İSLAM CUM.) | B29: 219368 | C29: 481042 | D29: 1.192854
A30: İSPANYA | B30: 374379 | C30: 428269 | D30: 0.14394504
A31: MISIR | B31: 183395 | C31: 356599 | D31: 0.94443142
A33: Tablo 3
A34: En fazla ihracat yapan ilk 10 sektör
A36: SEKTÖR (Bin$) | B36: 2013 - EYLÜL | C36: 2014 - EYLÜL | D36: Değ. %
A37: Otomotiv Endüstrisi | B37: 1955643.4 | C37: 1959784.3 | D37: 0.0021173662
A38: Hazırgiyim ve Konfeksiyon | B38: 1514552.3 | C38: 1669815 | D38: 0.10251398
A39: Kimyevi Maddeler ve Mamulleri | B39: 1401853.7 | C39: 1517881.7 | D39: 0.082767589
A40: Elektrik Elektronik ve Hizmet | B40: 1034166.6 | C40: 1093297.6 | D40: 0.057177493
A41: Çelik | B41: 1018041.5 | C41: 1089514.4 | D41: 0.070206226
A42: Tekstil ve Hammaddeleri | B42: 753895.3 | C42: 821506 | D42: 0.089681816
A43: Demir ve Demir Dışı Metaller | B43: 593124.02 | C43: 610786.6 | D43: 0.0297789
A44: Hububat, Bakliyat, Yağlı Tohumlar ve Mamulleri | B44: 552548.79 | C44: 554511.15 | D44: 0.0035514641
A45: Makine ve Aksamları | B45: 480637.95 | C45: 532652.24 | D45: 0.10821929
A46: Mücevher | B46: 204095.25 | C46: 405283.64 | D46: 0.98575727
A48: Tablo 4
A49: İhracatını en yüksek oranlı artıran ilk 10 sektör
A51: SEKTÖR (Bin$) | B51: 2013 - EYLÜL | C51: 2014 - EYLÜL | D51: Değ. %
A52: Mücevher | B52: 204095.25 | C52: 405283.64 | D52: 0.98575727
A53: Tütün | B53: 52908.789 | C53: 101496.21 | D53: 0.91832414
A54: Savunma ve Havacılık Sanayii | B54: 114505.42 | C54: 160586.74 | D54: 0.4024379
A55: Yaş Meyve ve Sebze | B55: 126573.58 | C55: 162411.42 | D55: 0.28313837
A56: Halı | B56: 182023.93 | C56: 222389.83 | D56: 0.22176153
A57: Su Ürünleri ve Hayvansal Mamuller | B57: 171162.84 | C57: 192717.94 | D57: 0.12593331
A58: Makine ve Aksamları | B58: 480637.95 | C58: 532652.24 | D58: 0.10821929
A59: Hazırgiyim ve Konfeksiyon | B59: 1514552.3 | C59: 1669815 | D59: 0.10251398
A60: Süs Bitkileri ve Mam. | B60: 5359.9139 | C60: 5878.6029 | D60: 0.096771883
A61: Tekstil ve Hammaddeleri | B61: 753895.3 | C61: 821506 | D61: 0.089681816
A63: Tablo 5
A64: En fazla ihracat yapan ilk 10 il
A66: İL (Bin$) | B66: 2013 - EYLÜL | C66: 2014 - EYLÜL | D66: Değ. %
A67: İSTANBUL | B67: 5517280 | C67: 6024002 | D67: 0.09184272
A68: BURSA | B68: 1137899 | C68: 1139645 | D68: 0.0015344068
A69: KOCAELI | B69: 1001751 | C69: 1085475 | D69: 0.083577656
A70: İZMIR | B70: 734173 | C70: 722830 | D70: -0.015450037
A71: ANKARA | B71: 643369 | C71: 643821 | D71: 0.00070255172
A72: GAZIANTEP | B72: 551571 | C72: 622622 | D72: 0.12881569
A73: MANISA | B73: 376105 | C73: 402185 | D73: 0.069342338
A74: DENIZLI | B74: 282448 | C74: 276499 | D74: -0.021062284
A75: SAKARYA | B75: 216450 | C75: 227908 | D75: 0.052936013
A76: HATAY | B76: 137013 | C76: 203529 | D76: 0.48547218
A78: Tablo 6
A79: İhracatını en yüksek oranlı artıran ilk 10 il
A81: İL (Bin$) | B81: 2013 - EYLÜL | C81: 2014 - EYLÜL | D81: Değ. %
A82: ADIYAMAN | B82: 6382 | C82: 27758 | D82: =(C82-B82)/B82 -> 3.3494202
A83: ARDAHAN | B83: 48 | C83: 131 | D83: =(C83-B83)/B83 -> 1.7291667
A84: KIRKLARELI | B84: 14652 | C84: 36230 | D84: =(C84-B84)/B84 -> 1.4727
A85: KILIS | B85: 3755 | C85: 7427 | D85: =(C85-B85)/B85 -> 0.97789614
A86: ELAZIĞ | B86: 11226 | C86: 20358 | D86: =(C86-B86)/B86 -> 0.81346873
A87: GÜMÜŞHANE | B87: 48 | C87: 85 | D87: =(C87-B87)/B87 -> 0.77083333
A88: SIVAS | B88: 5010 | C88: 7598 | D88: =(C88-B88)/B88 -> 0.51656687
A89: HATAY | B89: 137013 | C89: 203529 | D89: =(C89-B89)/B89 -> 0.48547218
A90: AĞRI | B90: 4334 | C90: 6248 | D90: =(C90-B90)/B90 -> 0.44162437
A91: EDIRNE | B91: 3315 | C91: 4758 | D91: =(C91-B91)/B91 -> 0.43529412

Sheet SEKTÖR (TL)
B1: EYLÜL 2014 İHRACAT RAKAMLARI - TL
A5: SEKTÖREL BAZDA İHRACAT KAYIT RAKAMLARI - 1000 TL
B6: EYLÜL | F6: OCAK-EYLÜL | J6: SON 12 AYLIK
A7: SEKTÖRLER | B7: 2013 | C7: 2014 | D7: Değişim ('14/'13) | E7: Pay(14) (%) | F7: 2013 | G7: 2014 | H7: Değişim ('14/'13) | I7: Pay(14) (%) | J7: 2012-2013 | K7: 2013-2014 | L7: Değişim ('14/'13) | M7: Pay(14) (%)
A8: I. TARIM | B8: ='SEKTÖR (U S D)'!B8*2.0171 -> 3693867.9 | C8: ='SEKTÖR (U S D)'!C8*2.2036 -> 4203219 | D8: =(C8-B8)/B8*100 -> 13.7891 | E8: =C8/C$46*100 -> 14.347399 | F8: ='SEKTÖR (U S D)'!F8*1.8738 -> 28233534 | G8: ='SEKTÖR (U S D)'!G8*2.1562 -> 34476356 | H8: =(G8-F8)/F8*100 -> 22.111372 | I8: =G8/G$46*100 -> 13.52454 | J8: ='SEKTÖR (U S D)'!J8*1.8421 -> 37890394 | K8: ='SEKTÖR (U S D)'!K8*2.1295 -> 47409135 | L8: =(K8-J8)/J8*100 -> 25.121779 | M8: =K8/K$46*100 -> 14.121371
A9: A. BİTKİSEL ÜRÜNLER | B9: ='SEKTÖR (U S D)'!B9*2.0171 -> 2537504.6 | C9: ='SEKTÖR (U S D)'!C9*2.2036 -> 2920680.8 | D9: =(C9-B9)/B9*100 -> 15.100511 | E9: =C9/C$46*100 -> 9.9695428 | F9: ='SEKTÖR (U S D)'!F9*1.8738 -> 19540827 | G9: ='SEKTÖR (U S D)'!G9*2.1562 -> 23532910 | H9: =(G9-F9)/F9*100 -> 20.429448 | I9: =G9/G$46*100 -> 9.2315959 | J9: ='SEKTÖR (U S D)'!J9*1.8421 -> 26534085 | K9: ='SEKTÖR (U S D)'!K9*2.1295 -> 32756150 | L9: =(K9-J9)/J9*100 -> 23.449332 | M9: =K9/K$46*100 -> 9.7568062
A10: Hububat, Bakliyat, Yağlı Tohumlar ve Mam. | B10: ='SEKTÖR (U S D)'!B10*2.0171 -> 1114546.2 | C10: ='SEKTÖR (U S D)'!C10*2.2036 -> 1221920.8 | D10: =(C10-B10)/B10*100 -> 9.6339302 | E10: =C10/C$46*100 -> 4.1709424 | F10: ='SEKTÖR (U S D)'!F10*1.8738 -> 8818326.6 | G10: ='SEKTÖR (U S D)'!G10*2.1562 -> 10572489 | H10: =(G10-F10)/F10*100 -> 19.892232 | I10: =G10/G$46*100 -> 4.1474235 | J10: ='SEKTÖR (U S D)'!J10*1.8421 -> 11590163 | K10: ='SEKTÖR (U S D)'!K10*2.1295 -> 14441885 | L10: =(K10-J10)/J10*100 -> 24.604677 | M10: =K10/K$46*100 -> 4.301686
A11: Yaş Meyve ve Sebze | B11: ='SEKTÖR (U S D)'!B11*2.0171 -> 255311.57 | C11: ='SEKTÖR (U S D)'!C11*2.2036 -> 357889.8 | D11: =(C11-B11)/B11*100 -> 40.177667 | E11: =C11/C$46*100 -> 1.2216322 | F11: ='SEKTÖR (U S D)'!F11*1.8738 -> 2687661.2 | G11: ='SEKTÖR (U S D)'!G11*2.1562 -> 3249095.8 | H11: =(G11-F11)/F11*100 -> 20.889337 | I11: =G11/G$46*100 -> 1.2745699 | J11: ='SEKTÖR (U S D)'!J11*1.8421 -> 4056017.9 | K11: ='SEKTÖR (U S D)'!K11*2.1295 -> 5160822 | L11: =(K11-J11)/J11*100 -> 27.238638 | M11: =K11/K$46*100 -> 1.5372118
A12: Meyve Sebze Mamulleri | B12: ='SEKTÖR (U S D)'!B12*2.0171 -> 255953.22 | C12: ='SEKTÖR (U S D)'!C12*2.2036 -> 296694.46 | D12: =(C12-B12)/B12*100 -> 15.917453 | E12: =C12/C$46*100 -> 1.0127461 | F12: ='SEKTÖR (U S D)'!F12*1.8738 -> 1766184.4 | G12: ='SEKTÖR (U S D)'!G12*2.1562 -> 2249774.1 | H12: =(G12-F12)/F12*100 -> 27.380474 | I12: =G12/G$46*100 -> 0.88255151 | J12: ='SEKTÖR (U S D)'!J12*1.8421 -> 2387286.9 | K12: ='SEKTÖR (U S D)'!K12*2.1295 -> 3046934.2 | L12: =(K12-J12)/J12*100 -> 27.631672 | M12: =K12/K$46*100 -> 0.90756534
A13: Kuru Meyve ve Mamulleri | B13: ='SEKTÖR (U S D)'!B13*2.0171 -> 316518.11 | C13: ='SEKTÖR (U S D)'!C13*2.2036 -> 292987.72 | D13: =(C13-B13)/B13*100 -> -7.4341376 | E13: =C13/C$46*100 -> 1.0000934 | F13: ='SEKTÖR (U S D)'!F13*1.8738 -> 1853602.3 | G13: ='SEKTÖR (U S D)'!G13*2.1562 -> 2092344.9 | H13: =(G13-F13)/F13*100 -> 12.879929 | I13: =G13/G$46*100 -> 0.82079449 | J13: ='SEKTÖR (U S D)'!J13*1.8421 -> 2654356.8 | K13: ='SEKTÖR (U S D)'!K13*2.1295 -> 3022650.8 | L13: =(K13-J13)/J13*100 -> 13.875074 | M13: =K13/K$46*100 -> 0.90033224
A14: Fındık ve Mamulleri | B14: ='SEKTÖR (U S D)'!B14*2.0171 -> 415333.05 | C14: ='SEKTÖR (U S D)'!C14*2.2036 -> 480615.41 | D14: =(C14-B14)/B14*100 -> 15.718074 | E14: =C14/C$46*100 -> 1.6405476 | F14: ='SEKTÖR (U S D)'!F14*1.8738 -> 2284410.5 | G14: ='SEKTÖR (U S D)'!G14*2.1562 -> 3106697.3 | H14: =(G14-F14)/F14*100 -> 35.995582 | I14: =G14/G$46*100 -> 1.2187092 | J14: ='SEKTÖR (U S D)'!J14*1.8421 -> 3272779.4 | K14: ='SEKTÖR (U S D)'!K14*2.1295 -> 4241251 | L14: =(K14-J14)/J14*100 -> 29.591717 | M14: =K14/K$46*100 -> 1.2633067
A15: Zeytin ve Zeytinyağı | B15: ='SEKTÖR (U S D)'!B15*2.0171 -> 62308.7 | C15: ='SEKTÖR (U S D)'!C15*2.2036 -> 33961.492 | D15: =(C15-B15)/B15*100 -> -45.494783 | E15: =C15/C$46*100 -> 0.11592522 | F15: ='SEKTÖR (U S D)'!F15*1.8738 -> 681452.04 | G15: ='SEKTÖR (U S D)'!G15*2.1562 -> 373155.34 | H15: =(G15-F15)/F15*100 -> -45.241144 | I15: =G15/G$46*100 -> 0.14638306 | J15: ='SEKTÖR (U S D)'!J15*1.8421 -> 784019.82 | K15: ='SEKTÖR (U S D)'!K15*2.1295 -> 530150.76 | L15: =(K15-J15)/J15*100 -> -32.380438 | M15: =K15/K$46*100 -> 0.15791167
A16: Tütün ve Mamulleri | B16: ='SEKTÖR (U S D)'!B16*2.0171 -> 106722.32 | C16: ='SEKTÖR (U S D)'!C16*2.2036 -> 223657.04 | D16: =(C16-B16)/B16*100 -> 109.56914 | E16: =C16/C$46*100 -> 0.76343791 | F16: ='SEKTÖR (U S D)'!F16*1.8738 -> 1338654.7 | G16: ='SEKTÖR (U S D)'!G16*2.1562 -> 1745151.8 | H16: =(G16-F16)/F16*100 -> 30.366085 | I16: =G16/G$46*100 -> 0.684596 | J16: ='SEKTÖR (U S D)'!J16*1.8421 -> 1647406.2 | K16: ='SEKTÖR (U S D)'!K16*2.1295 -> 2131726.2 | L16: =(K16-J16)/J16*100 -> 29.398946 | M16: =K16/K$46*100 -> 0.63495984
A17: Süs Bitkileri | B17: ='SEKTÖR (U S D)'!B17*2.0171 -> 10811.482 | C17: ='SEKTÖR (U S D)'!C17*2.2036 -> 12954.089 | D17: =(C17-B17)/B17*100 -> 19.817883 | E17: =C17/C$46*100 -> 0.044217892 | F17: ='SEKTÖR (U S D)'!F17*1.8738 -> 110535.11 | G17: ='SEKTÖR (U S D)'!G17*2.1562 -> 144202.12 | H17: =(G17-F17)/F17*100 -> 30.458211 | I17: =G17/G$46*100 -> 0.056568259 | J17: ='SEKTÖR (U S D)'!J17*1.8421 -> 142054.55 | K17: ='SEKTÖR (U S D)'!K17*2.1295 -> 180730.08 | L17: =(K17-J17)/J17*100 -> 27.225824 | M17: =K17/K$46*100 -> 0.053832587
A18: B. HAYVANSAL ÜRÜNLER | B18: ='SEKTÖR (U S D)'!B18*2.0171 -> 345252.56 | C18: ='SEKTÖR (U S D)'!C18*2.2036 -> 424673.26 | D18: =(C18-B18)/B18*100 -> 23.003651 | E18: =C18/C$46*100 -> 1.4495929 | F18: ='SEKTÖR (U S D)'!F18*1.8738 -> 2692854.4 | G18: ='SEKTÖR (U S D)'!G18*2.1562 -> 3652830.2 | H18: =(G18-F18)/F18*100 -> 35.649006 | I18: =G18/G$46*100 -> 1.4329487 | J18: ='SEKTÖR (U S D)'!J18*1.8421 -> 3529683.6 | K18: ='SEKTÖR (U S D)'!K18*2.1295 -> 4781048.2 | L18: =(K18-J18)/J18*100 -> 35.452601 | M18: =K18/K$46*100 -> 1.4240917
A19: Su Ürünleri ve Hayvansal Mamuller | B19: ='SEKTÖR (U S D)'!B19*2.0171 -> 345252.56 | C19: ='SEKTÖR (U S D)'!C19*2.2036 -> 424673.26 | D19: =(C19-B19)/B19*100 -> 23.003651 | E19: =C19/C$46*100 -> 1.4495929 | F19: ='SEKTÖR (U S D)'!F19*1.8738 -> 2692854.4 | G19: ='SEKTÖR (U S D)'!G19*2.1562 -> 3652830.2 | H19: =(G19-F19)/F19*100 -> 35.649006 | I19: =G19/G$46*100 -> 1.4329487 | J19: ='SEKTÖR (U S D)'!J19*1.8421 -> 3529683.6 | K19: ='SEKTÖR (U S D)'!K19*2.1295 -> 4781048.2 | L19: =(K19-J19)/J19*100 -> 35.452601 | M19: =K19/K$46*100 -> 1.4240917
... A44: T O P L A M (TİM*) | B44: ='SEKTÖR (U S D)'!B44*2.0171 -> 25184714 | C44: ='SEKTÖR (U S D)'!C44*2.2036 -> 29296035 | D44: =(C44-B44)/B44*100 -> 16.324672 | E44: =C44/C$46*100 -> 100 | F44: ='SEKTÖR (U S D)'!F44*1.8738 -> 2.0018037e+08 | G44: ='SEKTÖR (U S D)'!G44*2.1562 -> 2.4335045e+08 | H44: =(G44-F44)/F44*100 -> 21.565595 | I44: =G44/G$46*100 -> 95.462611 | J44: ='SEKTÖR (U S D)'!J44*1.8421 -> 2.6348728e+08 | K44: ='SEKTÖR (U S D)'!K44*2.1295 -> 3.2245892e+08 | L44: =(K44-J44)/J44*100 -> 22.381211 | M44: =K44/K$46*100 -> 96.048197
A45: İhracatçı Birlikleri Kaydından Muaf İhracat | B45: ='SEKTÖR (U S D)'!B45*2.0171 -> 0 | C45: ='SEKTÖR (U S D)'!C45*2.2036 -> 0 | F45: ='SEKTÖR (U S D)'!F45*1.8738 -> 9306879.7 | G45: ='SEKTÖR (U S D)'!G45*2.1562 -> 11566576 | H45: =(G45-F45)/F45*100 -> 24.279852 | I45: =G45/G$46*100 -> 4.5373887 | J45: ='SEKTÖR (U S D)'!J45*1.8421 -> 15309733 | K45: ='SEKTÖR (U S D)'!K45*2.1295 -> 13267235 | L45: =(K45-J45)/J45*100 -> -13.341169 | M45: =K45/K$46*100 -> 3.9518027
A46: T O P L A M (TİM+TUİK*) | B46: ='SEKTÖR (U S D)'!B46*2.0171 -> 25184714 | C46: ='SEKTÖR (U S D)'!C46*2.2036 -> 29296035 | D46: =(C46-B46)/B46*100 -> 16.324672 | E46: =C46/C$46*100 -> 100 | F46: ='SEKTÖR (U S D)'!F46*1.8738 -> 2.0948725e+08 | G46: ='SEKTÖR (U S D)'!G46*2.1562 -> 2.5491703e+08 | H46: =(G46-F46)/F46*100 -> 21.686181 | I46: =G46/G$46*100 -> 100 | J46: ='SEKTÖR (U S D)'!J46*1.8421 -> 2.7879701e+08 | K46: ='SEKTÖR (U S D)'!K46*2.1295 -> 3.3572615e+08 | L46: =(K46-J46)/J46*100 -> 20.419568 | M46: =K46/K$46*100 -> 100
A48: * Son 12 aylık dönem için ilk 11 ay TUİK, son ay TİM rakamı kullanılmıştır.
A50: Not: İlgili dönem ortalama MB Dolar Alış Kuru baz alınarak hesaplanmıştır.

Sheet USDvsTL
A5: İHRACAT ARTIŞI KARŞILAŞTIRMA TABLOSU (USD - TL)
B6: EYLÜL (2014/2013) | D6: OCAK-EYLÜL (2014/2013) | F6: SON 12 AYLIK (2014/2013)
A7: SEKTÖRLER | B7: USD Bazında Artış (%) | C7: TL Bazında Artış (%) | D7: USD Bazında Artış (%) | E7: TL Bazında Artış (%) | F7: USD Bazında Artış (%) | G7: TL Bazında Artış (%)
A8: I. TARIM | B8: ='SEKTÖR (U S D)'!D8 -> 4.1586469 | C8: ='SEKTÖR (TL)'!D8 -> 13.7891 | D8: ='SEKTÖR (U S D)'!H8 -> 6.1183045 | E8: ='SEKTÖR (TL)'!H8 -> 22.111372 | F8: ='SEKTÖR (U S D)'!L8 -> 8.2351864 | G8: ='SEKTÖR (TL)'!L8 -> 25.121779
A9: A. BİTKİSEL ÜRÜNLER | B9: ='SEKTÖR (U S D)'!D9 -> 5.3590669 | C9: ='SEKTÖR (TL)'!D9 -> 15.100511 | D9: ='SEKTÖR (U S D)'!H9 -> 4.6566647 | E9: ='SEKTÖR (TL)'!H9 -> 20.429448 | F9: ='SEKTÖR (U S D)'!L9 -> 6.788455 | G9: ='SEKTÖR (TL)'!L9 -> 23.449332
A10: Hububat, Bakliyat, Yağlı Tohumlar ve Mam. | B10: ='SEKTÖR (U S D)'!D10 -> 0.35514641 | C10: ='SEKTÖR (TL)'!D10 -> 9.6339302 | D10: ='SEKTÖR (U S D)'!H10 -> 4.1898085 | E10: ='SEKTÖR (TL)'!H10 -> 19.892232 | F10: ='SEKTÖR (U S D)'!L10 -> 7.7878733 | G10: ='SEKTÖR (TL)'!L10 -> 24.604677
A11: Yaş Meyve ve Sebze | B11: ='SEKTÖR (U S D)'!D11 -> 28.313837 | C11: ='SEKTÖR (TL)'!D11 -> 40.177667 | D11: ='SEKTÖR (U S D)'!H11 -> 5.0563212 | E11: ='SEKTÖR (TL)'!H11 -> 20.889337 | F11: ='SEKTÖR (U S D)'!L11 -> 10.066351 | G11: ='SEKTÖR (TL)'!L11 -> 27.238638
A12: Meyve Sebze Mamulleri | B12: ='SEKTÖR (U S D)'!D12 -> 6.1068685 | C12: ='SEKTÖR (TL)'!D12 -> 15.917453 | D12: ='SEKTÖR (U S D)'!H12 -> 10.697307 | E12: ='SEKTÖR (TL)'!H12 -> 27.380474 | F12: ='SEKTÖR (U S D)'!L12 -> 10.406341 | G12: ='SEKTÖR (TL)'!L12 -> 27.631672
A13: Kuru Meyve ve Mamulleri | B13: ='SEKTÖR (U S D)'!D13 -> -15.268379 | C13: ='SEKTÖR (TL)'!D13 -> -7.4341376 | D13: ='SEKTÖR (U S D)'!H13 -> -1.9040858 | E13: ='SEKTÖR (TL)'!H13 -> 12.879929 | F13: ='SEKTÖR (U S D)'!L13 -> -1.493649 | G13: ='SEKTÖR (TL)'!L13 -> 13.875074
A14: Fındık ve Mamulleri | B14: ='SEKTÖR (U S D)'!D14 -> 5.9243631 | C14: ='SEKTÖR (TL)'!D14 -> 15.718074 | D14: ='SEKTÖR (U S D)'!H14 -> 18.184084 | E14: ='SEKTÖR (TL)'!H14 -> 35.995582 | F14: ='SEKTÖR (U S D)'!L14 -> 12.101856 | G14: ='SEKTÖR (TL)'!L14 -> 29.591717
A15: Zeytin ve Zeytinyağı | B15: ='SEKTÖR (U S D)'!D15 -> -50.10779 | C15: ='SEKTÖR (TL)'!D15 -> -45.494783 | D15: ='SEKTÖR (U S D)'!H15 -> -52.412975 | E15: ='SEKTÖR (TL)'!H15 -> -45.241144 | F15: ='SEKTÖR (U S D)'!L15 -> -41.506459 | G15: ='SEKTÖR (TL)'!L15 -> -32.380438
A16: Tütün ve Mamulleri | B16: ='SEKTÖR (U S D)'!D16 -> 91.832414 | C16: ='SEKTÖR (TL)'!D16 -> 109.56914 | D16: ='SEKTÖR (U S D)'!H16 -> 13.291888 | E16: ='SEKTÖR (TL)'!H16 -> 30.366085 | F16: ='SEKTÖR (U S D)'!L16 -> 11.935101 | G16: ='SEKTÖR (TL)'!L16 -> 29.398946
A17: Süs Bitkileri | B17: ='SEKTÖR (U S D)'!D17 -> 9.6771883 | C17: ='SEKTÖR (TL)'!D17 -> 19.817883 | D17: ='SEKTÖR (U S D)'!H17 -> 13.371949 | E17: ='SEKTÖR (TL)'!H17 -> 30.458211 | F17: ='SEKTÖR (U S D)'!L17 -> 10.055267 | G17: ='SEKTÖR (TL)'!L17 -> 27.225824
A18: B. HAYVANSAL ÜRÜNLER | B18: ='SEKTÖR (U S D)'!D18 -> 12.593331 | C18: ='SEKTÖR (TL)'!D18 -> 23.003651 | D18: ='SEKTÖR (U S D)'!H18 -> 17.8829 | E18: ='SEKTÖR (TL)'!H18 -> 35.649006 | F18: ='SEKTÖR (U S D)'!L18 -> 17.171747 | G18: ='SEKTÖR (TL)'!L18 -> 35.452601
A19: Su Ürünleri ve Hayvansal Mamuller | B19: ='SEKTÖR (U S D)'!D19 -> 12.593331 | C19: ='SEKTÖR (TL)'!D19 -> 23.003651 | D19: ='SEKTÖR (U S D)'!H19 -> 17.8829 | E19: ='SEKTÖR (TL)'!H19 -> 35.649006 | F19: ='SEKTÖR (U S D)'!L19 -> 17.171747 | G19: ='SEKTÖR (TL)'!L19 -> 35.452601
... A44: T O P L A M | B44: ='SEKTÖR (U S D)'!D44 -> 6.4796224 | C44: ='SEKTÖR (TL)'!D44 -> 16.324672 | D44: ='SEKTÖR (U S D)'!H44 -> 5.6440085 | E44: ='SEKTÖR (TL)'!H44 -> 21.565595 | F44: ='SEKTÖR (U S D)'!L44 -> 5.8644884 | G44: ='SEKTÖR (TL)'!L44 -> 22.381211
A45: İhracatçı Birlikleri Kaydından Muaf İhracat | D45: ='SEKTÖR (U S D)'!H45 -> 8.0027761 | E45: ='SEKTÖR (TL)'!H45 -> 24.279852 | F45: ='SEKTÖR (U S D)'!L45 -> -25.036754 | G45: ='SEKTÖR (TL)'!L45 -> -13.341169
A46: T O P L A M | B46: ='SEKTÖR (U S D)'!D46 -> 6.4796224 | C46: ='SEKTÖR (TL)'!D46 -> 16.324672 | D46: ='SEKTÖR (U S D)'!H46 -> 5.7488013 | E46: ='SEKTÖR (TL)'!H46 -> 21.686181 | F46: ='SEKTÖR (U S D)'!L46 -> 4.1675916 | G46: ='SEKTÖR (TL)'!L46 -> 20.419568
A49: Not: İlgili dönem ortalama MB Dolar Alış Kuru baz alınarak hesaplanmıştır.

Sheet GEN.SEK.
C2: EYLÜL 2014 İHRACAT RAKAMLARI
A6: İHRACATÇI BİRLİKLERİ GENEL SEKRETERLİKLERİ BAZINDA İHRACAT RAKAMLARI (1000 $)
B7: EYLÜL | F7: OCAK- EYLÜL | J7: SON 12 AYLIK
A8: İHRACATÇI BİRLİKLERİ GENEL SEKRETERLİKLERİ | B8: 2013 | C8: 2014 | D8: Değişim ('14/'13) | E8: Pay(14) (%) | F8: 2013 | G8: 2014 | H8: Değişim ('14/'13) | I8: Pay(14) (%) | J8: 2012-2013 | K8: 2013-2014 | L8: Değişim ('14/'13) | M8: Pay(14) (%)
A9: AKİB | B9: 937499.32 | C9: 1159908.6 | D9: =(C9-B9)/B9*100 -> 23.723673 | E9: =C9/C$22*100 -> 8.7246433 | F9: 9018871.2 | G9: 9371288.9 | H9: =(G9-F9)/F9*100 -> 3.9075592 | I9: =G9/G$22*100 -> 8.3034048 | J9: 12659993 | K9: 12854865 | L9: =(K9-J9)/J9*100 -> 1.5392784 | M9: =K9/K$22*100 -> 8.4892786
A10: BAİB | B10: 114577.24 | C10: 127871.58 | D10: =(C10-B10)/B10*100 -> 11.602954 | E10: =C10/C$22*100 -> 0.96182917 | F10: 1087172.3 | G10: 1196891.5 | H10: =(G10-F10)/F10*100 -> 10.092167 | I10: =G10/G$22*100 -> 1.0605024 | J10: 1449757.4 | K10: 1644145.5 | L10: =(K10-J10)/J10*100 -> 13.40832 | M10: =K10/K$22*100 -> 1.0857842
A11: DAİB | B11: 259495.58 | C11: 244136.72 | D11: =(C11-B11)/B11*100 -> -5.9187378 | E11: =C11/C$22*100 -> 1.8363566 | F11: 2294154.2 | G11: 2301499.4 | H11: =(G11-F11)/F11*100 -> 0.32016766 | I11: =G11/G$22*100 -> 2.0392372 | J11: 3102644.6 | K11: 3104603.5 | L11: =(K11-J11)/J11*100 -> 0.06313659 | M11: =K11/K$22*100 -> 2.0502622
A12: DENİB | B12: 195718.39 | C12: 198121.36 | D12: =(C12-B12)/B12*100 -> 1.2277707 | E12: =C12/C$22*100 -> 1.4902365 | F12: 1550260.5 | G12: 1741524.4 | H12: =(G12-F12)/F12*100 -> 12.337533 | I12: =G12/G$22*100 -> 1.5430729 | J12: 2049216 | K12: 2337641 | L12: =(K12-J12)/J12*100 -> 14.074895 | M12: =K12/K$22*100 -> 1.5437646
A13: DKİB | B13: 80574.805 | C13: 79617.356 | D13: =(C13-B13)/B13*100 -> -1.1882734 | E13: =C13/C$22*100 -> 0.59886877 | F13: 841437.58 | G13: 770366.34 | H13: =(G13-F13)/F13*100 -> -8.4464065 | I13: =G13/G$22*100 -> 0.68258098 | J13: 1160206.3 | K13: 1066755.9 | L13: =(K13-J13)/J13*100 -> -8.0546397 | M13: =K13/K$22*100 -> 0.70447942
A14: EİB | B14: 1060483.7 | C14: 1001886.3 | D14: =(C14-B14)/B14*100 -> -5.525538 | E14: =C14/C$22*100 -> 7.5360251 | F14: 8937273.7 | G14: 9265133.4 | H14: =(G14-F14)/F14*100 -> 3.6684541 | I14: =G14/G$22*100 -> 8.2093461 | J14: 11853458 | K14: 12494844 | L14: =(K14-J14)/J14*100 -> 5.4109689 | M14: =K14/K$22*100 -> 8.2515228
A15: GAİB | B15: 819872.13 | C15: 832725.93 | D15: =(C15-B15)/B15*100 -> 1.5677806 | E15: =C15/C$22*100 -> 6.2636286 | F15: 6803733.5 | G15: 6590869.8 | H15: =(G15-F15)/F15*100 -> -3.1286311 | I15: =G15/G$22*100 -> 5.8398221 | J15: 9110909.1 | K15: 9143992.3 | L15: =(K15-J15)/J15*100 -> 0.36311641 | M15: =K15/K$22*100 -> 6.0386395
A16: İİB | B16: 565465.97 | C16: 547040.5 | D16: =(C16-B16)/B16*100 -> -3.2584569 | E16: =C16/C$22*100 -> 4.1147494 | F16: 4832248.2 | G16: 5103446.3 | H16: =(G16-F16)/F16*100 -> 5.6122539 | I16: =G16/G$22*100 -> 4.5218946 | J16: 6478142.5 | K16: 6844535.5 | L16: =(K16-J16)/J16*100 -> 5.6558342 | M16: =K16/K$22*100 -> 4.5200916
A17: İMMİB | B17: 3416865.1 | C17: 3884886.4 | D17: =(C17-B17)/B17*100 -> 13.697388 | E17: =C17/C$22*100 -> 29.221482 | F17: 29905322 | G17: 32125917 | H17: =(G17-F17)/F17*100 -> 7.4254153 | I17: =G17/G$22*100 -> 28.46508 | J17: 40283467 | K17: 42809865 | L17: =(K17-J17)/J17*100 -> 6.2715496 | M17: =K17/K$22*100 -> 28.271386
A18: İTKİB | B18: 1737353.9 | C18: 1856277.7 | D18: =(C18-B18)/B18*100 -> 6.8451127 | E18: =C18/C$22*100 -> 13.962618 | F18: 14958008 | G18: 15813194 | H18: =(G18-F18)/F18*100 -> 5.7172488 | I18: =G18/G$22*100 -> 14.011237 | J18: 19714736 | K18: 20970738 | L18: =(K18-J18)/J18*100 -> 6.3708781 | M18: =K18/K$22*100 -> 13.848954
A19: KİB | B19: 174719.91 | C19: 157139.83 | D19: =(C19-B19)/B19*100 -> -10.061867 | E19: =C19/C$22*100 -> 1.1819802 | F19: 964870 | G19: 1090236.3 | H19: =(G19-F19)/F19*100 -> 12.993081 | I19: =G19/G$22*100 -> 0.96600092 | J19: 1355324 | K19: 1515845.2 | L19: =(K19-J19)/J19*100 -> 11.843753 | M19: =K19/K$22*100 -> 1.0010554
A20: OAİB | B20: 1050111.4 | C20: 1126158.8 | D20: =(C20-B20)/B20*100 -> 7.2418404 | E20: =C20/C$22*100 -> 8.4707831 | F20: 8698755.4 | G20: 9633667.1 | H20: =(G20-F20)/F20*100 -> 10.747649 | I20: =G20/G$22*100 -> 8.5358843 | J20: 11531190 | K20: 12844728 | L20: =(K20-J20)/J20*100 -> 11.391176 | M20: =K20/K$22*100 -> 8.4825838
... A22: TOPLAM | B22: 12485605 | C22: 13294625 | D22: =(C22-B22)/B22*100 -> 6.4796224 | E22: =C22/C$22*100 -> 100 | F22: 1.0683123e+08 | G22: 1.128608e+08 | H22: =(G22-F22)/F22*100 -> 5.6440085 | I22: =G22/G$22*100 -> 100 | J22: 1.4303636e+08 | K22: 1.5142471e+08 | L22: =(K22-J22)/J22*100 -> 5.8644884 | M22: =K22/K$22*100 -> 100

Sheet Toplam İhracat Grafik
C21: * Aylar bazında toplam ihracat grafiğinde 2013 yılı için TUİK rakamları kullanılmıştır.
C22: * 2014 yılı Eylül ayı için TİM rakamı kullanılmıştır.

Sheet ÜLKE
B3: 2014 YILI İHRACATIMIZDA İLK 20 ÜLKE (1000 $)
B4: ÜLKE | C4: OCAK | D4: ŞUBAT | E4: MART | F4: NİSAN | G4: MAYIS | H4: HAZİRAN | I4: TEMMUZ | J4: AĞUSTOS | K4: EYLÜL | L4: EKİM | M4: KASIM | N4: ARALIK | O4: KÜMÜLATİF | P4: % PAY
A5: 1. | B5: ALMANYA | C5: 1245954.4 | D5: 1151119.9 | E5: 1308209.9 | F5: 1246599.5 | G5: 1346416.9 | H5: 1234015.5 | I5: 1329313.6 | J5: 1102910.9 | K5: 1295539.9 | O5: =SUM(C5:N5) -> 11260081 | P5: =O5/O$26*100 -> 9.9769636
A6: 2. | B6: IRAK | C6: 1016044.7 | D6: 1002504.2 | E6: 989313.26 | F6: 1003477.7 | G6: 1025138.1 | H6: 725586.35 | I6: 568031.81 | J6: 630611.24 | K6: 875741.12 | O6: =SUM(C6:N6) -> 7836448.5 | P6: =O6/O$26*100 -> 6.9434637
A7: 3. | B7: BİRLEŞİK KRALLIK | C7: 764067.45 | D7: 707893.61 | E7: 788581.37 | F7: 837555.42 | G7: 808372.83 | H7: 829415.17 | I7: 888880.02 | J7: 732604.56 | K7: 887096.55 | O7: =SUM(C7:N7) -> 7244467 | P7: =O7/O$26*100 -> 6.4189401
A8: 4. | B8: İTALYA | C8: 591563.05 | D8: 604818.95 | E8: 616184.48 | F8: 627489.49 | G8: 619891.69 | H8: 625699.35 | I8: 585949.61 | J8: 410889.2 | K8: 583274.29 | O8: =SUM(C8:N8) -> 5265760.1 | P8: =O8/O$26*100 -> 4.6657123
A9: 5. | B9: FRANSA | C9: 504641.6 | D9: 526687.6 | E9: 584161.7 | F9: 561357.82 | G9: 516433.51 | H9: 671182 | I9: 569300.57 | J9: 442624.1 | K9: 542246.63 | O9: =SUM(C9:N9) -> 4918635.5 | P9: =O9/O$26*100 -> 4.3581435
A10: 6. | B10: RUSYA FEDERASYONU | C10: 463858.04 | D10: 487719.12 | E10: 486133.39 | F10: 539785.36 | G10: 533172.08 | H10: 502748.79 | I10: 534930.33 | J10: 498101.47 | K10: 533735.7 | O10: =SUM(C10:N10) -> 4580184.3 | P10: =O10/O$26*100 -> 4.0582597
A11: 7. | B11: BİRLEŞİK DEVLETLER | C11: 466180.74 | D11: 447910.92 | E11: 439847.5 | F11: 500624.23 | G11: 534605.21 | H11: 516476.79 | I11: 503862.76 | J11: 514192.36 | K11: 586784.84 | O11: =SUM(C11:N11) -> 4510485.4 | P11: =O11/O$26*100 -> 3.9965032
A12: 8. | B12: İSPANYA | C12: 331779.04 | D12: 347081.27 | E12: 422158.29 | F12: 453119.31 | G12: 429025.84 | H12: 377542.07 | I12: 432887.99 | J12: 346164.94 | K12: 428268.92 | O12: =SUM(C12:N12) -> 3568027.7 | P12: =O12/O$26*100 -> 3.1614411
A13: 9. | B13: İRAN (İSLAM CUM.) | C13: 244100 | D13: 230757.13 | E13: 189088.49 | F13: 226805.65 | G13: 298034.46 | H13: 294129.57 | I13: 305666.9 | J13: 306245.21 | K13: 481042.08 | O13: =SUM(C13:N13) -> 2575869.5 | P13: =O13/O$26*100 -> 2.2823421
A14: 10. | B14: HOLLANDA | C14: 311924.54 | D14: 279311.62 | E14: 317042.67 | F14: 269610.52 | G14: 291086.09 | H14: 292070.23 | I14: 284147.38 | J14: 243793.7 | K14: 272715.34 | O14: =SUM(C14:N14) -> 2561702.1 | P14: =O14/O$26*100 -> 2.2697891
A15: 11. | B15: MISIR | C15: 241844.69 | D15: 267759.09 | E15: 256075.65 | F15: 242696.64 | G15: 238780.68 | H15: 231881.67 | I15: 225423.71 | J15: 282688.11 | K15: 356599.34 | O15: =SUM(C15:N15) -> 2343749.6 | P15: =O15/O$26*100 -> 2.0766729
A16: 12. | B16: BİRLEŞİK ARAP EMİRLİKLERİ | C16: 233189.83 | D16: 281037.7 | E16: 283324.38 | F16: 323001.08 | G16: 280459.9 | H16: 259723.64 | I16: 183788.99 | J16: 259501.21 | K16: 227154.31 | O16: =SUM(C16:N16) -> 2331181 | P16: =O16/O$26*100 -> 2.0655366
... A24: 20. | B24: TÜRKMENİSTAN | C24: 160546.11 | D24: 168125.39 | E24: 166513.08 | F24: 186182.47 | G24: 191583.07 | H24: 189311.93 | I24: 212082.36 | J24: 175609 | K24: 240041.52 | O24: =SUM(C24:N24) -> 1689994.9 | P24: =O24/O$26*100 -> 1.4974154
B25: İlk 20 Ülke Toplam | O25: =SUM(O5:O24) -> 75831235 | P25: =SUM(P5:P24) -> 67.190058
B26: Genel Toplam | O26: 1.128608e+08 | P26: =O26/O$26*100 -> 100
B27: *Sıralamada külümatif toplam baz alınmaktadır.

Sheet KARŞL.
A22: * Aylar bazında toplam ihracat grafiğinde TUİK rakamları kullanılmıştır.
A23: * Eylül 2014 için TİM rakamı kullanılmıştır.

Sheet SEKT1
B1: I. TARIM
B2: A. BİTKİSEL ÜRÜNLER

Sheet SEKT2 

Sheet SEKT3 
C2: B. HAYVANSAL ÜRÜNLER
C21: C. AĞAÇ MAMULLERİ VE ORMAN ÜRÜNLERİ

Sheet SEKT4 
B1: II. SANAYİ
B2: A. TARIMA DAYALI İŞLENMİŞ ÜRÜNLER

Sheet SEKT5 
B1: B. KİMYEVİ MADDELER
B18: C. SANAYİ MAMULLERİ

Sheet 2002-2014 AYLIK İHR
B1: (x1000 $) | C1: OCAK | D1: ŞUBAT | E1: MART | F1: NİSAN | G1: MAYIS | H1: HAZİRAN | I1: TEMMUZ | J1: AGUSTOS | K1: EYLÜL | L1: EKİM | M1: KASIM | N1: ARALIK | O1: TOPLAM
A2: 2014 | B2: I. TARIM | C2: 1927089.3 | D2: 1795620.4 | E2: 1888024.2 | F2: 1849873.1 | G2: 1809363.3 | H2: 1670031 | I2: 1532819.1 | J2: 1609152 | K2: 1907432.9 | O2: =SUM(C2:N2) -> 15989405
A3: 2013 | B3: I. TARIM | C3: 1699667.9 | D3: 1613307.3 | E3: 1721276.6 | F3: 1687304.7 | G3: 1769600.6 | H3: 1649716.7 | I3: 1686788 | J3: 1408589.8 | K3: 1831276.5 | L3: 1821904.7 | M3: 2251387.5 | N3: 2200343.3 | O3: =SUM(C3:N3) -> 21341164
A4: 2014 | B4: Hububat,Bakliyat,Yağlı Tohumlar ve Mamulleri | C4: 614049.99 | D4: 556283.6 | E4: 598289.29 | F4: 610736.33 | G4: 543229.41 | H4: 495849.45 | I4: 445497.72 | J4: 484849.87 | K4: 554511.15 | O4: =SUM(C4:N4) -> 4903296.8
A5: 2013 | B5: Hububat,Bakliyat,Yağlı Tohumlar ve Mamulleri | C5: 500356.07 | D5: 471153.28 | E5: 532314.25 | F5: 519233.7 | G5: 586423.34 | H5: 541613.94 | I5: 550415.77 | J5: 452060.29 | K5: 552548.79 | L5: 533746.58 | M5: 672663.62 | N5: 672112.71 | O5: =SUM(C5:N5) -> 6584642.3
A6: 2014 | B6: Yaş Meyve Sebze | C6: 219372.69 | D6: 200366 | E6: 192356.9 | F6: 177392.7 | G6: 188140.84 | H6: 167841.91 | I6: 94589.399 | J6: 104390.12 | K6: 162411.42 | O6: =SUM(C6:N6) -> 1506862
A7: 2013 | B7: Yaş Meyve Sebze | C7: 223131.93 | D7: 181369.86 | E7: 172416.71 | F7: 160129.84 | G7: 181562.63 | H7: 178000.42 | I7: 115847.71 | J7: 95304.603 | K7: 126573.58 | L7: 217579.89 | M7: 335719.49 | N7: 363333.53 | O7: =SUM(C7:N7) -> 2350970.2
A8: 2014 | B8: Meyve Sebze Mamulleri | C8: 111498.51 | D8: 112348.27 | E8: 119768.88 | F8: 121026.58 | G8: 109328.06 | H8: 108400.29 | I8: 106919.79 | J8: 119466.48 | K8: 134640.8 | O8: =SUM(C8:N8) -> 1043397.7
A9: 2013 | B9: Meyve Sebze Mamulleri | C9: 94905.948 | D9: 94116.08 | E9: 95501.997 | F9: 100788.32 | G9: 112864.61 | H9: 100335.58 | I9: 109284.27 | J9: 107879.76 | K9: 126891.69 | L9: 122192.48 | M9: 145394.36 | N9: 119836.91 | O9: =SUM(C9:N9) -> 1329992
A10: 2014 | B10: Kuru Meyve ve Mamulleri | C10: 116017.9 | D10: 111650.12 | E10: 105105.68 | F10: 110911.07 | G10: 108931.17 | H10: 102209.75 | I10: 88391.264 | J10: 94209.74 | K10: 132958.67 | O10: =SUM(C10:N10) -> 970385.37
A11: 2013 | B11: Kuru Meyve ve Mamulleri | C11: 106856.6 | D11: 108712.62 | E11: 113139.69 | F11: 104112.96 | G11: 112100.79 | H11: 96319.293 | I11: 96080.379 | J11: 94981.24 | K11: 156917.41 | L11: 152872.73 | M11: 165845.67 | N11: 130314.31 | O11: =SUM(C11:N11) -> 1438253.7
A12: 2014 | B12: Fındık ve Mamulleri | C12: 153795.6 | D12: 182753.25 | E12: 154408.44 | F12: 149029.53 | G12: 142027.43 | H12: 138409.88 | I12: 158484.93 | J12: 143806.86 | K12: 218104.65 | O12: =SUM(C12:N12) -> 1440820.6
A13: 2013 | B13: Fındık ve Mamulleri | C13: 178057.44 | D13: 133840.92 | E13: 135662.81 | F13: 133846.01 | G13: 105052.6 | H13: 106164.21 | I13: 133857.6 | J13: 86744.865 | K13: 205906.03 | L13: 181405.02 | M13: 203194.67 | N13: 166244.94 | O13: =SUM(C13:N13) -> 1769977.1
A14: 2014 | B14: Zeytin ve Zeytinyağı | C14: 24433.782 | D14: 23262.338 | E14: 22845.745 | F14: 19989.73 | G14: 19755.836 | H14: 19273.121 | I14: 14721.921 | J14: 13367.266 | K14: 15411.823 | O14: =SUM(C14:N14) -> 173061.56
A15: 2013 | B15: Zeytin ve Zeytinyağı | C15: 44842.038 | D15: 52403.663 | E15: 62002.927 | F15: 38388.413 | G15: 38035.659 | H15: 36239.687 | I15: 32745.501 | J15: 28125.712 | K15: 30890.239 | L15: 23072.369 | M15: 25941.348 | N15: 26880.234 | O15: =SUM(C15:N15) -> 439567.79
A16: 2014 | B16: Tütün | C16: 109576.34 | D16: 69920.359 | E16: 121384.39 | F16: 48540.42 | G16: 86381.493 | H16: 91684.593 | I16: 68872.548 | J16: 111508.17 | K16: 101496.21 | O16: =SUM(C16:N16) -> 809364.52
A17: 2013 | B17: Tütün | C17: 66631.067 | D17: 101106.6 | E17: 93632.384 | F17: 104726.34 | G17: 80015.084 | H17: 75654.788 | I17: 90331.686 | J17: 49399.683 | K17: 52908.789 | L17: 50115.952 | M17: 51936.654 | N17: 89628.298 | O17: =SUM(C17:N17) -> 906087.32
A18: 2014 | B18: Süs Bitkileri ve Mamulleri | C18: 7358.726 | D18: 9166.988 | E18: 10167.101 | F18: 13321.003 | G18: 8226.526 | H18: 3831.858 | I18: 3651.376 | J18: 5275.718 | K18: 5878.603 | O18: =SUM(C18:N18) -> 66877.899
A19: 2013 | B19: Süs Bitkileri ve Mamulleri | C19: 5248.235 | D19: 8969.804 | E19: 9241.514 | F19: 10435.252 | G19: 7212.426 | H19: 3794.241 | I19: 3556.596 | J19: 5171.829 | K19: 5359.914 | L19: 4636.965 | M19: 6415.26 | N19: 6939.599 | O19: =SUM(C19:N19) -> 76981.635
A20: 2014 | B20: Su Ürünleri ve Hayvansal Mamuller | C20: 209570.8 | D20: 185768.2 | E20: 193830.55 | F20: 204208.51 | G20: 186649.56 | H20: 158144.36 | I20: 177223.97 | J20: 185991.58 | K20: 192717.94 | O20: =SUM(C20:N20) -> 1694105.5
A21: 2013 | B21: Su Ürünleri ve Hayvansal Mamuller | C21: 171195.69 | D21: 148748.25 | E21: 145990.75 | F21: 154505.49 | G21: 164850.53 | H21: 157449.19 | I21: 164865.73 | J21: 158340.3 | K21: 171162.84 | L21: 172493.79 | M21: 193388.83 | N21: 185162.51 | O21: =SUM(C21:N21) -> 1988153.9
A22: 2014 | B22: Ağaç Mamulleri ve Orman Ürünleri | C22: 361414.94 | D22: 344101.29 | E22: 369867.17 | F22: 394717.21 | G22: 416693.01 | H22: 384385.82 | I22: 374466.19 | J22: 346286.18 | K22: 389301.6 | O22: =SUM(C22:N22) -> 3381233.4
A23: 2013 | B23: Ağaç Mamulleri ve Orman Ürünleri | C23: 308442.91 | D23: 312886.18 | E23: 361373.56 | F23: 361138.33 | G23: 381482.92 | H23: 354145.4 | I23: 389802.72 | J23: 330581.5 | K23: 402117.25 | L23: 363788.89 | M23: 450887.58 | N23: 439890.3 | O23: =SUM(C23:N23) -> 4456537.5
A24: 2014 | B24: II. SANAYİ | C24: 9649674.4 | D24: 9936965.5 | E24: 10723273 | F24: 10852871 | G24: 11106201 | H24: 10441711 | I24: 10554746 | J24: 9058647.4 | K24: 10999639 | O24: =SUM(C24:N24) -> 93323728
A25: 2013 | B25: II. SANAYİ | C25: 8872224.4 | D25: 9579901.9 | E25: 10385140 | F25: 9708564.7 | G25: 10398927 | H25: 9681915.9 | I25: 10421302 | J25: 8712913.5 | K25: 10212671 | L25: 9606638.2 | M25: 11061002 | N25: 10380873 | O25: =SUM(C25:N25) -> 1.1902207e+08
A26: 2014 | B26: Tekstil ve Hammaddeleri | C26: 767917.12 | D26: 715679.56 | E26: 770352.71 | F26: 790661.66 | G26: 768727.87 | H26: 706713.77 | I26: 703032.69 | J26: 682429.52 | K26: 821505.68 | O26: =SUM(C26:N26) -> 6727020.6
A27: 2013 | B27: Tekstil ve Hammaddeleri | C27: 682155.87 | D27: 649400.51 | E27: 733924.67 | F27: 700825.51 | G27: 748576.3 | H27: 644671.53 | I27: 675793.6 | J27: 615565.69 | K27: 753895.3 | L27: 707925.07 | M27: 813458.55 | N27: 661700.87 | O27: =SUM(C27:N27) -> 8387893.5
A28: 2014 | B28: Deri ve Deri Mamulleri | C28: 123813.62 | D28: 144842.41 | E28: 143835.07 | F28: 154749.49 | G28: 166280.68 | H28: 149590.39 | I28: 168910.18 | J28: 160492.49 | K28: 183512.69 | O28: =SUM(C28:N28) -> 1396027
A29: 2013 | B29: Deri ve Deri Mamulleri | C29: 115029.79 | D29: 129821.13 | E29: 153555.93 | F29: 145412.84 | G29: 155575.82 | H29: 146133.85 | I29: 183365.39 | J29: 178226.11 | K29: 175967.32 | L29: 161907.5 | M29: 176429.78 | N29: 220812.82 | O29: =SUM(C29:N29) -> 1942238.3
A30: 2014 | B30: Halı | C30: 178356.88 | D30: 177087.67 | E30: 190935.25 | F30: 203815.35 | G30: 194613.77 | H30: 200167.52 | I30: 181361.11 | J30: 159480.25 | K30: 222389.83 | O30: =SUM(C30:N30) -> 1708207.6
A31: 2013 | B31: Halı | C31: 165972.05 | D31: 161550.15 | E31: 169936.28 | F31: 190079.06 | G31: 192843.38 | H31: 183761.04 | I31: 178911.51 | J31: 144298.26 | K31: 182023.92 | L31: 193554 | M31: 229928.22 | N31: 202542.54 | O31: =SUM(C31:N31) -> 2195400.4
A32: 2014 | B32: Kimyevi Maddeler ve Mamulleri | C32: 1394237.8 | D32: 1444414.5 | E32: 1460150.4 | F32: 1481278.1 | G32: 1586640 | H32: 1519140 | I32: 1571055.7 | J32: 1429764.6 | K32: 1517881.7 | O32: =SUM(C32:N32) -> 13404563
A33: 2013 | B33: Kimyevi Maddeler ve Mamulleri | C33: 1315959.7 | D33: 1429457.7 | E33: 1452101.2 | F33: 1420968.3 | G33: 1568761.1 | H33: 1328721.9 | I33: 1529671.4 | J33: 1424471.6 | K33: 1401853.7 | L33: 1394136.5 | M33: 1566545 | N33: 1598637.7 | O33: =SUM(C33:N33) -> 17431286
A34: 2014 | B34: Hazırgiyim ve Konfeksiyon | C34: 1586744.1 | D34: 1485386 | E34: 1599338.5 | F34: 1543936.5 | G34: 1613278.6 | H34: 1598010.9 | I34: 1723599.3 | J34: 1557183.6 | K34: 1669815 | O34: =SUM(C34:N34) -> 14377293
A35: 2013 | B35: Hazırgiyim ve Konfeksiyon | C35: 1392631.8 | D35: 1389471.3 | E35: 1509882.7 | F35: 1316507.4 | G35: 1364077.9 | H35: 1442883.9 | I35: 1619796.1 | J35: 1397333.6 | K35: 1514552.3 | L35: 1334120.2 | M35: 1657209.3 | N35: 1421635.6 | O35: =SUM(C35:N35) -> 17360102
A36: 2014 | B36: Otomotiv Endüstrisi | C36: 1585971.4 | D36: 1831564.5 | E36: 2126494.7 | F36: 2089962.9 | G36: 2050361.8 | H36: 2029814.2 | I36: 1989089.5 | J36: 1267581.3 | K36: 1959784.3 | O36: =SUM(C36:N36) -> 16930625
A37: 2013 | B37: Otomotiv Endüstrisi | C37: 1485459.3 | D37: 1783951.9 | E37: 1863298.7 | F37: 1766371 | G37: 1843125.5 | H37: 1800469.3 | I37: 1952618.5 | J37: 1263007 | K37: 1955643.4 | L37: 1749427.5 | M37: 2075518.8 | N37: 1764236.8 | O37: =SUM(C37:N37) -> 21303128
A38: 2014 | B38: Gemi ve Yat | C38: 54471.324 | D38: 89236.716 | E38: 97135.555 | F38: 76354.088 | G38: 131933.47 | H38: 113595.98 | I38: 122443.45 | J38: 109595.08 | K38: 82221.245 | O38: =SUM(C38:N38) -> 876986.9
A39: 2013 | B39: Gemi ve Yat | C39: 48952.629 | D39: 162402.31 | E39: 92520.589 | F39: 29250.645 | G39: 90162.293 | H39: 137339.94 | I39: 132087.48 | J39: 139231.01 | K39: 129271.49 | L39: 47933.185 | M39: 58766.617 | N39: 95673.192 | O39: =SUM(C39:N39) -> 1163591.4
A40: 2014 | B40: Elektrik-Elektronik ve Hizmet | C40: 902952.55 | D40: 921039.24 | E40: 1056899.2 | F40: 1079430.6 | G40: 1064774.7 | H40: 971019.51 | I40: 983027.96 | J40: 856686.45 | K40: 1093297.6 | O40: =SUM(C40:N40) -> 8929127.9
A41: 2013 | B41: Elektrik-Elektronik ve Hizmet | C41: 830030.38 | D41: 838421.57 | E41: 909479.83 | F41: 916370.57 | G41: 1026528.4 | H41: 920031.07 | I41: 1038657.5 | J41: 884232.3 | K41: 1034166.6 | L41: 1054293.1 | M41: 1128425.1 | N41: 1113474.4 | O41: =SUM(C41:N41) -> 11694111
A42: 2014 | B42: Makine ve Aksamları | C42: 477337.08 | D42: 471698.6 | E42: 503717.45 | F42: 525178.2 | G42: 544313.39 | H42: 500297.02 | I42: 514833.98 | J42: 457642.57 | K42: 532652.24 | O42: =SUM(C42:N42) -> 4527670.5
A43: 2013 | B43: Makine ve Aksamları | C43: 430048.8 | D43: 435630.61 | E43: 512147.93 | F43: 501844.58 | G43: 518926.2 | H43: 465383.56 | I43: 509307.17 | J43: 386713.9 | K43: 480637.95 | L43: 450455.8 | M43: 533237.61 | N43: 570357.51 | O43: =SUM(C43:N43) -> 5794691.6
A44: 2014 | B44: Demir ve Demir Dışı Metaller | C44: 591744.86 | D44: 567771.33 | E44: 599505.18 | F44: 648819 | G44: 650891.31 | H44: 593459.22 | I44: 585900.65 | J44: 541700.29 | K44: 610786.6 | O44: =SUM(C44:N44) -> 5390578.4
A45: 2013 | B45: Demir ve Demir Dışı Metaller | C45: 519503.44 | D45: 545252.58 | E45: 593049.04 | F45: 558709.4 | G45: 617223.02 | H45: 553130.97 | I45: 584798.78 | J45: 506318.26 | K45: 593124.02 | L45: 534887.56 | M45: 651406.5 | N45: 572435.9 | O45: =SUM(C45:N45) -> 6829839.5
A46: 2014 | B46: Çelik | C46: 1105473.2 | D46: 1189107.8 | E46: 1173026 | F46: 1201944.6 | G46: 1277427.9 | H46: 1066178.8 | I46: 1048893.9 | J46: 957992.91 | K46: 1089514.4 | O46: =SUM(C46:N46) -> 10109560
A47: 2013 | B47: Çelik | C47: 1144613.6 | D47: 1224777.6 | E47: 1449849.4 | F47: 1224394.2 | G47: 1262960.4 | H47: 1111722.8 | I47: 1092640.3 | J47: 927133.16 | K47: 1018041.5 | L47: 1044197 | M47: 1131232.4 | N47: 1189403.2 | O47: =SUM(C47:N47) -> 13820966
A48: 2014 | B48: Çimento, Cam, Seramik ve Toprak Ürünleri | C48: 243550.06 | D48: 245731.55 | E48: 272001.65 | F48: 308165.53 | G48: 289488.82 | H48: 278040.25 | I48: 265078.83 | J48: 245560.75 | K48: 260027.65 | O48: =SUM(C48:N48) -> 2407645.1
A49: 2013 | B49: Çimento, Cam, Seramik ve Toprak Ürünleri | C49: 232432.57 | D49: 236027.05 | E49: 286631.22 | F49: 290672.98 | G49: 298359.03 | H49: 263835.69 | I49: 277557.42 | J49: 250243.5 | K49: 264058.52 | L49: 241268.36 | M49: 263633.48 | N49: 247833.91 | O49: =SUM(C49:N49) -> 3152553.7
A50: 2014 | B50: Mücevher | C50: 194226.77 | D50: 181390.09 | E50: 212130.26 | F50: 209045.33 | G50: 202977.91 | H50: 147778.75 | I50: 123114.34 | J50: 196682.57 | K50: 405283.64 | O50: =SUM(C50:N50) -> 1872629.6
A51: 2013 | B51: Mücevher | C51: 154170.08 | D51: 192587.21 | E51: 191244.98 | F51: 165840.56 | G51: 192942.12 | H51: 168991.03 | I51: 173444.18 | J51: 187327.41 | K51: 204095.26 | L51: 193811.1 | M51: 239853.08 | N51: 189189.45 | O51: =SUM(C51:N51) -> 2253496.5
A52: 2014 | B52: Savunma ve Havacılık Sanayii | C52: 106122.36 | D52: 107443.26 | E52: 107438.49 | F52: 133668.09 | G52: 142827.8 | H52: 180261.74 | I52: 174496.08 | J52: 98979.869 | K52: 160586.74 | O52: =SUM(C52:N52) -> 1211824.4
A53: 2013 | B53: Savunma ve Havacılık Sanayii | C53: 72558.026 | D53: 90844.455 | E53: 106723.24 | F53: 113262.24 | G53: 126939.53 | H53: 171486.94 | I53: 99144.585 | J53: 90827.187 | K53: 114505.42 | L53: 129968.93 | M53: 109259.07 | N53: 163409.96 | O53: =SUM(C53:N53) -> 1388929.6
A54: 2014 | B54: İklimlendirme Sanayii | C54: 329794.64 | D54: 355785.22 | E54: 399128.91 | F54: 393830.61 | G54: 411025.42 | H54: 376167.88 | I54: 391790.43 | J54: 329071.09 | K54: 381387.15 | O54: =SUM(C54:N54) -> 3367981.4
A55: 2013 | B55: İklimlendirme Sanayii | C55: 275661.77 | D55: 301532.52 | E55: 348675.75 | F55: 357872.46 | G55: 379190.42 | H55: 335219.64 | I55: 364870.49 | J55: 311599.06 | K55: 382215.22 | L55: 362202.21 | M55: 419098.26 | N55: 361065.05 | O55: =SUM(C55:N55) -> 4199202.8
A56: 2014 | B56: Diğer Sanayi Ürünleri | C56: 6960.562 | D56: 8786.998 | E56: 11183.547 | F56: 12030.722 | G56: 10637.996 | H56: 11474.965 | I56: 8117.799 | J56: 7804.089 | K56: 8992.093 | O56: =SUM(C56:N56) -> 85988.771
A57: 2013 | B57: Diğer Sanayi Ürünleri | C57: 7044.619 | D57: 8773.352 | E57: 12118.889 | F57: 10183.082 | G57: 12735.623 | H57: 8132.806 | I57: 8637.207 | J57: 6385.506 | K57: 8618.605 | L57: 6550.128 | M57: 7000.602 | N57: 8463.942 | O57: =SUM(C57:N57) -> 104644.36
A58: 2014 | B58: III. MADENCİLİK | C58: 401008.86 | D58: 327055.85 | E58: 363215.16 | F58: 412248.36 | G58: 465296.61 | H58: 404100.02 | I58: 404886.33 | J58: 382299.65 | K58: 387553.42 | O58: =SUM(C58:N58) -> 3547664.3
A59: 2013 | B59: III. MADENCİLİK | C59: 394546.73 | D59: 398684.74 | E59: 369661.43 | F59: 401154.98 | G59: 507825.64 | H59: 431230.65 | I59: 445448.03 | J59: 400043.06 | K59: 441657.78 | L59: 384744.1 | M59: 439724.03 | N59: 420131.96 | O59: =SUM(C59:N59) -> 5034853.1
A60: 2014 | B60: Madencilik Ürünleri | C60: 401008.86 | D60: 327055.85 | E60: 363215.16 | F60: 412248.36 | G60: 465296.61 | H60: 404100.02 | I60: 404886.33 | J60: 382299.65 | K60: 387553.42 | O60: =SUM(C60:N60) -> 3547664.3
A61: 2013 | B61: Madencilik Ürünleri | C61: 394546.73 | D61: 398684.74 | E61: 369661.43 | F61: 401154.98 | G61: 507825.64 | H61: 431230.65 | I61: 445448.03 | J61: 400043.06 | K61: 441657.78 | L61: 384744.1 | M61: 439724.03 | N61: 420131.96 | O61: =SUM(C61:N61) -> 5034853.1
A63: 2002 | B63: T O P L A M | C63: 2607319.7 | D63: 2383773 | E63: 2918943.5 | F63: 2742857.9 | G63: 3000325.2 | H63: 2770693.9 | I63: 3103851.9 | J63: 2975889 | K63: 3218206.9 | L63: 3501128 | M63: 3593604.9 | N63: 3242495.2 | O63: =SUM(C63:N63) -> 36059089
A64: 2003 | B64: T O P L A M | C64: 3533705.6 | D64: 2923460.4 | E64: 3908256 | F64: 3662183.4 | G64: 3860471.3 | H64: 3796113.5 | I64: 4236114.3 | J64: 3828726.2 | K64: 4114677.5 | L64: 4824388.3 | M64: 3969697.5 | N64: 4595042.4 | O64: =SUM(C64:N64) -> 47252836
A65: 2004 | B65: T O P L A M | C65: 4619660.8 | D65: 3664503 | E65: 5218042.2 | F65: 5072463 | G65: 5170061.6 | H65: 5284383.3 | I65: 5632138.8 | J65: 4707491.3 | K65: 5656283.5 | L65: 5867342.1 | M65: 5733909 | N65: 6540874.2 | O65: =SUM(C65:N65) -> 63167153
A66: 2005 | B66: T O P L A M | C66: 4997279.7 | D66: 5651741.3 | E66: 6591859.2 | F66: 6128131.9 | G66: 5977226.2 | H66: 6038534.4 | I66: 5763466.4 | J66: 5552867.2 | K66: 6814268.9 | L66: 6772178.6 | M66: 5942575.8 | N66: 7246278.6 | O66: =SUM(C66:N66) -> 73476408
A67: 2006 | B67: T O P L A M | C67: 5133048.9 | D67: 6058251.3 | E67: 7411101.7 | F67: 6456090.3 | G67: 7041543.2 | H67: 7815434.6 | I67: 7067411.5 | J67: 6811202.4 | K67: 7606551.1 | L67: 6888812.5 | M67: 8641474.6 | N67: 8603753.5 | O67: =SUM(C67:N67) -> 85534676
A68: 2007 | B68: T O P L A M | C68: 6564559.8 | D68: 7656951.6 | E68: 8957851.6 | F68: 8313312 | G68: 9147620 | H68: 8980247.4 | I68: 8937741.6 | J68: 8736689.1 | K68: 9038743.9 | L68: 9895216.6 | M68: 11318798 | N68: 9724018 | O68: =SUM(C68:N68) -> 1.0727175e+08
A69: 2008 | B69: T O P L A M | C69: 10632207 | D69: 11077899 | E69: 11428587 | F69: 11363964 | G69: 12477969 | H69: 11770634 | I69: 12595427 | J69: 11046830 | K69: 12793148 | L69: 9722708.8 | M69: 9395872.9 | N69: 7721949 | O69: =SUM(C69:N69) -> 1.320272e+08
A70: 2009 | B70: T O P L A M | C70: 7884493.5 | D70: 8435115.8 | E70: 8155485.1 | F70: 7561696.3 | G70: 7346407.5 | H70: 8329692.8 | I70: 9055733.7 | J70: 7839908.8 | K70: 8480708.4 | L70: 10095768 | M70: 8903010.8 | N70: 10054592 | O70: =SUM(C70:N70) -> 1.0214261e+08
A71: 2010 | B71: T O P L A M | C71: 7828748.1 | D71: 8263237.8 | E71: 9886488.2 | F71: 9396006.7 | G71: 9799958.1 | H71: 9542907.6 | I71: 9564682.5 | J71: 8523452 | K71: 8909230.5 | L71: 10963586 | M71: 9382369.7 | N71: 11822552 | O71: =SUM(C71:N71) -> 1.1388322e+08
A72: 2011 | B72: T O P L A M | C72: 9551084.6 | D72: 10059126 | E72: 11811085 | F72: 11873269 | G72: 10943364 | H72: 11349954 | I72: 11860004 | J72: 11245125 | K72: 10750626 | L72: 11907219 | M72: 11078525 | N72: 12477486 | O72: =SUM(C72:N72) -> 1.3490687e+08
A73: 2012 | B73: T O P L A M | C73: 10348187 | D73: 11748000 | E73: 13208573 | F73: 12630227 | G73: 13131531 | H73: 13231199 | I73: 12830675 | J73: 12831395 | K73: 12952652 | L73: 13190770 | M73: 13753052 | N73: 12605476 | O73: =SUM(C73:N73) -> 1.5246174e+08
A74: 2013 | B74: T O P L A M | C74: 11481559 | D74: 12386204 | E74: 13122243 | F74: 12468957 | G74: 13276668 | H74: 12393547 | I74: 13060662 | J74: 11116764 | K74: 13059044 | L74: 12054431 | M74: 14196127 | N74: 13180277 | O74: =SUM(C74:N74) -> 151796483
A75: 2014 | B75: T O P L A M | C75: 12402129 | D75: 13055344 | E75: 14683102 | F75: 13376565 | G75: 13706360 | H75: 12899613 | I75: 13367642 | J75: 11439751 | K75: 13294625 | O75: =SUM(C75:N75) -> 1.1822513e+08
B76: (*) Toplam satırında, son ay verileri için İhracatçı Birlikleri kayıtları, önceki dönemler için TÜİK kayıtları esas alınmıştır.
