Workbook

Sheet SEKTOR_USD
B1: 1 - 29 ŞUBAT İHRACAT RAKAMLARI
A5: SEKTÖREL BAZDA İHRACAT RAKAMLARI -1.000 $
B6: 1 - 29 ŞUBAT | F6: 1 OCAK - 29 ŞUBAT | J6: SON 12 AYLIK
A7: SEKTÖRLER | B7: 2015 | C7: 2016 | D7: Değişim ('16/'15) | E7: Pay(16) (%) | F7: 2015 | G7: 2016 | H7: Değişim ('16/'15) | I7: Pay(16) (%) | J7: 2014 - 2015 | K7: 2015 - 2016 | L7: Değişim ('16/'15) | M7: Pay(16) (%)
A8: I. TARIM | B8: =B9+B18+B20 -> 1656363.7 | C8: =C9+C18+C20 -> 1719438 | D8: =(C8-B8)/B8*100 -> 3.8079958 | E8: =C8/C$44*100 -> 15.935128 | F8: =F9+F18+F20 -> 3474106.8 | G8: =G9+G18+G20 -> 3175439.9 | H8: =(G8-F8)/F8*100 -> -8.5969403 | I8: =G8/G$46*100 -> 15.575808 | J8: =J9+J18+J20 -> 22227495 | K8: =K9+K18+K20 -> 20481598 | L8: =(K8-J8)/J8*100 -> -7.8546736 | M8: =K8/K$46*100 -> 14.657468
A9: A. BİTKİSEL ÜRÜNLER | B9: =B10+B11+B12+B13+B14+B15+B16+B17 -> 1187097.6 | C9: =C10+C11+C12+C13+C14+C15+C16+C17 -> 1229709.1 | D9: =(C9-B9)/B9*100 -> 3.5895497 | E9: =C9/C$44*100 -> 11.396499 | F9: =F10+F11+F12+F13+F14+F15+F16+F17 -> 2515773.2 | G9: =G10+G11+G12+G13+G14+G15+G16+G17 -> 2278991 | H9: =(G9-F9)/F9*100 -> -9.4119062 | I9: =G9/G$46*100 -> 11.178648 | J9: =J10+J11+J12+J13+J14+J15+J16+J17 -> 15576931 | K9: =K10+K11+K12+K13+K14+K15+K16+K17 -> 14654643 | L9: =(K9-J9)/J9*100 -> -5.9208568 | M9: =K9/K$46*100 -> 10.487462
A10: Hububat, Bakliyat, Yağlı Tohumlar ve Mamulleri | B10: 491783.75 | C10: 563401.69 | D10: =(C10-B10)/B10*100 -> 14.562891 | E10: =C10/C$44*100 -> 5.2214028 | F10: 1057904.6 | G10: 1024291.3 | H10: =(G10-F10)/F10*100 -> -3.1773419 | I10: =G10/G$46*100 -> 5.0242377 | J10: 6602339.8 | K10: 6095002.8 | L10: =(K10-J10)/J10*100 -> -7.6841996 | M10: =K10/K$46*100 -> 4.3618331
A11: Yaş Meyve ve Sebze | B11: 155554.3 | C11: 160348.1 | D11: =(C11-B11)/B11*100 -> 3.081754 | E11: =C11/C$44*100 -> 1.4860481 | F11: 374035.89 | G11: 294074.41 | H11: =(G11-F11)/F11*100 -> -21.378024 | I11: =G11/G$46*100 -> 1.4424605 | J11: 2348495.7 | K11: 2005984.1 | L11: =(K11-J11)/J11*100 -> -14.584299 | M11: =K11/K$46*100 -> 1.4355642
A12: Meyve Sebze Mamulleri | B12: 98704.324 | C12: 106744.35 | D12: =(C12-B12)/B12*100 -> 8.1455703 | E12: =C12/C$44*100 -> 0.98926803 | F12: 191731.08 | G12: 189186.01 | H12: =(G12-F12)/F12*100 -> -1.3274156 | I12: =G12/G$46*100 -> 0.92797378 | J12: 1383491.2 | K12: 1316198.9 | L12: =(K12-J12)/J12*100 -> -4.8639489 | M12: =K12/K$46*100 -> 0.94192576
A13: Kuru Meyve ve Mamulleri | B13: 94296.117 | C13: 106110.97 | D13: =(C13-B13)/B13*100 -> 12.529526 | E13: =C13/C$44*100 -> 0.98339809 | F13: 192109.02 | G13: 196709.05 | H13: =(G13-F13)/F13*100 -> 2.3944894 | I13: =G13/G$46*100 -> 0.96487491 | J13: 1422923.4 | K13: 1349572.9 | L13: =(K13-J13)/J13*100 -> -5.1549149 | M13: =K13/K$46*100 -> 0.96580951
A14: Fındık ve Mamulleri | B14: 231388.25 | C14: 170866.72 | D14: =(C14-B14)/B14*100 -> -26.155835 | E14: =C14/C$44*100 -> 1.5835309 | F14: 476919.35 | G14: 350719.98 | H14: =(G14-F14)/F14*100 -> -26.461364 | I14: =G14/G$46*100 -> 1.7203119 | J14: 2453607.1 | K14: 2701477.7 | L14: =(K14-J14)/J14*100 -> 10.102291 | M14: =K14/K$46*100 -> 1.9332878
A15: Zeytin ve Zeytinyağı | B15: 19131.206 | C15: 15968.155 | D15: =(C15-B15)/B15*100 -> -16.533466 | E15: =C15/C$44*100 -> 0.14798708 | F15: 35923.013 | G15: 26173.884 | H15: =(G15-F15)/F15*100 -> -27.13895 | I15: =G15/G$46*100 -> 0.12838517 | J15: 216253.34 | K15: 179741.08 | L15: =(K15-J15)/J15*100 -> -16.884024 | M15: =K15/K$46*100 -> 0.12863006
A16: Tütün | B16: 87419.751 | C16: 95303.607 | D16: =(C16-B16)/B16*100 -> 9.0183921 | E16: =C16/C$44*100 -> 0.88323933 | F16: 172007.13 | G16: 180490.66 | H16: =(G16-F16)/F16*100 -> 4.9320805 | I16: =G16/G$46*100 -> 0.88532234 | J16: 1068168.7 | K16: 926822.16 | L16: =(K16-J16)/J16*100 -> -13.232609 | M16: =K16/K$46*100 -> 0.66327182
A17: Süs Bitkileri ve Mam. | B17: 8819.9491 | C17: 10965.511 | D17: =(C17-B17)/B17*100 -> 24.32624 | E17: =C17/C$44*100 -> 0.10162439 | F17: 15143.198 | G17: 17345.708 | H17: =(G17-F17)/F17*100 -> 14.544551 | I17: =G17/G$46*100 -> 0.0850822 | J17: 81651.646 | K17: 79843.615 | L17: =(K17-J17)/J17*100 -> -2.2143226 | M17: =K17/K$46*100 -> 0.057139354
A18: B. HAYVANSAL ÜRÜNLER | B18: =B19 -> 167106.45 | C18: =C19 -> 143584.65 | D18: =(C18-B18)/B18*100 -> -14.075939 | E18: =C18/C$44*100 -> 1.3306905 | F18: =F19 -> 339650.28 | G18: =G19 -> 278055.43 | H18: =(G18-F18)/F18*100 -> -18.134786 | I18: =G18/G$46*100 -> 1.363886 | J18: =J19 -> 2219153.7 | K18: =K19 -> 1751770.3 | L18: =(K18-J18)/J18*100 -> -21.061335 | M18: =K18/K$46*100 -> 1.2536384
A19: Su Ürünleri ve Hayvansal Mamuller | B19: 167106.45 | C19: 143584.65 | D19: =(C19-B19)/B19*100 -> -14.075939 | E19: =C19/C$44*100 -> 1.3306905 | F19: 339650.28 | G19: 278055.43 | H19: =(G19-F19)/F19*100 -> -18.134786 | I19: =G19/G$46*100 -> 1.363886 | J19: 2219153.7 | K19: 1751770.3 | L19: =(K19-J19)/J19*100 -> -21.061335 | M19: =K19/K$46*100 -> 1.2536384
A20: C. AĞAÇ VE ORMAN ÜRÜNLERİ | B20: =B21 -> 302159.6 | C20: =C21 -> 346144.2 | D20: =(C20-B20)/B20*100 -> 14.556745 | E20: =C20/C$44*100 -> 3.2079392 | F20: =F21 -> 618683.24 | G20: =G21 -> 618393.43 | H20: =(G20-F20)/F20*100 -> -0.046843916 | I20: =G20/G$46*100 -> 3.0332733 | J20: =J21 -> 4431410 | K20: =K21 -> 4075183.9 | L20: =(K20-J20)/J20*100 -> -8.0386605 | M20: =K20/K$46*100 -> 2.9163682
A21: Mobilya,Kağıt ve Orman Ürünleri | B21: 302159.6 | C21: 346144.2 | D21: =(C21-B21)/B21*100 -> 14.556745 | E21: =C21/C$44*100 -> 3.2079392 | F21: 618683.24 | G21: 618393.43 | H21: =(G21-F21)/F21*100 -> -0.046843916 | I21: =G21/G$46*100 -> 3.0332733 | J21: 4431410 | K21: 4075183.9 | L21: =(K21-J21)/J21*100 -> -8.0386605 | M21: =K21/K$46*100 -> 2.9163682
A22: II. SANAYİ | B22: =B23+B27+B29 -> 8523751.4 | C22: =C23+C27+C29 -> 8826802.6 | D22: =(C22-B22)/B22*100 -> 3.5553724 | E22: =C22/C$44*100 -> 81.80361 | F22: =F23+F27+F29 -> 17186704 | G22: =G23+G27+G29 -> 16309530 | H22: =(G22-F22)/F22*100 -> -5.1037918 | I22: =G22/G$46*100 -> 79.999659 | J22: =J23+J27+J29 -> 1.2159235e+08 | K22: =K23+K27+K29 -> 1.0802365e+08 | L22: =(K22-J22)/J22*100 -> -11.159177 | M22: =K22/K$46*100 -> 77.306138
A23: A. TARIMA DAYALI İŞLENMİŞ ÜRÜNLER | B23: =B24+B25+B26 -> 871858.11 | C23: =C24+C25+C26 -> 899110.86 | D23: =(C23-B23)/B23*100 -> 3.1258242 | E23: =C23/C$44*100 -> 8.332634 | F23: =F24+F25+F26 -> 1776482.6 | G23: =G24+G25+G26 -> 1714161.3 | H23: =(G23-F23)/F23*100 -> -3.5081309 | I23: =G23/G$46*100 -> 8.4081096 | J23: =J24+J25+J26 -> 12760999 | K23: =K24+K25+K26 -> 11372582 | L23: =(K23-J23)/J23*100 -> -10.880155 | M23: =K23/K$46*100 -> 8.1386848
A24: Tekstil ve Hammaddeleri | B24: 609129.11 | C24: 635138.28 | D24: =(C24-B24)/B24*100 -> 4.2698954 | E24: =C24/C$44*100 -> 5.8862317 | F24: 1257331.3 | G24: 1232192 | H24: =(G24-F24)/F24*100 -> -1.9994196 | I24: =G24/G$46*100 -> 6.0440083 | J24: 8658537.5 | K24: 7925853.1 | L24: =(K24-J24)/J24*100 -> -8.461988 | M24: =K24/K$46*100 -> 5.6720644
A25: Deri ve Deri Mamulleri | B25: 115694.83 | C25: 108553.68 | D25: =(C25-B25)/B25*100 -> -6.1724045 | E25: =C25/C$44*100 -> 1.0060362 | F25: 228524.82 | G25: 196997.74 | H25: =(G25-F25)/F25*100 -> -13.79591 | I25: =G25/G$46*100 -> 0.966291 | J25: 1812850.4 | K25: 1436747.4 | L25: =(K25-J25)/J25*100 -> -20.746501 | M25: =K25/K$46*100 -> 1.0281951
A26: Halı | B26: 147034.17 | C26: 155418.9 | D26: =(C26-B26)/B26*100 -> 5.7025718 | E26: =C26/C$44*100 -> 1.4403661 | F26: 290626.51 | G26: 284971.59 | H26: =(G26-F26)/F26*100 -> -1.9457714 | I26: =G26/G$46*100 -> 1.3978103 | J26: 2289610.9 | K26: 2009982 | L26: =(K26-J26)/J26*100 -> -12.212947 | M26: =K26/K$46*100 -> 1.4384252
A27: B. KİMYEVİ MADDELER VE MAM. | B27: =B28 -> 1176291.8 | C27: =C28 -> 1144659.6 | D27: =(C27-B27)/B27*100 -> -2.6891459 | E27: =C27/C$44*100 -> 10.608291 | F27: =F28 -> 2374066.8 | G27: =G28 -> 2145271.3 | H27: =(G27-F27)/F27*100 -> -9.6372796 | I27: =G27/G$46*100 -> 10.522742 | J27: =J28 -> 17276518 | K27: =K28 -> 15173991 | L27: =(K27-J27)/J27*100 -> -12.169853 | M27: =K27/K$46*100 -> 10.859128
A28: Kimyevi Maddeler ve Mamulleri | B28: 1176291.8 | C28: 1144659.6 | D28: =(C28-B28)/B28*100 -> -2.6891459 | E28: =C28/C$44*100 -> 10.608291 | F28: 2374066.8 | G28: 2145271.3 | H28: =(G28-F28)/F28*100 -> -9.6372796 | I28: =G28/G$46*100 -> 10.522742 | J28: 17276518 | K28: 15173991 | L28: =(K28-J28)/J28*100 -> -12.169853 | M28: =K28/K$46*100 -> 10.859128
A29: C. SANAYİ MAMULLERİ | B29: =B30+B31+B32+B33+B34+B35+B36+B37+B38+B39+B40+B41 -> 6475601.5 | C29: =C30+C31+C32+C33+C34+C35+C36+C37+C38+C39+C40+C41 -> 6783032.1 | D29: =(C29-B29)/B29*100 -> 4.7475212 | E29: =C29/C$44*100 -> 62.862686 | F29: =F30+F31+F32+F33+F34+F35+F36+F37+F38+F39+F40+F41 -> 13036155 | G29: =G30+G31+G32+G33+G34+G35+G36+G37+G38+G39+G40+G41 -> 12450098 | H29: =(G29-F29)/F29*100 -> -4.4956263 | I29: =G29/G$46*100 -> 61.068808 | J29: =J30+J31+J32+J33+J34+J35+J36+J37+J38+J39+J40+J41 -> 91554838 | K29: =K30+K31+K32+K33+K34+K35+K36+K37+K38+K39+K40+K41 -> 81477075 | L29: =(K29-J29)/J29*100 -> -11.007351 | M29: =K29/K$46*100 -> 58.308325
A30: Hazırgiyim ve Konfeksiyon | B30: 1264257.8 | C30: 1424936.5 | D30: =(C30-B30)/B30*100 -> 12.709334 | E30: =C30/C$44*100 -> 13.205796 | F30: 2647607.9 | G30: 2746421.1 | H30: =(G30-F30)/F30*100 -> 3.7321689 | I30: =G30/G$46*100 -> 13.471433 | J30: 18304395 | K30: 17058918 | L30: =(K30-J30)/J30*100 -> -6.804253 | M30: =K30/K$46*100 -> 12.208059
A31: Otomotiv Endüstrisi | B31: 1703300.5 | C31: 1985993.9 | D31: =(C31-B31)/B31*100 -> 16.596802 | E31: =C31/C$44*100 -> 18.405472 | F31: 3431486.1 | G31: 3498832.5 | H31: =(G31-F31)/F31*100 -> 1.9626005 | I31: =G31/G$46*100 -> 17.162076 | J31: 22282198 | K31: 21219952 | L31: =(K31-J31)/J31*100 -> -4.7672378 | M31: =K31/K$46*100 -> 15.185865
A32: Gemi ve Yat | B32: 77870.874 | C32: 60080.299 | D32: =(C32-B32)/B32*100 -> -22.84625 | E32: =C32/C$44*100 -> 0.55680246 | F32: 121846.5 | G32: 101497.81 | H32: =(G32-F32)/F32*100 -> -16.700268 | I32: =G32/G$46*100 -> 0.49785556 | J32: 1250004.4 | K32: 1009511.2 | L32: =(K32-J32)/J32*100 -> -19.239386 | M32: =K32/K$46*100 -> 0.7224475
A33: Elektrik Elektronik ve Hizmet | B33: 830881.91 | C33: 807630.4 | D33: =(C33-B33)/B33*100 -> -2.7984122 | E33: =C33/C$44*100 -> 7.4848262 | F33: 1562916.1 | G33: 1437546.2 | H33: =(G33-F33)/F33*100 -> -8.0215383 | I33: =G33/G$46*100 -> 7.0512886 | J33: 11843756 | K33: 10349191 | L33: =(K33-J33)/J33*100 -> -12.619017 | M33: =K33/K$46*100 -> 7.4063038
A34: Makine ve Aksamları | B34: 432354.75 | C34: 440730.71 | D34: =(C34-B34)/B34*100 -> 1.9372873 | E34: =C34/C$44*100 -> 4.0845326 | F34: 898100.89 | G34: 817078.99 | H34: =(G34-F34)/F34*100 -> -9.0214705 | I34: =G34/G$46*100 -> 4.0078432 | J34: 5989582.3 | K34: 5444070 | L34: =(K34-J34)/J34*100 -> -9.1076862 | M34: =K34/K$46*100 -> 3.895999
A35: Demir ve Demir Dışı Metaller | B35: 472961.29 | C35: 503862.95 | D35: =(C35-B35)/B35*100 -> 6.5336561 | E35: =C35/C$44*100 -> 4.6696194 | F35: 960368.72 | G35: 928046.21 | H35: =(G35-F35)/F35*100 -> -3.3656353 | I35: =G35/G$46*100 -> 4.552147 | J35: 6903404.8 | K35: 6198941.4 | L35: =(K35-J35)/J35*100 -> -10.204579 | M35: =K35/K$46*100 -> 4.4362158
A36: Çelik | B36: 937971.25 | C36: 747315.55 | D36: =(C36-B36)/B36*100 -> -20.326391 | E36: =C36/C$44*100 -> 6.92585 | F36: 1789930.9 | G36: 1374583.9 | H36: =(G36-F36)/F36*100 -> -23.204639 | I36: =G36/G$46*100 -> 6.7424532 | J36: 12698535 | K36: 9466510.2 | L36: =(K36-J36)/J36*100 -> -25.45195 | M36: =K36/K$46*100 -> 6.7746216
A37: Çimento Cam Seramik ve Toprak Ürünleri | B37: 214534.21 | C37: 224774.58 | D37: =(C37-B37)/B37*100 -> 4.7733047 | E37: =C37/C$44*100 -> 2.0831294 | F37: 415599.49 | G37: 409912.89 | H37: =(G37-F37)/F37*100 -> -1.3682891 | I37: =G37/G$46*100 -> 2.0106582 | J37: 3082339.3 | K37: 2750416 | L37: =(K37-J37)/J37*100 -> -10.768552 | M37: =K37/K$46*100 -> 1.9683101
A38: Mücevher | B38: 143501.89 | C38: 161762.25 | D38: =(C38-B38)/B38*100 -> 12.724822 | E38: =C38/C$44*100 -> 1.499154 | F38: 430437.52 | G38: 332426.06 | H38: =(G38-F38)/F38*100 -> -22.770194 | I38: =G38/G$46*100 -> 1.6305786 | J38: 3157353.6 | K38: 2550583.7 | L38: =(K38-J38)/J38*100 -> -19.217673 | M38: =K38/K$46*100 -> 1.825302
A39: Savunma ve Havacılık Sanayii | B39: 97020.905 | C39: 137230.57 | D39: =(C39-B39)/B39*100 -> 41.44433 | E39: =C39/C$44*100 -> 1.2718032 | F39: 196426.38 | G39: 255878.84 | H39: =(G39-F39)/F39*100 -> 30.267044 | I39: =G39/G$46*100 -> 1.2551079 | J39: 1630627.5 | K39: 1713621.6 | L39: =(K39-J39)/J39*100 -> 5.0896978 | M39: =K39/K$46*100 -> 1.2263376
A40: İklimlendirme Sanayii | B40: 295461.83 | C40: 280987.42 | D40: =(C40-B40)/B40*100 -> -4.898908 | E40: =C40/C$44*100 -> 2.6040897 | F40: 570175.63 | G40: 535333.87 | H40: =(G40-F40)/F40*100 -> -6.1107071 | I40: =G40/G$46*100 -> 2.625859 | J40: 4307212 | K40: 3612783.4 | L40: =(K40-J40)/J40*100 -> -16.122462 | M40: =K40/K$46*100 -> 2.5854554
A41: Diğer Sanayi Ürünleri | B41: 5484.3786 | C41: 7726.957 | D41: =(C41-B41)/B41*100 -> 40.89029 | E41: =C41/C$44*100 -> 0.07161064 | F41: 11258.41 | G41: 12539.448 | H41: =(G41-F41)/F41*100 -> 11.378498 | I41: =G41/G$46*100 -> 0.06150708 | J41: 105430.02 | K41: 102577.2 | L41: =(K41-J41)/J41*100 -> -2.7058839 | M41: =K41/K$46*100 -> 0.07340844
A42: III. MADENCİLİK | B42: =B43 -> 281267.11 | C42: =C43 -> 243995.41 | D42: =(C42-B42)/B42*100 -> -13.251353 | E42: =C42/C$44*100 -> 2.2612611 | F42: =F43 -> 557178.21 | G42: =G43 -> 479504.96 | H42: =(G42-F42)/F42*100 -> -13.940468 | I42: =G42/G$46*100 -> 2.3520134 | J42: =J43 -> 4470783.4 | K42: =K43 -> 3820838.8 | L42: =(K42-J42)/J42*100 -> -14.537599 | M42: =K42/K$46*100 -> 2.7343484
A43: Madencilik Ürünleri | B43: 281267.11 | C43: 243995.41 | D43: =(C43-B43)/B43*100 -> -13.251353 | E43: =C43/C$44*100 -> 2.2612611 | F43: 557178.21 | G43: 479504.96 | H43: =(G43-F43)/F43*100 -> -13.940468 | I43: =G43/G$46*100 -> 2.3520134 | J43: 4470783.4 | K43: 3820838.8 | L43: =(K43-J43)/J43*100 -> -14.537599 | M43: =K43/K$46*100 -> 2.7343484
...

Sheet SECILMIS_ISTATISTIK
A2: Tablo 1
A3: En yüksek ihracat artışı elde edilen ilk 10 ülke*
A5: ÜLKE (Bin$) | B5: 2015 1 - 29 ŞUBAT | C5: 2016 1 - 29 ŞUBAT | D5: Değ. %
A6: LETONYA | B6: 8071.1047 | C6: 26722.104 | D6: 231.08359
A7: ETİYOPYA | B7: 21493.821 | C7: 61322.559 | D7: 185.3032
A8: SOMALI | B8: 4149.2994 | C8: 10287.793 | D8: 147.94049
A9: SINGAPUR | B9: 22947.567 | C9: 51692.94 | D9: 125.26545
A10: GANA | B10: 14156.808 | C10: 26692.936 | D10: 88.551947
A11: SUDAN | B11: 27585.284 | C11: 51563.751 | D11: 86.924852
A12: ENDONEZYA | B12: 18373.285 | C12: 33929.889 | D12: 84.669698
A13: BEYAZ RUSYA | B13: 15050.934 | C13: 27401.373 | D13: 82.057624
A14: ÜRDÜN | B14: 39767.575 | C14: 70532.037 | D14: 77.360667
A15: ARJANTİN | B15: 7651.993 | C15: 13425.328 | D15: 75.448771
A16: * 10 milyon dolar ve üstünde ihracat yapılan ülkeler arasında
A18: Tablo 2
A19: En fazla ihracat yapılan ilk 10 ülke
A21: ÜLKE (Bin$) | B21: 2015 1 - 29 ŞUBAT | C21: 2016 1 - 29 ŞUBAT | D21: Değ. %
A22: ALMANYA | B22: 1013106.3 | C22: 1145732.3 | D22: =(C22-B22)/B22*100 -> 13.09103
A23: BİRLEŞİK KRALLIK | B23: 739569.61 | C23: 706367.17 | D23: =(C23-B23)/B23*100 -> -4.489427
A24: IRAK | B24: 732446.91 | C24: 689612.64 | D24: =(C24-B24)/B24*100 -> -5.8481063
A25: İTALYA | B25: 509667.22 | C25: 589605.22 | D25: =(C25-B25)/B25*100 -> 15.684351
A26: FRANSA | B26: 457748.56 | C26: 512810.18 | D26: =(C26-B26)/B26*100 -> 12.028793
A27: BİRLEŞİK DEVLETLER | B27: 520396.1 | C27: 476479.04 | D27: =(C27-B27)/B27*100 -> -8.4391597
A28: İSPANYA | B28: 396184.66 | C28: 423066.35 | D28: =(C28-B28)/B28*100 -> 6.7851415
A29: İRAN (İSLAM CUM.) | B29: 274901.55 | C29: 298728.34 | D29: =(C29-B29)/B29*100 -> 8.6673886
A30: MISIR | B30: 202060.92 | C30: 296414.31 | D30: =(C30-B30)/B30*100 -> 46.695518
A31: HOLLANDA | B31: 235497.56 | C31: 295144.48 | D31: =(C31-B31)/B31*100 -> 25.32804
A33: Tablo 3
A34: İhracatını en yüksek oranlı artıran ilk 10 sektör
A36: SEKTÖR (Bin$) | B36: 2015 1 - 29 ŞUBAT | C36: 2016 1 - 29 ŞUBAT | D36: Değ. %
A37: Savunma ve Havacılık Sanayii | B37: 97020.905 | C37: 137230.57 | D37: 41.44433
A38: Diğer Sanayi Ürünleri | B38: 5484.3786 | C38: 7726.957 | D38: 40.89029
A39: Süs Bitkileri ve Mam. | B39: 8819.9491 | C39: 10965.511 | D39: 24.32624
A40: Otomotiv Endüstrisi | B40: 1703300.5 | C40: 1985993.9 | D40: 16.596802
A41: Hububat, Bakliyat, Yağlı Tohumlar ve Mamulleri | B41: 491783.75 | C41: 563401.69 | D41: 14.562891
A42: Mobilya,Kağıt ve Orman Ürünleri | B42: 302159.6 | C42: 346144.2 | D42: 14.556745
A43: Mücevher | B43: 143501.89 | C43: 161762.25 | D43: 12.724822
A44: Hazırgiyim ve Konfeksiyon | B44: 1264257.8 | C44: 1424936.5 | D44: 12.709334
A45: Kuru Meyve ve Mamulleri | B45: 94296.117 | C45: 106110.97 | D45: 12.529526
A46: Tütün | B46: 87419.751 | C46: 95303.607 | D46: 9.0183921
...

Sheet SEKTOR_TL
B1: ŞUBAT 2016 İHRACAT RAKAMLARI - TL
A5: SEKTÖREL BAZDA İHRACAT KAYIT RAKAMLARI - 1.000 TL
B6: =SEKTOR_USD!B6 -> 1 - 29 ŞUBAT | F6: =SEKTOR_USD!F6 -> 1 OCAK - 29 ŞUBAT | J6: SON 12 AYLIK
A7: SEKTÖRLER | B7: =SEKTOR_USD!B7 -> 2015 | C7: =SEKTOR_USD!C7 -> 2016 | D7: Değişim ('16/'15) | E7: Pay(16) (%) | F7: =SEKTOR_USD!F7 -> 2015 | G7: =SEKTOR_USD!G7 -> 2016 | H7: Değişim ('16/'15) | I7: Pay(16) (%) | J7: =SEKTOR_USD!J7 -> 2014 - 2015 | K7: =SEKTOR_USD!K7 -> 2015 - 2016 | L7: Değişim ('16/'15) | M7: Pay(15) (%)
A8: I. TARIM | B8: =SEKTOR_USD!B8*$B$53 -> 4066745.5 | C8: =SEKTOR_USD!C8*$C$53 -> 5056285.7 | D8: =(C8-B8)/B8*100 -> 24.332482 | E8: =C8/C$44*100 -> 15.935128 | F8: =SEKTOR_USD!F8*$B$54 -> 8303937.1 | G8: =SEKTOR_USD!G8*$C$54 -> 9440575 | H8: =(G8-F8)/F8*100 -> 13.68794 | I8: =G8/G$44*100 -> 15.905451 | J8: =SEKTOR_USD!J8*$B$55 -> 49267242 | K8: =SEKTOR_USD!K8*$C$55 -> 54532253 | L8: =(K8-J8)/J8*100 -> 10.686637 | M8: =K8/K$44*100 -> 15.478126
A9: A. BİTKİSEL ÜRÜNLER | B9: =SEKTOR_USD!B9*$B$53 -> 2914591.8 | C9: =SEKTOR_USD!C9*$C$53 -> 3616158.7 | D9: =(C9-B9)/B9*100 -> 24.070846 | E9: =C9/C$44*100 -> 11.396499 | F9: =SEKTOR_USD!F9*$B$54 -> 6013293.3 | G9: =SEKTOR_USD!G9*$C$54 -> 6775434.8 | H9: =(G9-F9)/F9*100 -> 12.674278 | I9: =G9/G$44*100 -> 11.415231 | J9: =SEKTOR_USD!J9*$B$55 -> 34526268 | K9: =SEKTOR_USD!K9*$C$55 -> 39017988 | L9: =(K9-J9)/J9*100 -> 13.009573 | M9: =K9/K$44*100 -> 11.074644
A10: =SEKTOR_USD!A10 -> Hububat, Bakliyat, Yağlı Tohumlar ve Mamulleri | B10: =SEKTOR_USD!B10*$B$53 -> 1207439.8 | C10: =SEKTOR_USD!C10*$C$53 -> 1656773.9 | D10: =(C10-B10)/B10*100 -> 37.213791 | E10: =C10/C$44*100 -> 5.2214028 | F10: =SEKTOR_USD!F10*$B$54 -> 2528642.2 | G10: =SEKTOR_USD!G10*$C$54 -> 3045215.6 | H10: =(G10-F10)/F10*100 -> 20.428885 | I10: =G10/G$44*100 -> 5.1305697 | J10: =SEKTOR_USD!J10*$B$55 -> 14634086 | K10: =SEKTOR_USD!K10*$C$55 -> 16227945 | L10: =(K10-J10)/J10*100 -> 10.891414 | M10: =K10/K$44*100 -> 4.6060479
A11: =SEKTOR_USD!A11 -> Yaş Meyve ve Sebze | B11: =SEKTOR_USD!B11*$B$53 -> 381920.8 | C11: =SEKTOR_USD!C11*$C$53 -> 471529.54 | D11: =(C11-B11)/B11*100 -> 23.462651 | E11: =C11/C$44*100 -> 1.4860481 | F11: =SEKTOR_USD!F11*$B$54 -> 894034.28 | G11: =SEKTOR_USD!G11*$C$54 -> 874282.51 | H11: =(G11-F11)/F11*100 -> -2.2092855 | I11: =G11/G$44*100 -> 1.4729884 | J11: =SEKTOR_USD!J11*$B$55 -> 5205440.8 | K11: =SEKTOR_USD!K11*$C$55 -> 5340932.6 | L11: =(K11-J11)/J11*100 -> 2.6028889 | M11: =K11/K$44*100 -> 1.51594
A12: =SEKTOR_USD!A12 -> Meyve Sebze Mamulleri | B12: =SEKTOR_USD!B12*$B$53 -> 242341.32 | C12: =SEKTOR_USD!C12*$C$53 -> 313899.06 | D12: =(C12-B12)/B12*100 -> 29.527664 | E12: =C12/C$44*100 -> 0.98926803 | F12: =SEKTOR_USD!F12*$B$54 -> 458282.64 | G12: =SEKTOR_USD!G12*$C$54 -> 562449.55 | H12: =(G12-F12)/F12*100 -> 22.72984 | I12: =G12/G$44*100 -> 0.94761325 | J12: =SEKTOR_USD!J12*$B$55 -> 3066508.4 | K12: =SEKTOR_USD!K12*$C$55 -> 3504379.7 | L12: =(K12-J12)/J12*100 -> 14.27915 | M12: =K12/K$44*100 -> 0.99466325
A13: =SEKTOR_USD!A13 -> Kuru Meyve ve Mamulleri | B13: =SEKTOR_USD!B13*$B$53 -> 231518.18 | C13: =SEKTOR_USD!C13*$C$53 -> 312036.5 | D13: =(C13-B13)/B13*100 -> 34.778398 | E13: =C13/C$44*100 -> 0.98339809 | F13: =SEKTOR_USD!F13*$B$54 -> 459186 | G13: =SEKTOR_USD!G13*$C$54 -> 584815.51 | H13: =(G13-F13)/F13*100 -> 27.359178 | I13: =G13/G$44*100 -> 0.98529535 | J13: =SEKTOR_USD!J13*$B$55 -> 3153909.6 | K13: =SEKTOR_USD!K13*$C$55 -> 3593237.8 | L13: =(K13-J13)/J13*100 -> 13.929636 | M13: =K13/K$44*100 -> 1.0198842
A14: =SEKTOR_USD!A14 -> Fındık ve Mamulleri | B14: =SEKTOR_USD!B14*$B$53 -> 568110.21 | C14: =SEKTOR_USD!C14*$C$53 -> 502461.25 | D14: =(C14-B14)/B14*100 -> -11.555672 | E14: =C14/C$44*100 -> 1.5835309 | F14: =SEKTOR_USD!F14*$B$54 -> 1139950.1 | G14: =SEKTOR_USD!G14*$C$54 -> 1042689.7 | H14: =(G14-F14)/F14*100 -> -8.5319892 | I14: =G14/G$44*100 -> 1.7567203 | J14: =SEKTOR_USD!J14*$B$55 -> 5438420.2 | K14: =SEKTOR_USD!K14*$C$55 -> 7192684.3 | L14: =(K14-J14)/J14*100 -> 32.256869 | M14: =K14/K$44*100 -> 2.0415307
A15: =SEKTOR_USD!A15 -> Zeytin ve Zeytinyağı | B15: =SEKTOR_USD!B15*$B$53 -> 46971.416 | C15: =SEKTOR_USD!C15*$C$53 -> 46956.944 | D15: =(C15-B15)/B15*100 -> -0.030808687 | E15: =C15/C$44*100 -> 0.14798708 | F15: =SEKTOR_USD!F15*$B$54 -> 85864.5 | G15: =SEKTOR_USD!G15*$C$54 -> 77814.895 | H15: =(G15-F15)/F15*100 -> -9.3747767 | I15: =G15/G$44*100 -> 0.13110229 | J15: =SEKTOR_USD!J15*$B$55 -> 479325.54 | K15: =SEKTOR_USD!K15*$C$55 -> 478560.62 | L15: =(K15-J15)/J15*100 -> -0.15958245 | M15: =K15/K$44*100 -> 0.13583193
A16: =SEKTOR_USD!A16 -> Tütün | B16: =SEKTOR_USD!B16*$B$53 -> 214635.16 | C16: =SEKTOR_USD!C16*$C$53 -> 280255.69 | D16: =(C16-B16)/B16*100 -> 30.573056 | E16: =C16/C$44*100 -> 0.88323933 | F16: =SEKTOR_USD!F16*$B$54 -> 411137.74 | G16: =SEKTOR_USD!G16*$C$54 -> 536598.3 | H16: =(G16-F16)/F16*100 -> 30.515457 | I16: =G16/G$44*100 -> 0.90405914 | J16: =SEKTOR_USD!J16*$B$55 -> 2367596 | K16: =SEKTOR_USD!K16*$C$55 -> 2467664 | L16: =(K16-J16)/J16*100 -> 4.2265642 | M16: =K16/K$44*100 -> 0.70040775
A17: =SEKTOR_USD!A17 -> Süs Bitkileri ve Mam. | B17: =SEKTOR_USD!B17*$B$53 -> 21654.96 | C17: =SEKTOR_USD!C17*$C$53 -> 32245.861 | D17: =(C17-B17)/B17*100 -> 48.907509 | E17: =C17/C$44*100 -> 0.10162439 | F17: =SEKTOR_USD!F17*$B$54 -> 36195.825 | G17: =SEKTOR_USD!G17*$C$54 -> 51568.747 | H17: =(G17-F17)/F17*100 -> 42.471533 | I17: =G17/G$44*100 -> 0.086882865 | J17: =SEKTOR_USD!J17*$B$55 -> 180980.87 | K17: =SEKTOR_USD!K17*$C$55 -> 212583.62 | L17: =(K17-J17)/J17*100 -> 17.461929 | M17: =K17/K$44*100 -> 0.06033853
A18: B. HAYVANSAL ÜRÜNLER | B18: =SEKTOR_USD!B18*$B$53 -> 410283.93 | C18: =SEKTOR_USD!C18*$C$53 -> 422233.9 | D18: =(C18-B18)/B18*100 -> 2.9126105 | E18: =C18/C$44*100 -> 1.3306905 | F18: =SEKTOR_USD!F18*$B$54 -> 811844.53 | G18: =SEKTOR_USD!G18*$C$54 -> 826658.11 | H18: =(G18-F18)/F18*100 -> 1.8246822 | I18: =G18/G$44*100 -> 1.392751 | J18: =SEKTOR_USD!J18*$B$55 -> 4918754.2 | K18: =SEKTOR_USD!K18*$C$55 -> 4664088.5 | L18: =(K18-J18)/J18*100 -> -5.1774434 | M18: =K18/K$44*100 -> 1.3238284
A19: =SEKTOR_USD!A19 -> Su Ürünleri ve Hayvansal Mamuller | B19: =SEKTOR_USD!B19*$B$53 -> 410283.93 | C19: =SEKTOR_USD!C19*$C$53 -> 422233.9 | D19: =(C19-B19)/B19*100 -> 2.9126105 | E19: =C19/C$44*100 -> 1.3306905 | F19: =SEKTOR_USD!F19*$B$54 -> 811844.53 | G19: =SEKTOR_USD!G19*$C$54 -> 826658.11 | H19: =(G19-F19)/F19*100 -> 1.8246822 | I19: =G19/G$44*100 -> 1.392751 | J19: =SEKTOR_USD!J19*$B$55 -> 4918754.2 | K19: =SEKTOR_USD!K19*$C$55 -> 4664088.5 | L19: =(K19-J19)/J19*100 -> -5.1774434 | M19: =K19/K$44*100 -> 1.3238284
A20: C. AĞAÇ VE ORMAN ÜRÜNLERİ | B20: =SEKTOR_USD!B20*$B$53 -> 741869.81 | C20: =SEKTOR_USD!C20*$C$53 -> 1017893.1 | D20: =(C20-B20)/B20*100 -> 37.206429 | E20: =C20/C$44*100 -> 3.2079392 | F20: =SEKTOR_USD!F20*$B$54 -> 1478799.3 | G20: =SEKTOR_USD!G20*$C$54 -> 1838482.2 | H20: =(G20-F20)/F20*100 -> 24.322626 | I20: =G20/G$44*100 -> 3.097469 | J20: =SEKTOR_USD!J20*$B$55 -> 9822220.2 | K20: =SEKTOR_USD!K20*$C$55 -> 10850177 | L20: =(K20-J20)/J20*100 -> 10.465629 | M20: =K20/K$44*100 -> 3.0796528
A21: =SEKTOR_USD!A21 -> Mobilya,Kağıt ve Orman Ürünleri | B21: =SEKTOR_USD!B21*$B$53 -> 741869.81 | C21: =SEKTOR_USD!C21*$C$53 -> 1017893.1 | D21: =(C21-B21)/B21*100 -> 37.206429 | E21: =C21/C$44*100 -> 3.2079392 | F21: =SEKTOR_USD!F21*$B$54 -> 1478799.3 | G21: =SEKTOR_USD!G21*$C$54 -> 1838482.2 | H21: =(G21-F21)/F21*100 -> 24.322626 | I21: =G21/G$44*100 -> 3.097469 | J21: =SEKTOR_USD!J21*$B$55 -> 9822220.2 | K21: =SEKTOR_USD!K21*$C$55 -> 10850177 | L21: =(K21-J21)/J21*100 -> 10.465629 | M21: =K21/K$44*100 -> 3.0796528
A22: II. SANAYİ | B22: =SEKTOR_USD!B22*$B$53 -> 20927728 | C22: =SEKTOR_USD!C22*$C$53 -> 25956642 | D22: =(C22-B22)/B22*100 -> 24.029911 | E22: =C22/C$44*100 -> 81.80361 | F22: =SEKTOR_USD!F22*$B$54 -> 41080289 | G22: =SEKTOR_USD!G22*$C$54 -> 48488194 | H22: =(G22-F22)/F22*100 -> 18.032749 | I22: =G22/G$44*100 -> 81.692758 | J22: =SEKTOR_USD!J22*$B$55 -> 2.6950945e+08 | K22: =SEKTOR_USD!K22*$C$55 -> 2.8761296e+08 | L22: =(K22-J22)/J22*100 -> 6.717208 | M22: =K22/K$44*100 -> 81.634433
A23: A. TARIMA DAYALI İŞLENMİŞ ÜRÜNLER | B23: =SEKTOR_USD!B23*$B$53 -> 2140607.8 | C23: =SEKTOR_USD!C23*$C$53 -> 2643981.1 | D23: =(C23-B23)/B23*100 -> 23.515435 | E23: =C23/C$44*100 -> 8.332634 | F23: =SEKTOR_USD!F23*$B$54 -> 4246213.8 | G23: =SEKTOR_USD!G23*$C$54 -> 5096197.4 | H23: =(G23-F23)/F23*100 -> 20.017447 | I23: =G23/G$44*100 -> 8.5860574 | J23: =SEKTOR_USD!J23*$B$55 -> 28284754 | K23: =SEKTOR_USD!K23*$C$55 -> 30279501 | L23: =(K23-J23)/J23*100 -> 7.0523745 | M23: =K23/K$44*100 -> 8.5943617
A24: =SEKTOR_USD!A24 -> Tekstil ve Hammaddeleri | B24: =SEKTOR_USD!B24*$B$53 -> 1495549 | C24: =SEKTOR_USD!C24*$C$53 -> 1867727 | D24: =(C24-B24)/B24*100 -> 24.885707 | E24: =C24/C$44*100 -> 5.8862317 | F24: =SEKTOR_USD!F24*$B$54 -> 3005319.3 | G24: =SEKTOR_USD!G24*$C$54 -> 3663303.7 | H24: =(G24-F24)/F24*100 -> 21.893995 | I24: =G24/G$44*100 -> 6.1719226 | J24: =SEKTOR_USD!J24*$B$55 -> 19191648 | K24: =SEKTOR_USD!K24*$C$55 -> 21102584 | L24: =(K24-J24)/J24*100 -> 9.9571202 | M24: =K24/K$44*100 -> 5.9896377
A25: =SEKTOR_USD!A25 -> Deri ve Deri Mamulleri | B25: =SEKTOR_USD!B25*$B$53 -> 284056.84 | C25: =SEKTOR_USD!C25*$C$53 -> 319219.66 | D25: =(C25-B25)/B25*100 -> 12.378799 | E25: =C25/C$44*100 -> 1.0060362 | F25: =SEKTOR_USD!F25*$B$54 -> 546228.39 | G25: =SEKTOR_USD!G25*$C$54 -> 585673.81 | H25: =(G25-F25)/F25*100 -> 7.2214152 | I25: =G25/G$44*100 -> 0.98674141 | J25: =SEKTOR_USD!J25*$B$55 -> 4018182.9 | K25: =SEKTOR_USD!K25*$C$55 -> 3825339.9 | L25: =(K25-J25)/J25*100 -> -4.79926 | M25: =K25/K$44*100 -> 1.0857628
A26: =SEKTOR_USD!A26 -> Halı | B26: =SEKTOR_USD!B26*$B$53 -> 361001.98 | C26: =SEKTOR_USD!C26*$C$53 -> 457034.45 | D26: =(C26-B26)/B26*100 -> 26.601646 | E26: =C26/C$44*100 -> 1.4403661 | F26: =SEKTOR_USD!F26*$B$54 -> 694666.13 | G26: =SEKTOR_USD!G26*$C$54 -> 847219.83 | H26: =(G26-F26)/F26*100 -> 21.960723 | I26: =G26/G$44*100 -> 1.4273933 | J26: =SEKTOR_USD!J26*$B$55 -> 5074922.6 | K26: =SEKTOR_USD!K26*$C$55 -> 5351576.9 | L26: =(K26-J26)/J26*100 -> 5.4514 | M26: =K26/K$44*100 -> 1.5189612
A27: B. KİMYEVİ MADDELER VE MAM. | B27: =SEKTOR_USD!B27*$B$53 -> 2888061.1 | C27: =SEKTOR_USD!C27*$C$53 -> 3366056.9 | D27: =(C27-B27)/B27*100 -> 16.550753 | E27: =C27/C$44*100 -> 10.608291 | F27: =SEKTOR_USD!F27*$B$54 -> 5674581.3 | G27: =SEKTOR_USD!G27*$C$54 -> 6377886.4 | H27: =(G27-F27)/F27*100 -> 12.393957 | I27: =G27/G$44*100 -> 10.745443 | J27: =SEKTOR_USD!J27*$B$55 -> 38293402 | K27: =SEKTOR_USD!K27*$C$55 -> 40400751 | L27: =(K27-J27)/J27*100 -> 5.5031652 | M27: =K27/K$44*100 -> 11.46712
A28: =SEKTOR_USD!A28 -> Kimyevi Maddeler ve Mamulleri | B28: =SEKTOR_USD!B28*$B$53 -> 2888061.1 | C28: =SEKTOR_USD!C28*$C$53 -> 3366056.9 | D28: =(C28-B28)/B28*100 -> 16.550753 | E28: =C28/C$44*100 -> 10.608291 | F28: =SEKTOR_USD!F28*$B$54 -> 5674581.3 | G28: =SEKTOR_USD!G28*$C$54 -> 6377886.4 | H28: =(G28-F28)/F28*100 -> 12.393957 | I28: =G28/G$44*100 -> 10.745443 | J28: =SEKTOR_USD!J28*$B$55 -> 38293402 | K28: =SEKTOR_USD!K28*$C$55 -> 40400751 | L28: =(K28-J28)/J28*100 -> 5.5031652 | M28: =K28/K$44*100 -> 11.46712
A29: C. SANAYİ MAMULLERİ | B29: =SEKTOR_USD!B29*$B$53 -> 15899059 | C29: =SEKTOR_USD!C29*$C$53 -> 19946604 | D29: =(C29-B29)/B29*100 -> 25.457767 | E29: =C29/C$44*100 -> 62.862686 | F29: =SEKTOR_USD!F29*$B$54 -> 31159494 | G29: =SEKTOR_USD!G29*$C$54 -> 37014110 | H29: =(G29-F29)/F29*100 -> 18.789191 | I29: =G29/G$44*100 -> 62.361257 | J29: =SEKTOR_USD!J29*$B$55 -> 2.029313e+08 | K29: =SEKTOR_USD!K29*$C$55 -> 2.1693271e+08 | L29: =(K29-J29)/J29*100 -> 6.8995837 | M29: =K29/K$44*100 -> 61.572951
A30: =SEKTOR_USD!A30 -> Hazırgiyim ve Konfeksiyon | B30: =SEKTOR_USD!B30*$B$53 -> 3104037.3 | C30: =SEKTOR_USD!C30*$C$53 -> 4190256.6 | D30: =(C30-B30)/B30*100 -> 34.993757 | E30: =C30/C$44*100 -> 13.205796 | F30: =SEKTOR_USD!F30*$B$54 -> 6328409.2 | G30: =SEKTOR_USD!G30*$C$54 -> 8165103.1 | H30: =(G30-F30)/F30*100 -> 29.022996 | I30: =G30/G$44*100 -> 13.75654 | J30: =SEKTOR_USD!J30*$B$55 -> 40571691 | K30: =SEKTOR_USD!K30*$C$55 -> 45419368 | L30: =(K30-J30)/J30*100 -> 11.948422 | M30: =K30/K$44*100 -> 12.891576
A31: =SEKTOR_USD!A31 -> Otomotiv Endüstrisi | B31: =SEKTOR_USD!B31*$B$53 -> 4181985.9 | C31: =SEKTOR_USD!C31*$C$53 -> 5840136.5 | D31: =(C31-B31)/B31*100 -> 39.649838 | E31: =C31/C$44*100 -> 18.405472 | F31: =SEKTOR_USD!F31*$B$54 -> 8202063.6 | G31: =SEKTOR_USD!G31*$C$54 -> 10402020 | H31: =(G31-F31)/F31*100 -> 26.821991 | I31: =G31/G$44*100 -> 17.525291 | J31: =SEKTOR_USD!J31*$B$55 -> 49388491 | K31: =SEKTOR_USD!K31*$C$55 -> 56498123 | L31: =(K31-J31)/J31*100 -> 14.395321 | M31: =K31/K$44*100 -> 16.036107
A32: =SEKTOR_USD!A32 -> Gemi ve Yat | B32: =SEKTOR_USD!B32*$B$53 -> 191190.52 | C32: =SEKTOR_USD!C32*$C$53 -> 176675.85 | D32: =(C32-B32)/B32*100 -> -7.5917303 | E32: =C32/C$44*100 -> 0.55680246 | F32: =SEKTOR_USD!F32*$B$54 -> 291241.97 | G32: =SEKTOR_USD!G32*$C$54 -> 301752.74 | H32: =(G32-F32)/F32*100 -> 3.6089483 | I32: =G32/G$44*100 -> 0.50839208 | J32: =SEKTOR_USD!J32*$B$55 -> 2770634.8 | K32: =SEKTOR_USD!K32*$C$55 -> 2687823.7 | L32: =(K32-J32)/J32*100 -> -2.9888862 | M32: =K32/K$44*100 -> 0.76289662
A33: =SEKTOR_USD!A33 -> Elektrik Elektronik ve Hizmet | B33: =SEKTOR_USD!B33*$B$53 -> 2040002 | C33: =SEKTOR_USD!C33*$C$53 -> 2374968 | D33: =(C33-B33)/B33*100 -> 16.419883 | E33: =C33/C$44*100 -> 7.4848262 | F33: =SEKTOR_USD!F33*$B$54 -> 3735739.3 | G33: =SEKTOR_USD!G33*$C$54 -> 4273821.3 | H33: =(G33-F33)/F33*100 -> 14.40363 | I33: =G33/G$44*100 -> 7.2005208 | J33: =SEKTOR_USD!J33*$B$55 -> 26251686 | K33: =SEKTOR_USD!K33*$C$55 -> 27554720 | L33: =(K33-J33)/J33*100 -> 4.9636213 | M33: =K33/K$44*100 -> 7.8209754
A34: =SEKTOR_USD!A34 -> Makine ve Aksamları | B34: =SEKTOR_USD!B34*$B$53 -> 1061528.2 | C34: =SEKTOR_USD!C34*$C$53 -> 1296040 | D34: =(C34-B34)/B34*100 -> 22.091905 | E34: =C34/C$44*100 -> 4.0845326 | F34: =SEKTOR_USD!F34*$B$54 -> 2146673.6 | G34: =SEKTOR_USD!G34*$C$54 -> 2429173.8 | H34: =(G34-F34)/F34*100 -> 13.159906 | I34: =G34/G$44*100 -> 4.0926645 | J34: =SEKTOR_USD!J34*$B$55 -> 13275909 | K34: =SEKTOR_USD!K34*$C$55 -> 14494836 | L34: =(K34-J34)/J34*100 -> 9.1814959 | M34: =K34/K$44*100 -> 4.1141321
A35: =SEKTOR_USD!A35 -> Demir ve Demir Dışı Metaller | B35: =SEKTOR_USD!B35*$B$53 -> 1161226.4 | C35: =SEKTOR_USD!C35*$C$53 -> 1481690.6 | D35: =(C35-B35)/B35*100 -> 27.597049 | E35: =C35/C$44*100 -> 4.6696194 | F35: =SEKTOR_USD!F35*$B$54 -> 2295508.4 | G35: =SEKTOR_USD!G35*$C$54 -> 2759079.1 | H35: =(G35-F35)/F35*100 -> 20.194684 | I35: =G35/G$44*100 -> 4.6484879 | J35: =SEKTOR_USD!J35*$B$55 -> 15301397 | K35: =SEKTOR_USD!K35*$C$55 -> 16504681 | L35: =(K35-J35)/J35*100 -> 7.8638887 | M35: =K35/K$44*100 -> 4.6845952
A36: =SEKTOR_USD!A36 -> Çelik | B36: =SEKTOR_USD!B36*$B$53 -> 2302930.5 | C36: =SEKTOR_USD!C36*$C$53 -> 2197602.4 | D36: =(C36-B36)/B36*100 -> -4.5736553 | E36: =C36/C$44*100 -> 6.92585 | F36: =SEKTOR_USD!F36*$B$54 -> 4278358.4 | G36: =SEKTOR_USD!G36*$C$54 -> 4086634.7 | H36: =(G36-F36)/F36*100 -> -4.4812453 | I36: =G36/G$44*100 -> 6.8851493 | J36: =SEKTOR_USD!J36*$B$55 -> 28146303 | K36: =SEKTOR_USD!K36*$C$55 -> 25204583 | L36: =(K36-J36)/J36*100 -> -10.45153 | M36: =K36/K$44*100 -> 7.153926
A37: =SEKTOR_USD!A37 -> Çimento Cam Seramik ve Toprak Ürünleri | B37: =SEKTOR_USD!B37*$B$53 -> 526729.75 | C37: =SEKTOR_USD!C37*$C$53 -> 660986.04 | D37: =(C37-B37)/B37*100 -> 25.488648 | E37: =C37/C$44*100 -> 2.0831294 | F37: =SEKTOR_USD!F37*$B$54 -> 993381.1 | G37: =SEKTOR_USD!G37*$C$54 -> 1218670 | H37: =(G37-F37)/F37*100 -> 22.679001 | I37: =G37/G$44*100 -> 2.0532114 | J37: =SEKTOR_USD!J37*$B$55 -> 6832005.2 | K37: =SEKTOR_USD!K37*$C$55 -> 7322982.7 | L37: =(K37-J37)/J37*100 -> 7.1864333 | M37: =K37/K$44*100 -> 2.0785139
A38: =SEKTOR_USD!A38 -> Mücevher | B38: =SEKTOR_USD!B38*$B$53 -> 352329.44 | C38: =SEKTOR_USD!C38*$C$53 -> 475688.1 | D38: =(C38-B38)/B38*100 -> 35.012306 | E38: =C38/C$44*100 -> 1.499154 | F38: =SEKTOR_USD!F38*$B$54 -> 1028847.5 | G38: =SEKTOR_USD!G38*$C$54 -> 988301.88 | H38: =(G38-F38)/F38*100 -> -3.9408798 | I38: =G38/G$44*100 -> 1.6650879 | J38: =SEKTOR_USD!J38*$B$55 -> 6998274.4 | K38: =SEKTOR_USD!K38*$C$55 -> 6790929.2 | L38: =(K38-J38)/J38*100 -> -2.9628038 | M38: =K38/K$44*100 -> 1.9274988
A39: =SEKTOR_USD!A39 -> Savunma ve Havacılık Sanayii | B39: =SEKTOR_USD!B39*$B$53 -> 238208.15 | C39: =SEKTOR_USD!C39*$C$53 -> 403548.7 | D39: =(C39-B39)/B39*100 -> 69.410116 | E39: =C39/C$44*100 -> 1.2718032 | F39: =SEKTOR_USD!F39*$B$54 -> 469505.52 | G39: =SEKTOR_USD!G39*$C$54 -> 760727.17 | H39: =(G39-F39)/F39*100 -> 62.02731 | I39: =G39/G$44*100 -> 1.2816708 | J39: =SEKTOR_USD!J39*$B$55 -> 3614285.9 | K39: =SEKTOR_USD!K39*$C$55 -> 4562517.4 | L39: =(K39-J39)/J39*100 -> 26.235651 | M39: =K39/K$44*100 -> 1.2949991
A40: =SEKTOR_USD!A40 -> İklimlendirme Sanayii | B40: =SEKTOR_USD!B40*$B$53 -> 725425.27 | C40: =SEKTOR_USD!C40*$C$53 -> 826289.01 | D40: =(C40-B40)/B40*100 -> 13.904086 | E40: =C40/C$44*100 -> 2.6040897 | F40: =SEKTOR_USD!F40*$B$54 -> 1362854.6 | G40: =SEKTOR_USD!G40*$C$54 -> 1591546.3 | H40: =(G40-F40)/F40*100 -> 16.780339 | I40: =G40/G$44*100 -> 2.6814322 | J40: =SEKTOR_USD!J40*$B$55 -> 9546935.4 | K40: =SEKTOR_USD!K40*$C$55 -> 9619035.8 | L40: =(K40-J40)/J40*100 -> 0.75522021 | M40: =K40/K$44*100 -> 2.7302126
A41: =SEKTOR_USD!A41 -> Diğer Sanayi Ürünleri | B41: =SEKTOR_USD!B41*$B$53 -> 13465.384 | C41: =SEKTOR_USD!C41*$C$53 -> 22722.368 | D41: =(C41-B41)/B41*100 -> 68.746534 | E41: =C41/C$44*100 -> 0.07161064 | F41: =SEKTOR_USD!F41*$B$54 -> 26910.264 | G41: =SEKTOR_USD!G41*$C$54 -> 37279.749 | H41: =(G41-F41)/F41*100 -> 38.533568 | I41: =G41/G$44*100 -> 0.062808805 | J41: =SEKTOR_USD!J41*$B$55 -> 233685.64 | K41: =SEKTOR_USD!K41*$C$55 -> 273111.81 | L41: =(K41-J41)/J41*100 -> 16.871457 | M41: =K41/K$44*100 -> 0.077518506
A42: III. MADENCİLİK | B42: =SEKTOR_USD!B42*$B$53 -> 690574.04 | C42: =SEKTOR_USD!C42*$C$53 -> 717508.01 | D42: =(C42-B42)/B42*100 -> 3.9002294 | E42: =C42/C$44*100 -> 2.2612611 | F42: =SEKTOR_USD!F42*$B$54 -> 1331787.7 | G42: =SEKTOR_USD!G42*$C$54 -> 1425567.1 | H42: =(G42-F42)/F42*100 -> 7.0416127 | I42: =G42/G$44*100 -> 2.401791 | J42: =SEKTOR_USD!J42*$B$55 -> 9909491.5 | K42: =SEKTOR_USD!K42*$C$55 -> 10172983 | L42: =(K42-J42)/J42*100 -> 2.6589855 | M42: =K42/K$44*100 -> 2.8874419
A43: =SEKTOR_USD!A43 -> Madencilik Ürünleri | B43: =SEKTOR_USD!B43*$B$53 -> 690574.04 | C43: =SEKTOR_USD!C43*$C$53 -> 717508.01 | D43: =(C43-B43)/B43*100 -> 3.9002294 | E43: =C43/C$44*100 -> 2.2612611 | F43: =SEKTOR_USD!F43*$B$54 -> 1331787.7 | G43: =SEKTOR_USD!G43*$C$54 -> 1425567.1 | H43: =(G43-F43)/F43*100 -> 7.0416127 | I43: =G43/G$44*100 -> 2.401791 | J43: =SEKTOR_USD!J43*$B$55 -> 9909491.5 | K43: =SEKTOR_USD!K43*$C$55 -> 10172983 | L43: =(K43-J43)/J43*100 -> 2.6589855 | M43: =K43/K$44*100 -> 2.8874419
...

Sheet USDvsTL
A5: İHRACAT ARTIŞI KARŞILAŞTIRMA TABLOSU (USD - TL)
B6: ŞUBAT (2016/2015) | D6: OCAK-ŞUBAT (2016/2015) | F6: SON 12 AYLIK (2016/2015)
A7: SEKTÖRLER | B7: USD Bazında Artış (%) | C7: TL Bazında Artış (%) | D7: USD Bazında Artış (%) | E7: TL Bazında Artış (%) | F7: USD Bazında Artış (%) | G7: TL Bazında Artış (%)
A8: I. TARIM | B8: =SEKTOR_USD!D8 -> 3.8079958 | C8: =SEKTOR_TL!D8 -> 24.332482 | D8: =SEKTOR_USD!H8 -> -8.5969403 | E8: =SEKTOR_TL!H8 -> 13.68794 | F8: =SEKTOR_USD!L8 -> -7.8546736 | G8: =SEKTOR_TL!L8 -> 10.686637
A9: A. BİTKİSEL ÜRÜNLER | B9: =SEKTOR_USD!D9 -> 3.5895497 | C9: =SEKTOR_TL!D9 -> 24.070846 | D9: =SEKTOR_USD!H9 -> -9.4119062 | E9: =SEKTOR_TL!H9 -> 12.674278 | F9: =SEKTOR_USD!L9 -> -5.9208568 | G9: =SEKTOR_TL!L9 -> 13.009573
A10: Hububat, Bakliyat, Yağlı Tohumlar ve Mam. | B10: =SEKTOR_USD!D10 -> 14.562891 | C10: =SEKTOR_TL!D10 -> 37.213791 | D10: =SEKTOR_USD!H10 -> -3.1773419 | E10: =SEKTOR_TL!H10 -> 20.428885 | F10: =SEKTOR_USD!L10 -> -7.6841996 | G10: =SEKTOR_TL!L10 -> 10.891414
A11: Yaş Meyve ve Sebze | B11: =SEKTOR_USD!D11 -> 3.081754 | C11: =SEKTOR_TL!D11 -> 23.462651 | D11: =SEKTOR_USD!H11 -> -21.378024 | E11: =SEKTOR_TL!H11 -> -2.2092855 | F11: =SEKTOR_USD!L11 -> -14.584299 | G11: =SEKTOR_TL!L11 -> 2.6028889
A12: Meyve Sebze Mamulleri | B12: =SEKTOR_USD!D12 -> 8.1455703 | C12: =SEKTOR_TL!D12 -> 29.527664 | D12: =SEKTOR_USD!H12 -> -1.3274156 | E12: =SEKTOR_TL!H12 -> 22.72984 | F12: =SEKTOR_USD!L12 -> -4.8639489 | G12: =SEKTOR_TL!L12 -> 14.27915
A13: Kuru Meyve ve Mamulleri | B13: =SEKTOR_USD!D13 -> 12.529526 | C13: =SEKTOR_TL!D13 -> 34.778398 | D13: =SEKTOR_USD!H13 -> 2.3944894 | E13: =SEKTOR_TL!H13 -> 27.359178 | F13: =SEKTOR_USD!L13 -> -5.1549149 | G13: =SEKTOR_TL!L13 -> 13.929636
A14: Fındık ve Mamulleri | B14: =SEKTOR_USD!D14 -> -26.155835 | C14: =SEKTOR_TL!D14 -> -11.555672 | D14: =SEKTOR_USD!H14 -> -26.461364 | E14: =SEKTOR_TL!H14 -> -8.5319892 | F14: =SEKTOR_USD!L14 -> 10.102291 | G14: =SEKTOR_TL!L14 -> 32.256869
A15: Zeytin ve Zeytinyağı | B15: =SEKTOR_USD!D15 -> -16.533466 | C15: =SEKTOR_TL!D15 -> -0.030808687 | D15: =SEKTOR_USD!H15 -> -27.13895 | E15: =SEKTOR_TL!H15 -> -9.3747767 | F15: =SEKTOR_USD!L15 -> -16.884024 | G15: =SEKTOR_TL!L15 -> -0.15958245
A16: Tütün ve Mamulleri | B16: =SEKTOR_USD!D16 -> 9.0183921 | C16: =SEKTOR_TL!D16 -> 30.573056 | D16: =SEKTOR_USD!H16 -> 4.9320805 | E16: =SEKTOR_TL!H16 -> 30.515457 | F16: =SEKTOR_USD!L16 -> -13.232609 | G16: =SEKTOR_TL!L16 -> 4.2265642
A17: Süs Bitkileri | B17: =SEKTOR_USD!D17 -> 24.32624 | C17: =SEKTOR_TL!D17 -> 48.907509 | D17: =SEKTOR_USD!H17 -> 14.544551 | E17: =SEKTOR_TL!H17 -> 42.471533 | F17: =SEKTOR_USD!L17 -> -2.2143226 | G17: =SEKTOR_TL!L17 -> 17.461929
A18: B. HAYVANSAL ÜRÜNLER | B18: =SEKTOR_USD!D18 -> -14.075939 | C18: =SEKTOR_TL!D18 -> 2.9126105 | D18: =SEKTOR_USD!H18 -> -18.134786 | E18: =SEKTOR_TL!H18 -> 1.8246822 | F18: =SEKTOR_USD!L18 -> -21.061335 | G18: =SEKTOR_TL!L18 -> -5.1774434
A19: Su Ürünleri ve Hayvansal Mamuller | B19: =SEKTOR_USD!D19 -> -14.075939 | C19: =SEKTOR_TL!D19 -> 2.9126105 | D19: =SEKTOR_USD!H19 -> -18.134786 | E19: =SEKTOR_TL!H19 -> 1.8246822 | F19: =SEKTOR_USD!L19 -> -21.061335 | G19: =SEKTOR_TL!L19 -> -5.1774434
... A44: T O P L A M | B44: =SEKTOR_USD!D44 -> 3.1435011 | C44: =SEKTOR_TL!D44 -> 23.536606 | D44: =SEKTOR_USD!H44 -> -5.9077876 | E44: =SEKTOR_TL!H44 -> 17.032732 | F44: =SEKTOR_USD!L44 -> -10.765716 | G44: =SEKTOR_TL!L44 -> 7.1898409
A45: İhracatçı Birlikleri Kaydından Muaf İhracat | D45: =SEKTOR_USD!H45 -> -87.260886 | E45: =SEKTOR_TL!H45 -> -84.923439 | F45: =SEKTOR_USD!L45 -> -11.812612 | G45: =SEKTOR_TL!L45 -> 1.1004052
A46: T O P L A M | B46: =SEKTOR_USD!D46 -> 3.1435011 | C46: =SEKTOR_TL!D46 -> 12.622075 | D46: =SEKTOR_USD!H46 -> -16.905577 | E46: =SEKTOR_TL!H46 -> -1.6589296 | F46: =SEKTOR_USD!L46 -> -10.821846 | G46: =SEKTOR_TL!L46 -> 2.2362459
A48: Not: İlgili dönem ortalama MB Dolar Alış Kuru baz alınarak hesaplanmıştır.

Sheet GEN_SEK
C2: 1 - 29 ŞUBAT İHRACAT RAKAMLARI
A6: İHRACATÇI BİRLİKLERİ GENEL SEKRETERLİKLERİ BAZINDA İHRACAT RAKAMLARI (1.000 $)
B7: 1 - 29 ŞUBAT | F7: 1 OCAK - 29 ŞUBAT | J7: SON 12 AYLIK
A8: İHRACATÇI BİRLİKLERİ GENEL SEKRETERLİKLERİ | B8: 2015 | C8: 2016 | D8: Değişim ('16/'15) | E8: Pay(16) (%) | F8: 2015 | G8: 2016 | H8: Değişim ('16/'15) | I8: Pay(16) (%) | J8: 2014 - 2015 | K8: 2015 - 2016 | L8: Değişim ('16/'15) | M8: Pay(16) (%)
A9: İMMİB | B9: 2893689 | C9: 2769617.6 | D9: =(C9-B9)/B9*100 -> -4.2876559 | E9: =C9/C$22*100 -> 25.667813 | F9: 5763953.3 | G9: 5189558.9 | H9: =(G9-F9)/F9*100 -> -9.9652843 | I9: =G9/G$22*100 -> 25.993966 | J9: 42459534 | K9: 36500573 | L9: =(K9-J9)/J9*100 -> -14.034446 | M9: =K9/K$22*100 -> 27.583808
A10: UİB | B10: 1784163.6 | C10: 2045756.8 | D10: =(C10-B10)/B10*100 -> 14.661953 | E10: =C10/C$22*100 -> 18.959333 | F10: 3573496.6 | G10: 3609858.2 | H10: =(G10-F10)/F10*100 -> 1.017537 | I10: =G10/G$22*100 -> 18.081408 | J10: 23586479 | K10: 22208971 | L10: =(K10-J10)/J10*100 -> -5.8402451 | M10: =K10/K$22*100 -> 16.783517
A11: İTKİB | B11: 1370724.7 | C11: 1485691.7 | D11: =(C11-B11)/B11*100 -> 8.3873081 | E11: =C11/C$22*100 -> 13.768852 | F11: 2877480 | G11: 2889744 | H11: =(G11-F11)/F11*100 -> 0.42620751 | I11: =G11/G$22*100 -> 14.47443 | J11: 20148132 | K11: 18419005 | L11: =(K11-J11)/J11*100 -> -8.5820716 | M11: =K11/K$22*100 -> 13.919406
A12: OAİB | B12: 864072.38 | C12: 951604.08 | D12: =(C12-B12)/B12*100 -> 10.130135 | E12: =C12/C$22*100 -> 8.8191221 | F12: 1784074.9 | G12: 1735138.7 | H12: =(G12-F12)/F12*100 -> -2.7429431 | I12: =G12/G$22*100 -> 8.691131 | J12: 12561991 | K12: 11113007 | L12: =(K12-J12)/J12*100 -> -11.534673 | M12: =K12/K$22*100 -> 8.398198
A13: AKİB | B13: 874896.87 | C13: 873507.99 | D13: =(C13-B13)/B13*100 -> -0.15874742 | E13: =C13/C$22*100 -> 8.0953558 | F13: 1838621.4 | G13: 1604469.9 | H13: =(G13-F13)/F13*100 -> -12.735163 | I13: =G13/G$22*100 -> 8.0366247 | J13: 12567168 | K13: 10733134 | L13: =(K13-J13)/J13*100 -> -14.593848 | M13: =K13/K$22*100 -> 8.1111252
A14: EİB | B14: 843872.39 | C14: 876450.26 | D14: =(C14-B14)/B14*100 -> 3.8605212 | E14: =C14/C$22*100 -> 8.1226237 | F14: 1696332.8 | G14: 1669143.8 | H14: =(G14-F14)/F14*100 -> -1.6028077 | I14: =G14/G$22*100 -> 8.3605694 | J14: 11885931 | K14: 10428676 | L14: =(K14-J14)/J14*100 -> -12.260333 | M14: =K14/K$22*100 -> 7.8810436
A15: GAİB | B15: 655201.64 | C15: 703118.67 | D15: =(C15-B15)/B15*100 -> 7.3133254 | E15: =C15/C$22*100 -> 6.5162493 | F15: 1339639.5 | G15: 1233537.9 | H15: =(G15-F15)/F15*100 -> -7.9201585 | I15: =G15/G$22*100 -> 6.1786643 | J15: 8826105.4 | K15: 8308776.5 | L15: =(K15-J15)/J15*100 -> -5.8613507 | M15: =K15/K$22*100 -> 6.2790163
A16: İİB | B16: 507866 | C16: 457325.87 | D16: =(C16-B16)/B16*100 -> -9.9514691 | E16: =C16/C$22*100 -> 4.2383306 | F16: 1016555 | G16: 860217.04 | H16: =(G16-F16)/F16*100 -> -15.379189 | I16: =G16/G$22*100 -> 4.3087386 | J16: 6843794.8 | K16: 6256365 | L16: =(K16-J16)/J16*100 -> -8.583394 | M16: =K16/K$22*100 -> 4.7279907
A17: DENİB | B17: 158132.13 | C17: 172367.36 | D17: =(C17-B17)/B17*100 -> 9.0021107 | E17: =C17/C$22*100 -> 1.5974383 | F17: 326483.02 | G17: 332920.71 | H17: =(G17-F17)/F17*100 -> 1.9718309 | I17: =G17/G$22*100 -> 1.6675655 | J17: 2245468.7 | K17: 2116427.2 | L17: =(K17-J17)/J17*100 -> -5.7467492 | M17: =K17/K$22*100 -> 1.5994029
A18: DAİB | B18: 195446.83 | C18: 148283.43 | D18: =(C18-B18)/B18*100 -> -24.131063 | E18: =C18/C$22*100 -> 1.3742371 | F18: 378352.47 | G18: 267701.19 | H18: =(G18-F18)/F18*100 -> -29.245555 | I18: =G18/G$22*100 -> 1.3408877 | J18: 2872515.9 | K18: 2115389 | L18: =(K18-J18)/J18*100 -> -26.357621 | M18: =K18/K$22*100 -> 1.5986183
A19: KİB | B19: 151918.57 | C19: 138329.74 | D19: =(C19-B19)/B19*100 -> -8.9448122 | E19: =C19/C$22*100 -> 1.2819899 | F19: 298007.49 | G19: 269725.93 | H19: =(G19-F19)/F19*100 -> -9.4902173 | I19: =G19/G$22*100 -> 1.3510294 | J19: 1665806.5 | K19: 1881130.3 | L19: =(K19-J19)/J19*100 -> 12.926096 | M19: =K19/K$22*100 -> 1.4215869
A20: BAİB | B20: 104854.21 | C20: 113771.31 | D20: =(C20-B20)/B20*100 -> 8.5042858 | E20: =C20/C$22*100 -> 1.0543913 | F20: 221570.84 | G20: 213853.5 | H20: =(G20-F20)/F20*100 -> -3.483009 | I20: =G20/G$22*100 -> 1.0711702 | J20: 1617946.3 | K20: 1426651.3 | L20: =(K20-J20)/J20*100 -> -11.823325 | M20: =K20/K$22*100 -> 1.0781331
A21: DKİB | B21: 56543.937 | C21: 54411.203 | D21: =(C21-B21)/B21*100 -> -3.7718166 | E21: =C21/C$22*100 -> 0.50426333 | F21: 103421.93 | G21: 88605.359 | H21: =(G21-F21)/F21*100 -> -14.326337 | I21: =G21/G$22*100 -> 0.44381512 | J21: 1009760.6 | K21: 817979.61 | L21: =(K21-J21)/J21*100 -> -18.992715 | M21: =K21/K$22*100 -> 0.61815447
A22: TOPLAM | B22: =SUM(B9:B21) -> 10461382 | C22: =SUM(C9:C21) -> 10790236 | D22: =(C22-B22)/B22*100 -> 3.1435011 | E22: =C22/C$22*100 -> 100 | F22: =SUM(F9:F21) -> 21217989 | G22: =SUM(G9:G21) -> 19964475 | H22: =(G22-F22)/F22*100 -> -5.9077876 | I22: =G22/G$22*100 -> 100 | J22: =SUM(J9:J21) -> 1.4829063e+08 | K22: =SUM(K9:K21) -> 1.3232609e+08 | L22: =(K22-J22)/J22*100 -> -10.765716 | M22: =K22/K$22*100 -> 100

Sheet Toplam İhracat  bar gra
C21: * Aylar bazında toplam ihracat grafiğinde 2014 yılı için TUİK rakamları kullanılmıştır.
C22: * Haziran ayı için TİM rakamı kullanılmıştır.

Sheet ULKE
B3: 2016 YILI İHRACATIMIZDA İLK 20 ÜLKE (1.000 $)
B4: ÜLKE | C4: OCAK | D4: ŞUBAT | E4: MART | F4: NİSAN | G4: MAYIS | H4: HAZİRAN | I4: TEMMUZ | J4: AĞUSTOS | K4: EYLÜL | L4: EKİM | M4: KASIM | N4: ARALIK | O4: KÜMÜLATİF | P4: % PAY
A5: 1. | B5: ALMANYA | C5: 1067302.3 | D5: 1145732.3 | E5: 0 | F5: 0 | G5: 0 | H5: 0 | I5: 0 | J5: 0 | K5: 0 | L5: 0 | M5: 0 | N5: 0 | O5: 2213034.7 | P5: =O5/O$26*100 -> 3.3179516
A6: 2. | B6: BİRLEŞİK KRALLIK | C6: 629517.08 | D6: 706367.17 | E6: 0 | F6: 0 | G6: 0 | H6: 0 | I6: 0 | J6: 0 | K6: 0 | L6: 0 | M6: 0 | N6: 0 | O6: 1335884.2 | P6: =O6/O$26*100 -> 2.0028603
A7: 3. | B7: İTALYA | C7: 557752.91 | D7: 589605.22 | E7: 0 | F7: 0 | G7: 0 | H7: 0 | I7: 0 | J7: 0 | K7: 0 | L7: 0 | M7: 0 | N7: 0 | O7: 1147358.1 | P7: =O7/O$26*100 -> 1.7202074
A8: 4. | B8: IRAK | C8: 439195.23 | D8: 689612.64 | E8: 0 | F8: 0 | G8: 0 | H8: 0 | I8: 0 | J8: 0 | K8: 0 | L8: 0 | M8: 0 | N8: 0 | O8: 1128807.9 | P8: =O8/O$26*100 -> 1.6923955
A9: 5. | B9: FRANSA | C9: 415161.16 | D9: 512810.18 | E9: 0 | F9: 0 | G9: 0 | H9: 0 | I9: 0 | J9: 0 | K9: 0 | L9: 0 | M9: 0 | N9: 0 | O9: 927971.34 | P9: =O9/O$26*100 -> 1.3912859
A10: 6. | B10: BİRLEŞİK DEVLETLER | C10: 448719.29 | D10: 476479.04 | E10: 0 | F10: 0 | G10: 0 | H10: 0 | I10: 0 | J10: 0 | K10: 0 | L10: 0 | M10: 0 | N10: 0 | O10: 925198.33 | P10: =O10/O$26*100 -> 1.3871284
A11: 7. | B11: İSPANYA | C11: 377647.11 | D11: 423066.35 | E11: 0 | F11: 0 | G11: 0 | H11: 0 | I11: 0 | J11: 0 | K11: 0 | L11: 0 | M11: 0 | N11: 0 | O11: 800713.46 | P11: =O11/O$26*100 -> 1.2004911
A12: 8. | B12: İRAN (İSLAM CUM.) | C12: 259952.25 | D12: 298728.34 | E12: 0 | F12: 0 | G12: 0 | H12: 0 | I12: 0 | J12: 0 | K12: 0 | L12: 0 | M12: 0 | N12: 0 | O12: 558680.59 | P12: =O12/O$26*100 -> 0.83761686
A13: 9. | B13: HOLLANDA | C13: 249598.81 | D13: 295144.48 | E13: 0 | F13: 0 | G13: 0 | H13: 0 | I13: 0 | J13: 0 | K13: 0 | L13: 0 | M13: 0 | N13: 0 | O13: 544743.29 | P13: =O13/O$26*100 -> 0.81672099
A14: 10. | B14: MISIR | C14: 243855.71 | D14: 296414.31 | E14: 0 | F14: 0 | G14: 0 | H14: 0 | I14: 0 | J14: 0 | K14: 0 | L14: 0 | M14: 0 | N14: 0 | O14: 540270.03 | P14: =O14/O$26*100 -> 0.81001433
A15: 11. | B15: SUUDİ ARABİSTAN | C15: 264355.27 | D15: 257078.71 | E15: 0 | F15: 0 | G15: 0 | H15: 0 | I15: 0 | J15: 0 | K15: 0 | L15: 0 | M15: 0 | N15: 0 | O15: 521433.98 | P15: =O15/O$26*100 -> 0.78177388
A16: 12. | B16: BİRLEŞİK ARAP EMİRLİKLERİ | C16: 213977.8 | D16: 274284.02 | E16: 0 | F16: 0 | G16: 0 | H16: 0 | I16: 0 | J16: 0 | K16: 0 | L16: 0 | M16: 0 | N16: 0 | O16: 488261.81 | P16: =O16/O$26*100 -> 0.73203962
... A24: 20. | B24: YUNANİSTAN | C24: 110520.45 | D24: 126271.71 | E24: 0 | F24: 0 | G24: 0 | H24: 0 | I24: 0 | J24: 0 | K24: 0 | L24: 0 | M24: 0 | N24: 0 | O24: 236792.16 | P24: =O24/O$26*100 -> 0.355017
B25: İlk 20 Ülke Toplam | O25: =SUM(O5:O24) -> 13774432 | P25: =SUM(P5:P24) -> 20.651687
B26: Genel Toplam | O26: 66698823 | P26: =O26/O$26*100 -> 100

Sheet KARŞL.
A22: * Aylar bazında toplam ihracat grafiğinde TUİK rakamları kullanılmıştır.

Sheet SEKT1
B1: I. TARIM
B2: A. BİTKİSEL ÜRÜNLER

Sheet SEKT2 

Sheet SEKT3 
C2: B. HAYVANSAL ÜRÜNLER
C21: C. AĞAÇ MAMULLERİ VE ORMAN ÜRÜNLERİ

Sheet SEKT4 
B1: II. SANAYİ
B2: A. TARIMA DAYALI İŞLENMİŞ ÜRÜNLER

Sheet SEKT5 
B1: B. KİMYEVİ MADDELER
B18: C. SANAYİ MAMULLERİ

Sheet 2002_2016_AYLIK_IHR
B1: (x1000 $) | C1: OCAK | D1: ŞUBAT | E1: MART | F1: NİSAN | G1: MAYIS | H1: HAZİRAN | I1: TEMMUZ | J1: AGUSTOS | K1: EYLÜL | L1: EKİM | M1: KASIM | N1: ARALIK | O1: TOPLAM
A2: 2016 | B2: I. TARIM | C2: =C4+C6+C8+C10+C12+C14+C16+C18+C20+C22 -> 1456001.9 | D2: =D4+D6+D8+D10+D12+D14+D16+D18+D20+D22 -> 1719438 | O2: =O4+O6+O8+O10+O12+O14+O16+O18+O20+O22 -> 3175439.9
A3: 2015 | B3: I. TARIM | C3: =C5+C7+C9+C11+C13+C15+C17+C19+C21+C23 -> 1817743.1 | D3: =D5+D7+D9+D11+D13+D15+D17+D19+D21+D23 -> 1656363.7 | E3: =E5+E7+E9+E11+E13+E15+E17+E19+E21+E23 -> 1771067.7 | F3: =F5+F7+F9+F11+F13+F15+F17+F19+F21+F23 -> 1708272.2 | G3: =G5+G7+G9+G11+G13+G15+G17+G19+G21+G23 -> 1569394 | H3: =H5+H7+H9+H11+H13+H15+H17+H19+H21+H23 -> 1611866.8 | I3: =I5+I7+I9+I11+I13+I15+I17+I19+I21+I23 -> 1530457 | J3: =J5+J7+J9+J11+J13+J15+J17+J19+J21+J23 -> 1470456.5 | ... O3: =O5+O7+O9+O11+O13+O15+O17+O19+O21+O23 -> 20780264
A4: 2016 | B4: Hububat, Bakliyat, Yağlı Tohumlar ve Mamulleri | C4: 460889.63 | D4: 563401.69 | O4: 1024291.3
A5: 2015 | B5: Hububat, Bakliyat, Yağlı Tohumlar ve Mamulleri | C5: 566120.81 | D5: 491783.75 | E5: 554740.76 | F5: 486976.49 | G5: 480848.67 | H5: 480768.24 | I5: 430668.39 | J5: 459892.18 | K5: 438174 | L5: 587901.38 | M5: 608475.24 | N5: 542266.18 | O5: 6128616.1
A6: 2016 | B6: Yaş Meyve ve Sebze | C6: 133726.31 | D6: 160348.1 | O6: 294074.41
A7: 2015 | B7: Yaş Meyve ve Sebze | C7: 218481.6 | D7: 155554.3 | E7: 152629.23 | F7: 124853.16 | G7: 161353.41 | H7: 181171.54 | I7: 93843.734 | J7: 73244.346 | K7: 111339.69 | L7: 237273.42 | M7: 267011.31 | N7: 309189.84 | O7: 2085945.6
A8: 2016 | B8: Meyve Sebze Mamulleri | C8: 82441.657 | D8: 106744.35 | O8: 189186.01
A9: 2015 | B9: Meyve Sebze Mamulleri | C9: 93026.756 | D9: 98704.324 | E9: 104061.69 | F9: 105917.71 | G9: 96206.019 | H9: 110288.52 | I9: 110605.69 | J9: 109982.81 | K9: 113842.24 | L9: 144637.67 | M9: 128798.29 | N9: 102672.28 | O9: 1318744
A10: 2016 | B10: Kuru Meyve ve Mamulleri | C10: 90598.072 | D10: 106110.97 | O10: 196709.05
A11: 2015 | B11: Kuru Meyve ve Mamulleri | C11: 97812.898 | D11: 94296.117 | E11: 98548.828 | F11: 111139.09 | G11: 85220.711 | H11: 92626.931 | I11: 76554.212 | J11: 89148.744 | K11: 114985.57 | L11: 202183.01 | M11: 151032.34 | N11: 131424.4 | O11: 1344972.8
A12: 2016 | B12: Fındık ve Mamulleri | C12: 179853.27 | D12: 170866.72 | O12: 350719.98
A13: 2015 | B13: Fındık ve Mamulleri | C13: 245531.1 | D13: 231388.25 | E13: 206870.61 | F13: 242419.21 | G13: 215637.55 | H13: 207594.19 | I13: 227390.06 | J13: 152733.69 | K13: 261985.31 | L13: 308389.66 | M13: 255789.56 | N13: 271947.82 | O13: 2827677
A14: 2016 | B14: Zeytin ve Zeytinyağı | C14: 10205.73 | D14: 15968.155 | O14: 26173.884
A15: 2015 | B15: Zeytin ve Zeytinyağı | C15: 16791.807 | D15: 19131.206 | E15: 19111.99 | F15: 18199.157 | G15: 17030.153 | H15: 17736.84 | I15: 12890.333 | J15: 10622.041 | K15: 11021.521 | L15: 13036.694 | M15: 16450.014 | N15: 17468.448 | O15: 189490.2
A16: 2016 | B16: Tütün | C16: 85187.056 | D16: 95303.607 | O16: 180490.66
A17: 2015 | B17: Tütün | C17: 84587.382 | D17: 87419.751 | E17: 105669.32 | F17: 72638.579 | G17: 53359.857 | H17: 54936.205 | I17: 73120.95 | J17: 81940.677 | K17: 58905.846 | L17: 80593.647 | M17: 71026.911 | N17: 94139.503 | O17: 918338.63
A18: 2016 | B18: Süs Bitkileri ve Mam. | C18: 6380.1968 | D18: 10965.511 | O18: 17345.708
A19: 2015 | B19: Süs Bitkileri ve Mam. | C19: 6323.2487 | D19: 8819.9491 | E19: 11241.368 | F19: 10605.655 | G19: 6164.7642 | H19: 2449.9805 | I19: 4008.5603 | J19: 5086.7874 | K19: 5655.7401 | L19: 5397.6899 | M19: 5119.4544 | N19: 6767.9074 | O19: 77641.105
A20: 2016 | B20: Su Ürünleri ve Hayvansal Mamuller | C20: 134470.78 | D20: 143584.65 | O20: 278055.43
A21: 2015 | B21: Su Ürünleri ve Hayvansal Mamuller | C21: 172543.83 | D21: 167106.45 | E21: 171068.19 | F21: 172518.29 | G21: 124616.55 | H21: 109721.82 | I21: 152578.3 | J21: 142097.86 | K21: 126984.5 | L21: 162255.21 | M21: 153949.98 | N21: 157924.19 | O21: 1813365.2
A22: 2016 | B22: Mobilya,Kağıt ve Orman Ürünleri | C22: 272249.22 | D22: 346144.2 | O22: 618393.43
A23: 2015 | B23: Mobilya,Kağıt ve Orman Ürünleri | C23: 316523.64 | D23: 302159.6 | E23: 347125.68 | F23: 363004.83 | G23: 328956.28 | H23: 354572.55 | I23: 348796.78 | J23: 345707.4 | K23: 312600 | L23: 365367.64 | M23: 342284.92 | N23: 348374.45 | O23: 4075473.8
A24: 2016 | B24: II. SANAYİ | C24: =C26+C28+C30+C32+C34+C36+C38+C40+C42+C44+C46+C48+C50+C52+C54+C56 -> 7482727.8 | D24: =D26+D28+D30+D32+D34+D36+D38+D40+D42+D44+D46+D48+D50+D52+D54+D56 -> 8826802.6 | O24: =O26+O28+O30+O32+O34+O36+O38+O40+O42+O44+O46+O48+O50+O52+O54+O56 -> 16309530
A25: 2015 | B25: II. SANAYİ | C25: =C27+C29+C31+C33+C35+C37+C39+C41+C43+C45+C47+C49+C51+C53+C55+C57 -> 8662952.5 | D25: =D27+D29+D31+D33+D35+D37+D39+D41+D43+D45+D47+D49+D51+D53+D55+D57 -> 8523751.4 | E25: =E27+E29+E31+E33+E35+E37+E39+E41+E43+E45+E47+E49+E51+E53+E55+E57 -> 9125915.8 | F25: =F27+F29+F31+F33+F35+F37+F39+F41+F43+F45+F47+F49+F51+F53+F55+F57 -> 9712871.8 | G25: =G27+G29+G31+G33+G35+G37+G39+G41+G43+G45+G47+G49+G51+G53+G55+G57 -> 8807549.1 | H25: =H27+H29+H31+H33+H35+H37+H39+H41+H43+H45+H47+H49+H51+H53+H55+H57 -> 9651610.4 | I25: =I27+I29+I31+I33+I35+I37+I39+I41+I43+I45+I47+I49+I51+I53+I55+I57 -> 8899051.4 | J25: =J27+J29+J31+J33+J35+J37+J39+J41+J43+J45+J47+J49+J51+J53+J55+J57 -> 8630036.2 | ... O25: =O27+O29+O31+O33+O35+O37+O39+O41+O43+O45+O47+O49+O51+O53+O55+O57 -> 1.0890082e+08
A26: 2016 | B26: Tekstil ve Hammaddeleri | C26: 597053.68 | D26: 635138.28 | O26: 1232192
A27: 2015 | B27: Tekstil ve Hammaddeleri | C27: 648202.19 | D27: 609129.11 | E27: 677211.91 | F27: 724118.16 | G27: 652382.11 | H27: 678721.74 | I27: 631016.92 | J27: 639355.89 | K27: 648709.87 | L27: 754576.17 | M27: 659372.62 | N27: 628195.74 | O27: 7950992.4
A28: 2016 | B28: Deri ve Deri Mamulleri | C28: 88444.068 | D28: 108553.68 | O28: 196997.74
A29: 2015 | B29: Deri ve Deri Mamulleri | C29: 112829.99 | D29: 115694.83 | E29: 144240.39 | F29: 146077.59 | G29: 117698.3 | H29: 115520.92 | I29: 118450.15 | J29: 134005.96 | K29: 117160.12 | L29: 126353.16 | M29: 111875.76 | N29: 108367.28 | O29: 1468274.5
A30: 2016 | B30: Halı | C30: 129552.68 | D30: 155418.9 | O30: 284971.59
A31: 2015 | B31: Halı | C31: 143592.34 | D31: 147034.17 | E31: 167697.6 | F31: 177976.83 | G31: 169615.88 | H31: 192780.13 | I31: 146386.1 | J31: 168403.69 | K31: 165188.11 | L31: 188759.18 | M31: 175258.42 | N31: 172944.42 | O31: 2015636.9
A32: 2016 | B32: Kimyevi Maddeler ve Mamulleri | C32: 1000611.7 | D32: 1144659.6 | O32: 2145271.3
A33: 2015 | B33: Kimyevi Maddeler ve Mamulleri | C33: 1197775 | D33: 1176291.8 | E33: 1342866.5 | F33: 1439452.9 | G33: 1377754.2 | H33: 1417027.5 | I33: 1310536.4 | J33: 1185864.5 | K33: 1089088 | L33: 1305337.3 | M33: 1296806.7 | N33: 1263985.8 | O33: 15402786
A34: 2016 | B34: Hazırgiyim ve Konfeksiyon | C34: 1321484.5 | D34: 1424936.5 | O34: 2746421.1
A35: 2015 | B35: Hazırgiyim ve Konfeksiyon | C35: 1383350.1 | D35: 1264257.8 | E35: 1324663.6 | F35: 1384804 | G35: 1342589.3 | H35: 1456404.9 | I35: 1490094.7 | J35: 1541517.8 | K35: 1386864.7 | L35: 1589947.1 | M35: 1405314.3 | N35: 1390295.9 | O35: 16960104
A36: 2016 | B36: Otomotiv Endüstrisi | C36: 1512838.6 | D36: 1985993.9 | O36: 3498832.5
A37: 2015 | B37: Otomotiv Endüstrisi | C37: 1728185.6 | D37: 1703300.5 | E37: 1770417.7 | F37: 1835673.8 | G37: 1480106.2 | H37: 1969958.9 | I37: 1641993.7 | J37: 1361432.8 | K37: 1872660.6 | L37: 2024850.8 | M37: 1916220.2 | N37: 1847805.3 | O37: 21152606
A38: 2016 | B38: Gemi ve Yat | C38: 41417.512 | D38: 60080.299 | O38: 101497.81
A39: 2015 | B39: Gemi ve Yat | C39: 43975.631 | D39: 77870.874 | E39: 46982.887 | F39: 103764.36 | G39: 116960.59 | H39: 53593.841 | I39: 148860.66 | J39: 123107.68 | K39: 75751.284 | L39: 75632.592 | M39: 102000.23 | N39: 61359.294 | O39: 1029859.9
A40: 2016 | B40: Elektrik Elektronik ve Hizmet | C40: 629915.8 | D40: 807630.4 | O40: 1437546.2
...
