Workbook

Sheet SEKTOR_USD
B1: 1 - 31 OCAK İHRACAT RAKAMLARI
A5: SEKTÖREL BAZDA İHRACAT RAKAMLARI -1.000 $
B6: 1 - 31 OCAK | F6: 1 OCAK - 31 OCAK | J6: SON 12 AYLIK
A7: SEKTÖRLER | B7: 2022 | C7: 2023 | D7: Değişim ('23/'22) | E7: Pay(23) (%) | F7: 2022 | G7: 2023 | H7: Değişim ('23/'22) | I7: Pay(23) (%) | J7: 2021 - 2022 | K7: 2022 - 2023 | L7: Değişim ('23/'22) | M7: Pay(23) (%)
A8: I. TARIM | B8: =B9+B18+B20 -> 2549930.8 | C8: =C9+C18+C20 -> 2875570.6 | D8: =(C8-B8)/B8*100 -> 12.770537 | E8: =C8/C$46*100 -> 14.840925 | F8: =F9+F18+F20 -> 2549930.8 | G8: =G9+G18+G20 -> 2875570.6 | H8: =(G8-F8)/F8*100 -> 12.770537 | I8: =G8/G$46*100 -> 14.840925 | J8: =J9+J18+J20 -> 30197145 | K8: =K9+K18+K20 -> 34560461 | L8: =(K8-J8)/J8*100 -> 14.449433 | M8: =K8/K$46*100 -> 13.500498
A9: A. BİTKİSEL ÜRÜNLER | B9: =B10+B11+B12+B13+B14+B15+B16+B17 -> 1692138.4 | C9: =C10+C11+C12+C13+C14+C15+C16+C17 -> 1976634.2 | D9: =(C9-B9)/B9*100 -> 16.812794 | E9: =C9/C$46*100 -> 10.201481 | F9: =F10+F11+F12+F13+F14+F15+F16+F17 -> 1692138.4 | G9: =G10+G11+G12+G13+G14+G15+G16+G17 -> 1976634.2 | H9: =(G9-F9)/F9*100 -> 16.812794 | I9: =G9/G$46*100 -> 10.201481 | J9: =J10+J11+J12+J13+J14+J15+J16+J17 -> 19621446 | K9: =K10+K11+K12+K13+K14+K15+K16+K17 -> 22016458 | L9: =(K9-J9)/J9*100 -> 12.206095 | M9: =K9/K$46*100 -> 8.6003816
A10: Hububat, Bakliyat, Yağlı Tohumlar ve Mamulleri | B10: 829221.51 | C10: 989464.67 | D10: =(C10-B10)/B10*100 -> 19.32453 | E10: =C10/C$46*100 -> 5.1066634 | F10: 829221.51 | G10: 989464.67 | H10: =(G10-F10)/F10*100 -> 19.32453 | I10: =G10/G$46*100 -> 5.1066634 | J10: 9376504.6 | K10: 11631147 | L10: =(K10-J10)/J10*100 -> 24.045662 | M10: =K10/K$46*100 -> 4.5435239
A11: Yaş Meyve ve Sebze | B11: 284427.63 | C11: 325100.64 | D11: =(C11-B11)/B11*100 -> 14.299952 | E11: =C11/C$46*100 -> 1.6778563 | F11: 284427.63 | G11: 325100.64 | H11: =(G11-F11)/F11*100 -> 14.299952 | I11: =G11/G$46*100 -> 1.6778563 | J11: 3086672.3 | K11: 2992961.9 | L11: =(K11-J11)/J11*100 -> -3.0359693 | M11: =K11/K$46*100 -> 1.1691533
A12: Meyve Sebze Mamulleri | B12: 172966.69 | C12: 170739.85 | D12: =(C12-B12)/B12*100 -> -1.287435 | E12: =C12/C$46*100 -> 0.88119464 | F12: 172966.69 | G12: 170739.85 | H12: =(G12-F12)/F12*100 -> -1.287435 | I12: =G12/G$46*100 -> 0.88119464 | J12: 2070041.1 | K12: 2522942.4 | L12: =(K12-J12)/J12*100 -> 21.878854 | M12: =K12/K$46*100 -> 0.98554758
A13: Kuru Meyve ve Mamulleri | B13: 119386.62 | C13: 128117.14 | D13: =(C13-B13)/B13*100 -> 7.3128117 | E13: =C13/C$46*100 -> 0.66121726 | F13: 119386.62 | G13: 128117.14 | H13: =(G13-F13)/F13*100 -> 7.3128117 | I13: =G13/G$46*100 -> 0.66121726 | J13: 1584478.6 | K13: 1581066 | L13: =(K13-J13)/J13*100 -> -0.21537595 | M13: =K13/K$46*100 -> 0.61761845
A14: Fındık ve Mamulleri | B14: 181950.72 | C14: 143380.07 | D14: =(C14-B14)/B14*100 -> -21.198407 | E14: =C14/C$46*100 -> 0.73998979 | F14: 181950.72 | G14: 143380.07 | H14: =(G14-F14)/F14*100 -> -21.198407 | I14: =G14/G$46*100 -> 0.73998979 | J14: 2247126 | K14: 1710983.3 | L14: =(K14-J14)/J14*100 -> -23.859041 | M14: =K14/K$46*100 -> 0.66836859
A15: Zeytin ve Zeytinyağı | B15: 37521.508 | C15: 119781.42 | D15: =(C15-B15)/B15*100 -> 219.23402 | E15: =C15/C$46*100 -> 0.61819628 | F15: 37521.508 | G15: 119781.42 | H15: =(G15-F15)/F15*100 -> 219.23402 | I15: =G15/G$46*100 -> 0.61819628 | J15: 331013.1 | K15: 577888.4 | L15: =(K15-J15)/J15*100 -> 74.581732 | M15: =K15/K$46*100 -> 0.22574297
A16: Tütün | B16: 54248.672 | C16: 86086.11 | D16: =(C16-B16)/B16*100 -> 58.68796 | E16: =C16/C$46*100 -> 0.44429357 | F16: 54248.672 | G16: 86086.11 | H16: =(G16-F16)/F16*100 -> 58.68796 | I16: =G16/G$46*100 -> 0.44429357 | J16: 777608.59 | K16: 860749.64 | L16: =(K16-J16)/J16*100 -> 10.69189 | M16: =K16/K$46*100 -> 0.33623824
A17: Süs Bitkileri ve Mamulleri | B17: 12415.091 | C17: 13964.295 | D17: =(C17-B17)/B17*100 -> 12.478389 | E17: =C17/C$46*100 -> 0.072070236 | F17: 12415.091 | G17: 13964.295 | H17: =(G17-F17)/F17*100 -> 12.478389 | I17: =G17/G$46*100 -> 0.072070236 | J17: 148001.76 | K17: 138719.54 | L17: =(K17-J17)/J17*100 -> -6.2716948 | M17: =K17/K$46*100 -> 0.054188597
A18: B. HAYVANSAL ÜRÜNLER | B18: =B19 -> 300295.32 | C18: =C19 -> 272220.71 | D18: =(C18-B18)/B18*100 -> -9.349 | E18: =C18/C$46*100 -> 1.4049411 | F18: =F19 -> 300295.32 | G18: =G19 -> 272220.71 | H18: =(G18-F18)/F18*100 -> -9.349 | I18: =G18/G$46*100 -> 1.4049411 | J18: =J19 -> 3481661.8 | K18: =K19 -> 4036832.9 | L18: =(K18-J18)/J18*100 -> 15.945578 | M18: =K18/K$46*100 -> 1.576925
A19: Su Ürünleri ve Hayvansal Mamuller | B19: 300295.32 | C19: 272220.71 | D19: =(C19-B19)/B19*100 -> -9.349 | E19: =C19/C$46*100 -> 1.4049411 | F19: 300295.32 | G19: 272220.71 | H19: =(G19-F19)/F19*100 -> -9.349 | I19: =G19/G$46*100 -> 1.4049411 | J19: 3481661.8 | K19: 4036832.9 | L19: =(K19-J19)/J19*100 -> 15.945578 | M19: =K19/K$46*100 -> 1.576925
A20: C. AĞAÇ VE ORMAN ÜRÜNLERİ | B20: =B21 -> 557497.03 | C20: =C21 -> 626715.74 | D20: =(C20-B20)/B20*100 -> 12.415978 | E20: =C20/C$46*100 -> 3.2345029 | F20: =F21 -> 557497.03 | G20: =G21 -> 626715.74 | H20: =(G20-F20)/F20*100 -> 12.415978 | I20: =G20/G$46*100 -> 3.2345029 | J20: =J21 -> 7094037.3 | K20: =K21 -> 8507170.1 | L20: =(K20-J20)/J20*100 -> 19.920007 | M20: =K20/K$46*100 -> 3.3231916
A21: Mobilya, Kağıt ve Orman Ürünleri | B21: 557497.03 | C21: 626715.74 | D21: =(C21-B21)/B21*100 -> 12.415978 | E21: =C21/C$46*100 -> 3.2345029 | F21: 557497.03 | G21: 626715.74 | H21: =(G21-F21)/F21*100 -> 12.415978 | I21: =G21/G$46*100 -> 3.2345029 | J21: 7094037.3 | K21: 8507170.1 | L21: =(K21-J21)/J21*100 -> 19.920007 | M21: =K21/K$46*100 -> 3.3231916
A22: II. SANAYİ | B22: =B23+B27+B29 -> 13086511 | C22: =C23+C27+C29 -> 13674373 | D22: =(C22-B22)/B22*100 -> 4.492116 | E22: =C22/C$46*100 -> 70.573938 | F22: =F23+F27+F29 -> 13086511 | G22: =G23+G27+G29 -> 13674373 | H22: =(G22-F22)/F22*100 -> 4.492116 | I22: =G22/G$46*100 -> 70.573938 | J22: =J23+J27+J29 -> 1.7280019e+08 | K22: =K23+K27+K29 -> 1.8634715e+08 | L22: =(K22-J22)/J22*100 -> 7.8396703 | M22: =K22/K$46*100 -> 72.793571
A23: A. TARIMA DAYALI İŞLENMİŞ ÜRÜNLER | B23: =B24+B25+B26 -> 1146015.2 | C23: =C24+C25+C26 -> 1209197.9 | D23: =(C23-B23)/B23*100 -> 5.5132496 | E23: =C23/C$46*100 -> 6.2407147 | F23: =F24+F25+F26 -> 1146015.2 | G23: =G24+G25+G26 -> 1209197.9 | H23: =(G23-F23)/F23*100 -> 5.5132496 | I23: =G23/G$46*100 -> 6.2407147 | J23: =J24+J25+J26 -> 15122987 | K23: =K24+K25+K26 -> 15231370 | L23: =(K23-J23)/J23*100 -> 0.71668028 | M23: =K23/K$46*100 -> 5.9498941
A24: Tekstil ve Hammaddeleri | B24: 814849.09 | C24: 818844.41 | D24: =(C24-B24)/B24*100 -> 0.49031379 | E24: =C24/C$46*100 -> 4.226086 | F24: 814849.09 | G24: 818844.41 | H24: =(G24-F24)/F24*100 -> 0.49031379 | I24: =G24/G$46*100 -> 4.226086 | J24: 10226550 | K24: 10360719 | L24: =(K24-J24)/J24*100 -> 1.3119594 | M24: =K24/K$46*100 -> 4.047251
A25: Deri ve Deri Mamulleri | B25: 132688.5 | C25: 178765.28 | D25: =(C25-B25)/B25*100 -> 34.725522 | E25: =C25/C$46*100 -> 0.92261416 | F25: 132688.5 | G25: 178765.28 | H25: =(G25-F25)/F25*100 -> 34.725522 | I25: =G25/G$46*100 -> 0.92261416 | J25: 1754447.1 | K25: 2103332.5 | L25: =(K25-J25)/J25*100 -> 19.885776 | M25: =K25/K$46*100 -> 0.82163361
A26: Halı | B26: 198477.64 | C26: 211588.23 | D26: =(C26-B26)/B26*100 -> 6.6055736 | E26: =C26/C$46*100 -> 1.0920146 | F26: 198477.64 | G26: 211588.23 | H26: =(G26-F26)/F26*100 -> 6.6055736 | I26: =G26/G$46*100 -> 1.0920146 | J26: 3141989.4 | K26: 2767319.2 | L26: =(K26-J26)/J26*100 -> -11.924615 | M26: =K26/K$46*100 -> 1.0810095
A27: B. KİMYEVİ MADDELER VE MAM. | B27: =B28 -> 2140818.1 | C27: =C28 -> 2304656.6 | D27: =(C27-B27)/B27*100 -> 7.6530793 | E27: =C27/C$46*100 -> 11.894417 | F27: =F28 -> 2140818.1 | G27: =G28 -> 2304656.6 | H27: =(G27-F27)/F27*100 -> 7.6530793 | I27: =G27/G$46*100 -> 11.894417 | J27: =J28 -> 25917083 | K27: =K28 -> 33666754 | L27: =(K27-J27)/J27*100 -> 29.901784 | M27: =K27/K$46*100 -> 13.151385
A28: Kimyevi Maddeler ve Mamulleri | B28: 2140818.1 | C28: 2304656.6 | D28: =(C28-B28)/B28*100 -> 7.6530793 | E28: =C28/C$46*100 -> 11.894417 | F28: 2140818.1 | G28: 2304656.6 | H28: =(G28-F28)/F28*100 -> 7.6530793 | I28: =G28/G$46*100 -> 11.894417 | J28: 25917083 | K28: 33666754 | L28: =(K28-J28)/J28*100 -> 29.901784 | M28: =K28/K$46*100 -> 13.151385
A29: C. SANAYİ MAMULLERİ | B29: =B30+B31+B32+B33+B34+B35+B36+B37+B38+B39+B40+B41 -> 9799678.1 | C29: =C30+C31+C32+C33+C34+C35+C36+C37+C38+C39+C40+C41 -> 10160518 | D29: =(C29-B29)/B29*100 -> 3.6821626 | E29: =C29/C$46*100 -> 52.438806 | F29: =F30+F31+F32+F33+F34+F35+F36+F37+F38+F39+F40+F41 -> 9799678.1 | G29: =G30+G31+G32+G33+G34+G35+G36+G37+G38+G39+G40+G41 -> 10160518 | H29: =(G29-F29)/F29*100 -> 3.6821626 | I29: =G29/G$46*100 -> 52.438806 | J29: =J30+J31+J32+J33+J34+J35+J36+J37+J38+J39+J40+J41 -> 1.3176012e+08 | K29: =K30+K31+K32+K33+K34+K35+K36+K37+K38+K39+K40+K41 -> 1.3744903e+08 | L29: =(K29-J29)/J29*100 -> 4.3176277 | M29: =K29/K$46*100 -> 53.692292
A30: Hazırgiyim ve Konfeksiyon | B30: 1591577.6 | C30: 1633774.5 | D30: =(C30-B30)/B30*100 -> 2.6512637 | E30: =C30/C$46*100 -> 8.4319699 | F30: 1591577.6 | G30: 1633774.5 | H30: =(G30-F30)/F30*100 -> 2.6512637 | I30: =G30/G$46*100 -> 8.4319699 | J30: 20319283 | K30: 21243328 | L30: =(K30-J30)/J30*100 -> 4.5476255 | M30: =K30/K$46*100 -> 8.2983703
A31: Otomotiv Endüstrisi | B31: 2227605.1 | C31: 2715993.1 | D31: =(C31-B31)/B31*100 -> 21.924355 | E31: =C31/C$46*100 -> 14.01734 | F31: 2227605.1 | G31: 2715993.1 | H31: =(G31-F31)/F31*100 -> 21.924355 | I31: =G31/G$46*100 -> 14.01734 | J31: 29295932 | K31: 31469240 | L31: =(K31-J31)/J31*100 -> 7.4184644 | M31: =K31/K$46*100 -> 12.292961
A32: Gemi, Yat ve Hizmetleri | B32: 70779.796 | C32: 20520.98 | D32: =(C32-B32)/B32*100 -> -71.007292 | E32: =C32/C$46*100 -> 0.10590953 | F32: 70779.796 | G32: 20520.98 | H32: =(G32-F32)/F32*100 -> -71.007292 | I32: =G32/G$46*100 -> 0.10590953 | J32: 1653304.6 | K32: 1402907.1 | L32: =(K32-J32)/J32*100 -> -15.145276 | M32: =K32/K$46*100 -> 0.54802348
A33: Elektrik ve Elektronik | B33: 980376.86 | C33: 1181220 | D33: =(C33-B33)/B33*100 -> 20.486321 | E33: =C33/C$46*100 -> 6.0963197 | F33: 980376.86 | G33: 1181220 | H33: =(G33-F33)/F33*100 -> 20.486321 | I33: =G33/G$46*100 -> 6.0963197 | J33: 14246897 | K33: 15374813 | L33: =(K33-J33)/J33*100 -> 7.9169205 | M33: =K33/K$46*100 -> 6.0059278
A34: Makine ve Aksamları | B34: 711437.16 | C34: 845229.7 | D34: =(C34-B34)/B34*100 -> 18.805954 | E34: =C34/C$46*100 -> 4.3622614 | F34: 711437.16 | G34: 845229.7 | H34: =(G34-F34)/F34*100 -> 18.805954 | I34: =G34/G$46*100 -> 4.3622614 | J34: 9471927.1 | K34: 10500209 | L34: =(K34-J34)/J34*100 -> 10.856098 | M34: =K34/K$46*100 -> 4.1017407
A35: Demir ve Demir Dışı Metaller | B35: 1119856.9 | C35: 1051191.3 | D35: =(C35-B35)/B35*100 -> -6.1316462 | E35: =C35/C$46*100 -> 5.4252366 | F35: 1119856.9 | G35: 1051191.3 | H35: =(G35-F35)/F35*100 -> -6.1316462 | I35: =G35/G$46*100 -> 5.4252366 | J35: 12718796 | K35: 14314402 | L35: =(K35-J35)/J35*100 -> 12.545264 | M35: =K35/K$46*100 -> 5.591695
A36: Çelik | B36: 1623915.4 | C36: 1115232.2 | D36: =(C36-B36)/B36*100 -> -31.324489 | E36: =C36/C$46*100 -> 5.7557544 | F36: 1623915.4 | G36: 1115232.2 | H36: =(G36-F36)/F36*100 -> -31.324489 | I36: =G36/G$46*100 -> 5.7557544 | J36: 22817944 | K36: 20538647 | L36: =(K36-J36)/J36*100 -> -9.9890526 | M36: =K36/K$46*100 -> 8.023098
A37: Çimento Cam Seramik ve Toprak Ürünleri | B37: 353650.47 | C37: 361385 | D37: =(C37-B37)/B37*100 -> 2.1870567 | E37: =C37/C$46*100 -> 1.8651212 | F37: 353650.47 | G37: 361385 | H37: =(G37-F37)/F37*100 -> 2.1870567 | I37: =G37/G$46*100 -> 1.8651212 | J37: 4685376.4 | K37: 5456123 | L37: =(K37-J37)/J37*100 -> 16.450045 | M37: =K37/K$46*100 -> 2.1313482
A38: Mücevher | B38: 358948.24 | C38: 419909.46 | D38: =(C38-B38)/B38*100 -> 16.983289 | E38: =C38/C$46*100 -> 2.1671681 | F38: 358948.24 | G38: 419909.46 | H38: =(G38-F38)/F38*100 -> 16.983289 | I38: =G38/G$46*100 -> 2.1671681 | J38: 6819314 | K38: 5914938 | L38: =(K38-J38)/J38*100 -> -13.26198 | M38: =K38/K$46*100 -> 2.3105771
A39: Savunma ve Havacılık Sanayii | B39: 295374.95 | C39: 281475.75 | D39: =(C39-B39)/B39*100 -> -4.7056146 | E39: =C39/C$46*100 -> 1.4527066 | F39: 295374.95 | G39: 281475.75 | H39: =(G39-F39)/F39*100 -> -4.7056146 | I39: =G39/G$46*100 -> 1.4527066 | J39: 3338975.9 | K39: 4350725.3 | L39: =(K39-J39)/J39*100 -> 30.30119 | M39: =K39/K$46*100 -> 1.6995421
A40: İklimlendirme Sanayii | B40: 457957.73 | C40: 525475.3 | D40: =(C40-B40)/B40*100 -> 14.743188 | E40: =C40/C$46*100 -> 2.7119972 | F40: 457957.73 | G40: 525475.3 | H40: =(G40-F40)/F40*100 -> 14.743188 | I40: =G40/G$46*100 -> 2.7119972 | J40: 6250627.6 | K40: 6747161.2 | L40: =(K40-J40)/J40*100 -> 7.9437386 | M40: =K40/K$46*100 -> 2.6356719
A41: Diğer Sanayi Ürünleri | B41: 8197.8487 | C41: 9110.848 | D41: =(C41-B41)/B41*100 -> 11.137059 | E41: =C41/C$46*100 -> 0.04702142 | F41: 8197.8487 | G41: 9110.848 | H41: =(G41-F41)/F41*100 -> 11.137059 | I41: =G41/G$46*100 -> 0.04702142 | J41: 141741.33 | K41: 136536.31 | L41: =(K41-J41)/J41*100 -> -3.6721985 | M41: =K41/K$46*100 -> 0.053335751
A42: III. MADENCİLİK | B42: =B43 -> 497849.9 | C42: =C43 -> 441187.84 | D42: =(C42-B42)/B42*100 -> -11.381353 | E42: =C42/C$46*100 -> 2.2769866 | F42: =F43 -> 497849.9 | G42: =G43 -> 441187.84 | H42: =(G42-F42)/F42*100 -> -11.381353 | I42: =G42/G$46*100 -> 2.2769866 | J42: =J43 -> 6073247.4 | K42: =K43 -> 6402177.9 | L42: =(K42-J42)/J42*100 -> 5.4160566 | M42: =K42/K$46*100 -> 2.5009096
A43: Madencilik Ürünleri | B43: 497849.9 | C43: 441187.84 | D43: =(C43-B43)/B43*100 -> -11.381353 | E43: =C43/C$46*100 -> 2.2769866 | F43: 497849.9 | G43: 441187.84 | H43: =(G43-F43)/F43*100 -> -11.381353 | I43: =G43/G$46*100 -> 2.2769866 | J43: 6073247.4 | K43: 6402177.9 | L43: =(K43-J43)/J43*100 -> 5.4160566 | M43: =K43/K$46*100 -> 2.5009096
...

Sheet SECILMIS_ISTATISTIK
A2: Tablo 1
A3: En yüksek ihracat artışı elde edilen ilk 10 ülke*
A5: ÜLKE (Bin$) | B5: 2022 1 - 31 OCAK | C5: 2023 1 - 31 OCAK | D5: Değ. %
A6: ANDORRA | B6: 0.27728 | C6: 82.54526 | D6: =(C6-B6)/B6 -> 296.69641
A7: SUUDİ ARABİSTAN | B7: 4694.6234 | C7: 202877.19 | D7: =(C7-B7)/B7 -> 42.214795
A8: BURUNDİ | B8: 23.04707 | C8: 654.13082 | D8: =(C8-B8)/B8 -> 27.382385
A9: MALİ | B9: 4864.0746 | C9: 84738.636 | D9: =(C9-B9)/B9 -> 16.421327
A10: PALAU | B10: 4.82 | C10: 38.91818 | D10: =(C10-B10)/B10 -> 7.0743112
A11: FİJİ | B11: 105.24615 | C11: 584.68458 | D11: =(C11-B11)/B11 -> 4.5554011
A12: ST. LUCİA | B12: 34.36576 | C12: 147.58549 | D12: =(C12-B12)/B12 -> 3.2945504
A13: ST. VİNCENT VE GRENADİNES | B13: 115.89121 | C13: 445.16156 | D13: =(C13-B13)/B13 -> 2.8412021
A14: SURİNAM | B14: 1083.5184 | C14: 4124.4557 | D14: =(C14-B14)/B14 -> 2.8065396
A15: TÜRK VE CAİCOS AD. | B15: 17.29763 | C15: 65.76428 | D15: =(C15-B15)/B15 -> 2.8019243
A18: Tablo 2
A19: En fazla ihracat yapılan ilk 10 ülke
A21: ÜLKE (Bin$) | B21: 2022 1 - 31 OCAK | C21: 2023 1 - 31 OCAK | D21: Değ. %
A22: ALMANYA | B22: 1481300.8 | C22: 1594722.3 | D22: =(C22-B22)/B22 -> 0.076568831
A23: ABD | B23: 1088961.3 | C23: 1004881.7 | D23: =(C23-B23)/B23 -> -0.077210811
A24: BİRLEŞİK KRALLIK | B24: 899301.63 | C24: 890934.85 | D24: =(C24-B24)/B24 -> -0.0093036427
A25: İTALYA | B25: 947849.64 | C25: 804437.72 | D25: =(C25-B25)/B25 -> -0.15130239
A26: RUSYA FEDERASYONU | B26: 381857.98 | C26: 797350.06 | D26: =(C26-B26)/B26 -> 1.0880801
A27: İSPANYA | B27: 655952.04 | C27: 766076.2 | D27: =(C27-B27)/B27 -> 0.16788447
A28: FRANSA | B28: 609351.41 | C28: 729168.07 | D28: =(C28-B28)/B28 -> 0.19662983
A29: IRAK | B29: 671979.67 | C29: 671201.25 | D29: =(C29-B29)/B29 -> -0.001158404
A30: HOLLANDA | B30: 553387.89 | C30: 529446.7 | D30: =(C30-B30)/B30 -> -0.043262946
A31: İSRAİL | B31: 519507.1 | C31: 456704.01 | D31: =(C31-B31)/B31 -> -0.12088975
A33: Tablo 3
A34: İhracatını en yüksek oranlı artıran ilk 10 sektör
A36: SEKTÖR (Bin$) | B36: 2022 1 - 31 OCAK | C36: 2023 1 - 31 OCAK | D36: Değ. %
A37: Zeytin ve Zeytinyağı | B37: 37521.508 | C37: 119781.42 | D37: =(C37-B37)/B37 -> 2.1923402
A38: Tütün | B38: 54248.672 | C38: 86086.11 | D38: =(C38-B38)/B38 -> 0.5868796
A39: Deri ve Deri Mamulleri | B39: 132688.5 | C39: 178765.28 | D39: =(C39-B39)/B39 -> 0.34725522
A40: Otomotiv Endüstrisi | B40: 2227605.1 | C40: 2715993.1 | D40: =(C40-B40)/B40 -> 0.21924355
A41: Elektrik ve Elektronik | B41: 980376.86 | C41: 1181220 | D41: =(C41-B41)/B41 -> 0.20486321
A42: Hububat, Bakliyat, Yağlı Tohumlar ve Mamulleri | B42: 829221.51 | C42: 989464.67 | D42: =(C42-B42)/B42 -> 0.1932453
A43: Makine ve Aksamları | B43: 711437.16 | C43: 845229.7 | D43: =(C43-B43)/B43 -> 0.18805954
A44: Mücevher | B44: 358948.24 | C44: 419909.46 | D44: =(C44-B44)/B44 -> 0.16983289
A45: İklimlendirme Sanayii | B45: 457957.73 | C45: 525475.3 | D45: =(C45-B45)/B45 -> 0.14743188
A46: Yaş Meyve ve Sebze | B46: 284427.63 | C46: 325100.64 | D46: =(C46-B46)/B46 -> 0.14299952
A48: Tablo 4
...

Sheet SEKTOR_TL
B1: 2022 İHRACAT RAKAMLARI - TL
A5: SEKTÖREL BAZDA İHRACAT KAYIT RAKAMLARI - 1.000 TL
B6: =SEKTOR_USD!B6 -> 1 - 31 OCAK | F6: =SEKTOR_USD!F6 -> 1 OCAK - 31 OCAK | J6: SON 12 AYLIK
A7: SEKTÖRLER | B7: =SEKTOR_USD!B7 -> 2022 | C7: =SEKTOR_USD!C7 -> 2023 | D7: Değişim ('23/'22) | E7: Pay(23) (%) | H7: Değişim ('23/'22) | I7: Pay(23) (%) | L7: Değişim ('23/'22) | M7: Pay(23) (%)
A8: I. TARIM | B8: =SEKTOR_USD!B8*$B$53 -> 34513482 | C8: =SEKTOR_USD!C8*$C$53 -> 54001535 | D8: =(C8-B8)/B8*100 -> 56.465045 | E8: =C8/C$44*100 -> 16.923951 | F8: =SEKTOR_USD!F8*$B$54 -> 34513482 | G8: =SEKTOR_USD!G8*$C$54 -> 54001535 | H8: =(G8-F8)/F8*100 -> 56.465045 | I8: =G8/G$44*100 -> 16.923951 | J8: =SEKTOR_USD!J8*$B$55 -> 2.8306696e+08 | K8: =SEKTOR_USD!K8*$C$55 -> 5.8700244e+08 | L8: =(K8-J8)/J8*100 -> 107.37229 | M8: =K8/K$44*100 -> 15.204123
A9: A. BİTKİSEL ÜRÜNLER | B9: =SEKTOR_USD!B9*$B$53 -> 22903206 | C9: =SEKTOR_USD!C9*$C$53 -> 37120034 | D9: =(C9-B9)/B9*100 -> 62.073531 | E9: =C9/C$44*100 -> 11.633329 | F9: =SEKTOR_USD!F9*$B$54 -> 22903206 | G9: =SEKTOR_USD!G9*$C$54 -> 37120034 | H9: =(G9-F9)/F9*100 -> 62.073531 | I9: =G9/G$44*100 -> 11.633329 | J9: =SEKTOR_USD!J9*$B$55 -> 1.8393073e+08 | K9: =SEKTOR_USD!K9*$C$55 -> 3.7394509e+08 | L9: =(K9-J9)/J9*100 -> 103.30756 | M9: =K9/K$44*100 -> 9.6856621
A10: =SEKTOR_USD!A10 -> Hububat, Bakliyat, Yağlı Tohumlar ve Mamulleri | B10: =SEKTOR_USD!B10*$B$53 -> 11223568 | C10: =SEKTOR_USD!C10*$C$53 -> 18581568 | D10: =(C10-B10)/B10*100 -> 65.558473 | E10: =C10/C$44*100 -> 5.8234184 | F10: =SEKTOR_USD!F10*$B$54 -> 11223568 | G10: =SEKTOR_USD!G10*$C$54 -> 18581568 | H10: =(G10-F10)/F10*100 -> 65.558473 | I10: =G10/G$44*100 -> 5.8234184 | J10: =SEKTOR_USD!J10*$B$55 -> 87895019 | K10: =SEKTOR_USD!K10*$C$55 -> 1.9755268e+08 | L10: =(K10-J10)/J10*100 -> 124.75981 | M10: =K10/K$44*100 -> 5.1168703
A11: =SEKTOR_USD!A11 -> Yaş Meyve ve Sebze | B11: =SEKTOR_USD!B11*$B$53 -> 3849746.7 | C11: =SEKTOR_USD!C11*$C$53 -> 6105199.9 | D11: =(C11-B11)/B11*100 -> 58.587054 | E11: =C11/C$44*100 -> 1.9133549 | F11: =SEKTOR_USD!F11*$B$54 -> 3849746.7 | G11: =SEKTOR_USD!G11*$C$54 -> 6105199.9 | H11: =(G11-F11)/F11*100 -> 58.587054 | I11: =G11/G$44*100 -> 1.9133549 | J11: =SEKTOR_USD!J11*$B$55 -> 28934356 | K11: =SEKTOR_USD!K11*$C$55 -> 50834852 | L11: =(K11-J11)/J11*100 -> 75.690283 | M11: =K11/K$44*100 -> 1.3166885
A12: =SEKTOR_USD!A12 -> Meyve Sebze Mamulleri | B12: =SEKTOR_USD!B12*$B$53 -> 2341115.5 | C12: =SEKTOR_USD!C12*$C$53 -> 3206394.6 | D12: =(C12-B12)/B12*100 -> 36.960117 | E12: =C12/C$44*100 -> 1.0048763 | F12: =SEKTOR_USD!F12*$B$54 -> 2341115.5 | G12: =SEKTOR_USD!G12*$C$54 -> 3206394.6 | H12: =(G12-F12)/F12*100 -> 36.960117 | I12: =G12/G$44*100 -> 1.0048763 | J12: =SEKTOR_USD!J12*$B$55 -> 19404491 | K12: =SEKTOR_USD!K12*$C$55 -> 42851666 | L12: =(K12-J12)/J12*100 -> 120.83375 | M12: =K12/K$44*100 -> 1.1099136
A13: =SEKTOR_USD!A13 -> Kuru Meyve ve Mamulleri | B13: =SEKTOR_USD!B13*$B$53 -> 1615905.8 | C13: =SEKTOR_USD!C13*$C$53 -> 2405965 | D13: =(C13-B13)/B13*100 -> 48.892649 | E13: =C13/C$44*100 -> 0.75402362 | F13: =SEKTOR_USD!F13*$B$54 -> 1615905.8 | G13: =SEKTOR_USD!G13*$C$54 -> 2405965 | H13: =(G13-F13)/F13*100 -> 48.892649 | I13: =G13/G$44*100 -> 0.75402362 | J13: =SEKTOR_USD!J13*$B$55 -> 14852846 | K13: =SEKTOR_USD!K13*$C$55 -> 26854086 | L13: =(K13-J13)/J13*100 -> 80.80095 | M13: =K13/K$44*100 -> 0.6955556
A14: =SEKTOR_USD!A14 -> Fındık ve Mamulleri | B14: =SEKTOR_USD!B14*$B$53 -> 2462715.1 | C14: =SEKTOR_USD!C14*$C$53 -> 2692593.8 | D14: =(C14-B14)/B14*100 -> 9.3343634 | E14: =C14/C$44*100 -> 0.84385241 | F14: =SEKTOR_USD!F14*$B$54 -> 2462715.1 | G14: =SEKTOR_USD!G14*$C$54 -> 2692593.8 | H14: =(G14-F14)/F14*100 -> 9.3343634 | I14: =G14/G$44*100 -> 0.84385241 | J14: =SEKTOR_USD!J14*$B$55 -> 21064479 | K14: =SEKTOR_USD!K14*$C$55 -> 29060705 | L14: =(K14-J14)/J14*100 -> 37.960712 | M14: =K14/K$44*100 -> 0.7527099
A15: =SEKTOR_USD!A15 -> Zeytin ve Zeytinyağı | B15: =SEKTOR_USD!B15*$B$53 -> 507856.08 | C15: =SEKTOR_USD!C15*$C$53 -> 2249425 | D15: =(C15-B15)/B15*100 -> 342.92567 | E15: =C15/C$44*100 -> 0.70496435 | F15: =SEKTOR_USD!F15*$B$54 -> 507856.08 | G15: =SEKTOR_USD!G15*$C$54 -> 2249425 | H15: =(G15-F15)/F15*100 -> 342.92567 | I15: =G15/G$44*100 -> 0.70496435 | J15: =SEKTOR_USD!J15*$B$55 -> 3102904.9 | K15: =SEKTOR_USD!K15*$C$55 -> 9815317.5 | L15: =(K15-J15)/J15*100 -> 216.32672 | M15: =K15/K$44*100 -> 0.25422943
A16: =SEKTOR_USD!A16 -> Tütün | B16: =SEKTOR_USD!B16*$B$53 -> 734259.35 | C16: =SEKTOR_USD!C16*$C$53 -> 1616646.8 | D16: =(C16-B16)/B16*100 -> 120.17381 | E16: =C16/C$44*100 -> 0.5066532 | F16: =SEKTOR_USD!F16*$B$54 -> 734259.35 | G16: =SEKTOR_USD!G16*$C$54 -> 1616646.8 | H16: =(G16-F16)/F16*100 -> 120.17381 | I16: =G16/G$44*100 -> 0.5066532 | J16: =SEKTOR_USD!J16*$B$55 -> 7289275.1 | K16: =SEKTOR_USD!K16*$C$55 -> 14619658 | L16: =(K16-J16)/J16*100 -> 100.56395 | M16: =K16/K$44*100 -> 0.37866808
A17: =SEKTOR_USD!A17 -> Süs Bitkileri ve Mamulleri | B17: =SEKTOR_USD!B17*$B$53 -> 168039.08 | C17: =SEKTOR_USD!C17*$C$53 -> 262241.28 | D17: =(C17-B17)/B17*100 -> 56.059701 | E17: =C17/C$44*100 -> 0.082185785 | F17: =SEKTOR_USD!F17*$B$54 -> 168039.08 | G17: =SEKTOR_USD!G17*$C$54 -> 262241.28 | H17: =(G17-F17)/F17*100 -> 56.059701 | I17: =G17/G$44*100 -> 0.082185785 | J17: =SEKTOR_USD!J17*$B$55 -> 1387363.2 | K17: =SEKTOR_USD!K17*$C$55 -> 2356123.3 | L17: =(K17-J17)/J17*100 -> 69.827434 | M17: =K17/K$44*100 -> 0.061026646
A18: B. HAYVANSAL ÜRÜNLER | B18: =SEKTOR_USD!B18*$B$53 -> 4064517 | C18: =SEKTOR_USD!C18*$C$53 -> 5112145.7 | D18: =(C18-B18)/B18*100 -> 25.774987 | E18: =C18/C$44*100 -> 1.6021341 | F18: =SEKTOR_USD!F18*$B$54 -> 4064517 | G18: =SEKTOR_USD!G18*$C$54 -> 5112145.7 | H18: =(G18-F18)/F18*100 -> 25.774987 | I18: =G18/G$44*100 -> 1.6021341 | J18: =SEKTOR_USD!J18*$B$55 -> 32636973 | K18: =SEKTOR_USD!K18*$C$55 -> 68564790 | L18: =(K18-J18)/J18*100 -> 110.08318 | M18: =K18/K$44*100 -> 1.7759168
A19: =SEKTOR_USD!A19 -> Su Ürünleri ve Hayvansal Mamuller | B19: =SEKTOR_USD!B19*$B$53 -> 4064517 | C19: =SEKTOR_USD!C19*$C$53 -> 5112145.7 | D19: =(C19-B19)/B19*100 -> 25.774987 | E19: =C19/C$44*100 -> 1.6021341 | F19: =SEKTOR_USD!F19*$B$54 -> 4064517 | G19: =SEKTOR_USD!G19*$C$54 -> 5112145.7 | H19: =(G19-F19)/F19*100 -> 25.774987 | I19: =G19/G$44*100 -> 1.6021341 | J19: =SEKTOR_USD!J19*$B$55 -> 32636973 | K19: =SEKTOR_USD!K19*$C$55 -> 68564790 | L19: =(K19-J19)/J19*100 -> 110.08318 | M19: =K19/K$44*100 -> 1.7759168
A20: C. AĞAÇ VE ORMAN ÜRÜNLERİ | B20: =SEKTOR_USD!B20*$B$53 -> 7545759.1 | C20: =SEKTOR_USD!C20*$C$53 -> 11769355 | D20: =(C20-B20)/B20*100 -> 55.973107 | E20: =C20/C$44*100 -> 3.6884874 | F20: =SEKTOR_USD!F20*$B$54 -> 7545759.1 | G20: =SEKTOR_USD!G20*$C$54 -> 11769355 | H20: =(G20-F20)/F20*100 -> 55.973107 | I20: =G20/G$44*100 -> 3.6884874 | J20: =SEKTOR_USD!J20*$B$55 -> 66499252 | K20: =SEKTOR_USD!K20*$C$55 -> 1.4449256e+08 | L20: =(K20-J20)/J20*100 -> 117.28449 | M20: =K20/K$44*100 -> 3.7425445
A21: =SEKTOR_USD!A21 -> Mobilya, Kağıt ve Orman Ürünleri | B21: =SEKTOR_USD!B21*$B$53 -> 7545759.1 | C21: =SEKTOR_USD!C21*$C$53 -> 11769355 | D21: =(C21-B21)/B21*100 -> 55.973107 | E21: =C21/C$44*100 -> 3.6884874 | F21: =SEKTOR_USD!F21*$B$54 -> 7545759.1 | G21: =SEKTOR_USD!G21*$C$54 -> 11769355 | H21: =(G21-F21)/F21*100 -> 55.973107 | I21: =G21/G$44*100 -> 3.6884874 | J21: =SEKTOR_USD!J21*$B$55 -> 66499252 | K21: =SEKTOR_USD!K21*$C$55 -> 1.4449256e+08 | L21: =(K21-J21)/J21*100 -> 117.28449 | M21: =K21/K$44*100 -> 3.7425445
A22: II. SANAYİ | B22: =SEKTOR_USD!B22*$B$53 -> 1.771268e+08 | C22: =SEKTOR_USD!C22*$C$53 -> 2.5679672e+08 | D22: =(C22-B22)/B22*100 -> 44.979035 | E22: =C22/C$44*100 -> 80.479472 | F22: =SEKTOR_USD!F22*$B$54 -> 1.771268e+08 | G22: =SEKTOR_USD!G22*$C$54 -> 2.5679672e+08 | H22: =(G22-F22)/F22*100 -> 44.979035 | I22: =G22/G$44*100 -> 80.479472 | J22: =SEKTOR_USD!J22*$B$55 -> 1.6198228e+09 | K22: =SEKTOR_USD!K22*$C$55 -> 3.1650687e+09 | L22: =(K22-J22)/J22*100 -> 95.395984 | M22: =K22/K$44*100 -> 81.979378
A23: A. TARIMA DAYALI İŞLENMİŞ ÜRÜNLER | B23: =SEKTOR_USD!B23*$B$53 -> 15511392 | C23: =SEKTOR_USD!C23*$C$53 -> 22708030 | D23: =(C23-B23)/B23*100 -> 46.395821 | E23: =C23/C$44*100 -> 7.1166416 | F23: =SEKTOR_USD!F23*$B$54 -> 15511392 | G23: =SEKTOR_USD!G23*$C$54 -> 22708030 | H23: =(G23-F23)/F23*100 -> 46.395821 | I23: =G23/G$44*100 -> 7.1166416 | J23: =SEKTOR_USD!J23*$B$55 -> 1.4176234e+08 | K23: =SEKTOR_USD!K23*$C$55 -> 2.5870174e+08 | L23: =(K23-J23)/J23*100 -> 82.489754 | M23: =K23/K$44*100 -> 6.7007101
A24: =SEKTOR_USD!A24 -> Tekstil ve Hammaddeleri | B24: =SEKTOR_USD!B24*$B$53 -> 11029036 | C24: =SEKTOR_USD!C24*$C$53 -> 15377419 | D24: =(C24-B24)/B24*100 -> 39.426679 | E24: =C24/C$44*100 -> 4.819246 | F24: =SEKTOR_USD!F24*$B$54 -> 11029036 | G24: =SEKTOR_USD!G24*$C$54 -> 15377419 | H24: =(G24-F24)/F24*100 -> 39.426679 | I24: =G24/G$44*100 -> 4.819246 | J24: =SEKTOR_USD!J24*$B$55 -> 95863318 | K24: =SEKTOR_USD!K24*$C$55 -> 1.7597471e+08 | L24: =(K24-J24)/J24*100 -> 83.568347 | M24: =K24/K$44*100 -> 4.5579728
A25: =SEKTOR_USD!A25 -> Deri ve Deri Mamulleri | B25: =SEKTOR_USD!B25*$B$53 -> 1795947.7 | C25: =SEKTOR_USD!C25*$C$53 -> 3357107.4 | D25: =(C25-B25)/B25*100 -> 86.926794 | E25: =C25/C$44*100 -> 1.0521094 | F25: =SEKTOR_USD!F25*$B$54 -> 1795947.7 | G25: =SEKTOR_USD!G25*$C$54 -> 3357107.4 | H25: =(G25-F25)/F25*100 -> 86.926794 | I25: =G25/G$44*100 -> 1.0521094 | J25: =SEKTOR_USD!J25*$B$55 -> 16446124 | K25: =SEKTOR_USD!K25*$C$55 -> 35724677 | L25: =(K25-J25)/J25*100 -> 117.22247 | M25: =K25/K$44*100 -> 0.9253154
A26: =SEKTOR_USD!A26 -> Halı | B26: =SEKTOR_USD!B26*$B$53 -> 2686408 | C26: =SEKTOR_USD!C26*$C$53 -> 3973503.1 | D26: =(C26-B26)/B26*100 -> 47.911381 | E26: =C26/C$44*100 -> 1.2452863 | F26: =SEKTOR_USD!F26*$B$54 -> 2686408 | G26: =SEKTOR_USD!G26*$C$54 -> 3973503.1 | H26: =(G26-F26)/F26*100 -> 47.911381 | I26: =G26/G$44*100 -> 1.2452863 | J26: =SEKTOR_USD!J26*$B$55 -> 29452896 | K26: =SEKTOR_USD!K26*$C$55 -> 47002357 | L26: =(K26-J26)/J26*100 -> 59.58484 | M26: =K26/K$44*100 -> 1.2174219
A27: B. KİMYEVİ MADDELER VE MAM. | B27: =SEKTOR_USD!B27*$B$53 -> 28976114 | C27: =SEKTOR_USD!C27*$C$53 -> 43280103 | D27: =(C27-B27)/B27*100 -> 49.364758 | E27: =C27/C$44*100 -> 13.56388 | F27: =SEKTOR_USD!F27*$B$54 -> 28976114 | G27: =SEKTOR_USD!G27*$C$54 -> 43280103 | H27: =(G27-F27)/F27*100 -> 49.364758 | I27: =G27/G$44*100 -> 13.56388 | J27: =SEKTOR_USD!J27*$B$55 -> 2.4294581e+08 | K27: =SEKTOR_USD!K27*$C$55 -> 5.7182299e+08 | L27: =(K27-J27)/J27*100 -> 135.37059 | M27: =K27/K$44*100 -> 14.810956
A28: =SEKTOR_USD!A28 -> Kimyevi Maddeler ve Mamulleri | B28: =SEKTOR_USD!B28*$B$53 -> 28976114 | C28: =SEKTOR_USD!C28*$C$53 -> 43280103 | D28: =(C28-B28)/B28*100 -> 49.364758 | E28: =C28/C$44*100 -> 13.56388 | F28: =SEKTOR_USD!F28*$B$54 -> 28976114 | G28: =SEKTOR_USD!G28*$C$54 -> 43280103 | H28: =(G28-F28)/F28*100 -> 49.364758 | I28: =G28/G$44*100 -> 13.56388 | J28: =SEKTOR_USD!J28*$B$55 -> 2.4294581e+08 | K28: =SEKTOR_USD!K28*$C$55 -> 5.7182299e+08 | L28: =(K28-J28)/J28*100 -> 135.37059 | M28: =K28/K$44*100 -> 14.810956
A29: C. SANAYİ MAMULLERİ | B29: =SEKTOR_USD!B29*$B$53 -> 1.3263929e+08 | C29: =SEKTOR_USD!C29*$C$53 -> 1.9080859e+08 | D29: =(C29-B29)/B29*100 -> 43.855254 | E29: =C29/C$44*100 -> 59.798951 | F29: =SEKTOR_USD!F29*$B$54 -> 1.3263929e+08 | G29: =SEKTOR_USD!G29*$C$54 -> 1.9080859e+08 | H29: =(G29-F29)/F29*100 -> 43.855254 | I29: =G29/G$44*100 -> 59.798951 | J29: =SEKTOR_USD!J29*$B$55 -> 1.2351146e+09 | K29: =SEKTOR_USD!K29*$C$55 -> 2.3345439e+09 | L29: =(K29-J29)/J29*100 -> 89.014353 | M29: =K29/K$44*100 -> 60.467711
A30: =SEKTOR_USD!A30 -> Hazırgiyim ve Konfeksiyon | B30: =SEKTOR_USD!B30*$B$53 -> 21542107 | C30: =SEKTOR_USD!C30*$C$53 -> 30681329 | D30: =(C30-B30)/B30*100 -> 42.424919 | E30: =C30/C$44*100 -> 9.6154545 | F30: =SEKTOR_USD!F30*$B$54 -> 21542107 | G30: =SEKTOR_USD!G30*$C$54 -> 30681329 | H30: =(G30-F30)/F30*100 -> 42.424919 | I30: =G30/G$44*100 -> 9.6154545 | J30: =SEKTOR_USD!J30*$B$55 -> 1.9047223e+08 | K30: =SEKTOR_USD!K30*$C$55 -> 3.6081362e+08 | L30: =(K30-J30)/J30*100 -> 89.431089 | M30: =K30/K$44*100 -> 9.3455401
A31: =SEKTOR_USD!A31 -> Otomotiv Endüstrisi | B31: =SEKTOR_USD!B31*$B$53 -> 30150782 | C31: =SEKTOR_USD!C31*$C$53 -> 51004762 | D31: =(C31-B31)/B31*100 -> 69.165636 | E31: =C31/C$44*100 -> 15.984769 | F31: =SEKTOR_USD!F31*$B$54 -> 30150782 | G31: =SEKTOR_USD!G31*$C$54 -> 51004762 | H31: =(G31-F31)/F31*100 -> 69.165636 | I31: =G31/G$44*100 -> 15.984769 | J31: =SEKTOR_USD!J31*$B$55 -> 2.7461902e+08 | K31: =SEKTOR_USD!K31*$C$55 -> 5.3449867e+08 | L31: =(K31-J31)/J31*100 -> 94.632796 | M31: =K31/K$44*100 -> 13.844208
A32: =SEKTOR_USD!A32 -> Gemi, Yat ve Hizmetleri | B32: =SEKTOR_USD!B32*$B$53 -> 958009.21 | C32: =SEKTOR_USD!C32*$C$53 -> 385372 | D32: =(C32-B32)/B32*100 -> -59.773665 | E32: =C32/C$44*100 -> 0.12077465 | F32: =SEKTOR_USD!F32*$B$54 -> 958009.21 | G32: =SEKTOR_USD!G32*$C$54 -> 385372 | H32: =(G32-F32)/F32*100 -> -59.773665 | I32: =G32/G$44*100 -> 0.12077465 | J32: =SEKTOR_USD!J32*$B$55 -> 15498018 | K32: =SEKTOR_USD!K32*$C$55 -> 23828093 | L32: =(K32-J32)/J32*100 -> 53.749286 | M32: =K32/K$44*100 -> 0.61717846
A33: =SEKTOR_USD!A33 -> Elektrik ve Elektronik | B33: =SEKTOR_USD!B33*$B$53 -> 13269466 | C33: =SEKTOR_USD!C33*$C$53 -> 22182621 | D33: =(C33-B33)/B33*100 -> 67.170416 | E33: =C33/C$44*100 -> 6.9519798 | F33: =SEKTOR_USD!F33*$B$54 -> 13269466 | G33: =SEKTOR_USD!G33*$C$54 -> 22182621 | H33: =(G33-F33)/F33*100 -> 67.170416 | I33: =G33/G$44*100 -> 6.9519798 | J33: =SEKTOR_USD!J33*$B$55 -> 1.3354991e+08 | K33: =SEKTOR_USD!K33*$C$55 -> 2.6113809e+08 | L33: =(K33-J33)/J33*100 -> 95.535955 | M33: =K33/K$44*100 -> 6.7638146
A34: =SEKTOR_USD!A34 -> Makine ve Aksamları | B34: =SEKTOR_USD!B34*$B$53 -> 9629348.9 | C34: =SEKTOR_USD!C34*$C$53 -> 15872919 | D34: =(C34-B34)/B34*100 -> 64.838968 | E34: =C34/C$44*100 -> 4.9745346 | F34: =SEKTOR_USD!F34*$B$54 -> 9629348.9 | G34: =SEKTOR_USD!G34*$C$54 -> 15872919 | H34: =(G34-F34)/F34*100 -> 64.838968 | I34: =G34/G$44*100 -> 4.9745346 | J34: =SEKTOR_USD!J34*$B$55 -> 88789506 | K34: =SEKTOR_USD!K34*$C$55 -> 1.7834392e+08 | L34: =(K34-J34)/J34*100 -> 100.86149 | M34: =K34/K$44*100 -> 4.6193385
A35: =SEKTOR_USD!A35 -> Demir ve Demir Dışı Metaller | B35: =SEKTOR_USD!B35*$B$53 -> 15157337 | C35: =SEKTOR_USD!C35*$C$53 -> 19740757 | D35: =(C35-B35)/B35*100 -> 30.238949 | E35: =C35/C$44*100 -> 6.1867056 | F35: =SEKTOR_USD!F35*$B$54 -> 15157337 | G35: =SEKTOR_USD!G35*$C$54 -> 19740757 | H35: =(G35-F35)/F35*100 -> 30.238949 | I35: =G35/G$44*100 -> 6.1867056 | J35: =SEKTOR_USD!J35*$B$55 -> 1.1922553e+08 | K35: =SEKTOR_USD!K35*$C$55 -> 2.4312722e+08 | L35: =(K35-J35)/J35*100 -> 103.92211 | M35: =K35/K$44*100 -> 6.2973099
A36: =SEKTOR_USD!A36 -> Çelik | B36: =SEKTOR_USD!B36*$B$53 -> 21979803 | C36: =SEKTOR_USD!C36*$C$53 -> 20943409 | D36: =(C36-B36)/B36*100 -> -4.7152093 | E36: =C36/C$44*100 -> 6.5636138 | F36: =SEKTOR_USD!F36*$B$54 -> 21979803 | G36: =SEKTOR_USD!G36*$C$54 -> 20943409 | H36: =(G36-F36)/F36*100 -> -4.7152093 | I36: =G36/G$44*100 -> 6.5636138 | J36: =SEKTOR_USD!J36*$B$55 -> 2.1389459e+08 | K36: =SEKTOR_USD!K36*$C$55 -> 3.4884477e+08 | L36: =(K36-J36)/J36*100 -> 63.091909 | M36: =K36/K$44*100 -> 9.0355312
A37: =SEKTOR_USD!A37 -> Çimento Cam Seramik ve Toprak Ürünleri | B37: =SEKTOR_USD!B37*$B$53 -> 4786682.4 | C37: =SEKTOR_USD!C37*$C$53 -> 6786599 | D37: =(C37-B37)/B37*100 -> 41.780849 | E37: =C37/C$44*100 -> 2.1269037 | F37: =SEKTOR_USD!F37*$B$54 -> 4786682.4 | G37: =SEKTOR_USD!G37*$C$54 -> 6786599 | H37: =(G37-F37)/F37*100 -> 41.780849 | I37: =G37/G$44*100 -> 2.1269037 | J37: =SEKTOR_USD!J37*$B$55 -> 43920551 | K37: =SEKTOR_USD!K37*$C$55 -> 92671144 | L37: =(K37-J37)/J37*100 -> 110.99722 | M37: =K37/K$44*100 -> 2.4003026
A38: =SEKTOR_USD!A38 -> Mücevher | B38: =SEKTOR_USD!B38*$B$53 -> 4858388.1 | C38: =SEKTOR_USD!C38*$C$53 -> 7885653.9 | D38: =(C38-B38)/B38*100 -> 62.310087 | E38: =C38/C$44*100 -> 2.4713449 | F38: =SEKTOR_USD!F38*$B$54 -> 4858388.1 | G38: =SEKTOR_USD!G38*$C$54 -> 7885653.9 | H38: =(G38-F38)/F38*100 -> 62.310087 | I38: =G38/G$44*100 -> 2.4713449 | J38: =SEKTOR_USD!J38*$B$55 -> 63924006 | K38: =SEKTOR_USD!K38*$C$55 -> 1.0046402e+08 | L38: =(K38-J38)/J38*100 -> 57.161653 | M38: =K38/K$44*100 -> 2.6021483
A39: =SEKTOR_USD!A39 -> Savunma ve Havacılık Sanayii | B39: =SEKTOR_USD!B39*$B$53 -> 3997919.5 | C39: =SEKTOR_USD!C39*$C$53 -> 5285949.9 | D39: =(C39-B39)/B39*100 -> 32.217516 | E39: =C39/C$44*100 -> 1.6566039 | F39: =SEKTOR_USD!F39*$B$54 -> 3997919.5 | G39: =SEKTOR_USD!G39*$C$54 -> 5285949.9 | H39: =(G39-F39)/F39*100 -> 32.217516 | I39: =G39/G$44*100 -> 1.6566039 | J39: =SEKTOR_USD!J39*$B$55 -> 31299441 | K39: =SEKTOR_USD!K39*$C$55 -> 73896189 | L39: =(K39-J39)/J39*100 -> 136.09428 | M39: =K39/K$44*100 -> 1.914007
A40: =SEKTOR_USD!A40 -> İklimlendirme Sanayii | B40: =SEKTOR_USD!B40*$B$53 -> 6198488.1 | C40: =SEKTOR_USD!C40*$C$53 -> 9868118.7 | D40: =(C40-B40)/B40*100 -> 59.202027 | E40: =C40/C$44*100 -> 3.0926446 | F40: =SEKTOR_USD!F40*$B$54 -> 6198488.1 | G40: =SEKTOR_USD!G40*$C$54 -> 9868118.7 | H40: =(G40-F40)/F40*100 -> 59.202027 | I40: =G40/G$44*100 -> 3.0926446 | J40: =SEKTOR_USD!J40*$B$55 -> 58593160 | K40: =SEKTOR_USD!K40*$C$55 -> 1.1459917e+08 | L40: =(K40-J40)/J40*100 -> 95.584547 | M40: =K40/K$44*100 -> 2.9682668
A41: =SEKTOR_USD!A41 -> Diğer Sanayi Ürünleri | B41: =SEKTOR_USD!B41*$B$53 -> 110958.42 | C41: =SEKTOR_USD!C41*$C$53 -> 171096.4 | D41: =(C41-B41)/B41*100 -> 54.198654 | E41: =C41/C$44*100 -> 0.053621198 | F41: =SEKTOR_USD!F41*$B$54 -> 110958.42 | G41: =SEKTOR_USD!G41*$C$54 -> 171096.4 | H41: =(G41-F41)/F41*100 -> 54.198654 | I41: =G41/G$44*100 -> 0.053621198 | J41: =SEKTOR_USD!J41*$B$55 -> 1328678.2 | K41: =SEKTOR_USD!K41*$C$55 -> 2319041.5 | L41: =(K41-J41)/J41*100 -> 74.537492 | M41: =K41/K$44*100 -> 0.060066179
A42: III. MADENCİLİK | B42: =SEKTOR_USD!B42*$B$53 -> 6738431.2 | C42: =SEKTOR_USD!C42*$C$53 -> 8285249.5 | D42: =(C42-B42)/B42*100 -> 22.95517 | E42: =C42/C$44*100 -> 2.5965772 | F42: =SEKTOR_USD!F42*$B$54 -> 6738431.2 | G42: =SEKTOR_USD!G42*$C$54 -> 8285249.5 | H42: =(G42-F42)/F42*100 -> 22.95517 | I42: =G42/G$44*100 -> 2.5965772 | J42: =SEKTOR_USD!J42*$B$55 -> 56930404 | K42: =SEKTOR_USD!K42*$C$55 -> 1.087397e+08 | L42: =(K42-J42)/J42*100 -> 91.00461 | M42: =K42/K$44*100 -> 2.8164989
A43: =SEKTOR_USD!A43 -> Madencilik Ürünleri | B43: =SEKTOR_USD!B43*$B$53 -> 6738431.2 | C43: =SEKTOR_USD!C43*$C$53 -> 8285249.5 | D43: =(C43-B43)/B43*100 -> 22.95517 | E43: =C43/C$44*100 -> 2.5965772 | F43: =SEKTOR_USD!F43*$B$54 -> 6738431.2 | G43: =SEKTOR_USD!G43*$C$54 -> 8285249.5 | H43: =(G43-F43)/F43*100 -> 22.95517 | I43: =G43/G$44*100 -> 2.5965772 | J43: =SEKTOR_USD!J43*$B$55 -> 56930404 | K43: =SEKTOR_USD!K43*$C$55 -> 1.087397e+08 | L43: =(K43-J43)/J43*100 -> 91.00461 | M43: =K43/K$44*100 -> 2.8164989
...

Sheet USDvsTL
A5: İHRACAT ARTIŞI KARŞILAŞTIRMA TABLOSU (USD - TL)
B6: OCAK (2023/2022) | D6: OCAK (2023/2022) | F6: SON 12 AYLIK (2023/2022)
A7: SEKTÖRLER | B7: USD Bazında Artış (%) | C7: TL Bazında Artış (%) | D7: USD Bazında Artış (%) | E7: TL Bazında Artış (%) | F7: USD Bazında Artış (%) | G7: TL Bazında Artış (%)
A8: I. TARIM | B8: =SEKTOR_USD!D8 -> 12.770537 | C8: =SEKTOR_TL!D8 -> 56.465045 | D8: =SEKTOR_USD!H8 -> 12.770537 | E8: =SEKTOR_TL!H8 -> 56.465045 | F8: =SEKTOR_USD!L8 -> 14.449433 | G8: =SEKTOR_TL!L8 -> 107.37229
A9: A. BİTKİSEL ÜRÜNLER | B9: =SEKTOR_USD!D9 -> 16.812794 | C9: =SEKTOR_TL!D9 -> 62.073531 | D9: =SEKTOR_USD!H9 -> 16.812794 | E9: =SEKTOR_TL!H9 -> 62.073531 | F9: =SEKTOR_USD!L9 -> 12.206095 | G9: =SEKTOR_TL!L9 -> 103.30756
A10: Hububat, Bakliyat, Yağlı Tohumlar ve Mam. | B10: =SEKTOR_USD!D10 -> 19.32453 | C10: =SEKTOR_TL!D10 -> 65.558473 | D10: =SEKTOR_USD!H10 -> 19.32453 | E10: =SEKTOR_TL!H10 -> 65.558473 | F10: =SEKTOR_USD!L10 -> 24.045662 | G10: =SEKTOR_TL!L10 -> 124.75981
A11: Yaş Meyve ve Sebze | B11: =SEKTOR_USD!D11 -> 14.299952 | C11: =SEKTOR_TL!D11 -> 58.587054 | D11: =SEKTOR_USD!H11 -> 14.299952 | E11: =SEKTOR_TL!H11 -> 58.587054 | F11: =SEKTOR_USD!L11 -> -3.0359693 | G11: =SEKTOR_TL!L11 -> 75.690283
A12: Meyve Sebze Mamulleri | B12: =SEKTOR_USD!D12 -> -1.287435 | C12: =SEKTOR_TL!D12 -> 36.960117 | D12: =SEKTOR_USD!H12 -> -1.287435 | E12: =SEKTOR_TL!H12 -> 36.960117 | F12: =SEKTOR_USD!L12 -> 21.878854 | G12: =SEKTOR_TL!L12 -> 120.83375
A13: Kuru Meyve ve Mamulleri | B13: =SEKTOR_USD!D13 -> 7.3128117 | C13: =SEKTOR_TL!D13 -> 48.892649 | D13: =SEKTOR_USD!H13 -> 7.3128117 | E13: =SEKTOR_TL!H13 -> 48.892649 | F13: =SEKTOR_USD!L13 -> -0.21537595 | G13: =SEKTOR_TL!L13 -> 80.80095
A14: Fındık ve Mamulleri | B14: =SEKTOR_USD!D14 -> -21.198407 | C14: =SEKTOR_TL!D14 -> 9.3343634 | D14: =SEKTOR_USD!H14 -> -21.198407 | E14: =SEKTOR_TL!H14 -> 9.3343634 | F14: =SEKTOR_USD!L14 -> -23.859041 | G14: =SEKTOR_TL!L14 -> 37.960712
A15: Zeytin ve Zeytinyağı | B15: =SEKTOR_USD!D15 -> 219.23402 | C15: =SEKTOR_TL!D15 -> 342.92567 | D15: =SEKTOR_USD!H15 -> 219.23402 | E15: =SEKTOR_TL!H15 -> 342.92567 | F15: =SEKTOR_USD!L15 -> 74.581732 | G15: =SEKTOR_TL!L15 -> 216.32672
A16: Tütün ve Mamulleri | B16: =SEKTOR_USD!D16 -> 58.68796 | C16: =SEKTOR_TL!D16 -> 120.17381 | D16: =SEKTOR_USD!H16 -> 58.68796 | E16: =SEKTOR_TL!H16 -> 120.17381 | F16: =SEKTOR_USD!L16 -> 10.69189 | G16: =SEKTOR_TL!L16 -> 100.56395
A17: Süs Bitkileri | B17: =SEKTOR_USD!D17 -> 12.478389 | C17: =SEKTOR_TL!D17 -> 56.059701 | D17: =SEKTOR_USD!H17 -> 12.478389 | E17: =SEKTOR_TL!H17 -> 56.059701 | F17: =SEKTOR_USD!L17 -> -6.2716948 | G17: =SEKTOR_TL!L17 -> 69.827434
A18: B. HAYVANSAL ÜRÜNLER | B18: =SEKTOR_USD!D18 -> -9.349 | C18: =SEKTOR_TL!D18 -> 25.774987 | D18: =SEKTOR_USD!H18 -> -9.349 | E18: =SEKTOR_TL!H18 -> 25.774987 | F18: =SEKTOR_USD!L18 -> 15.945578 | G18: =SEKTOR_TL!L18 -> 110.08318
A19: Su Ürünleri ve Hayvansal Mamuller | B19: =SEKTOR_USD!D19 -> -9.349 | C19: =SEKTOR_TL!D19 -> 25.774987 | D19: =SEKTOR_USD!H19 -> -9.349 | E19: =SEKTOR_TL!H19 -> 25.774987 | F19: =SEKTOR_USD!L19 -> 15.945578 | G19: =SEKTOR_TL!L19 -> 110.08318
... A44: T O P L A M | B44: =SEKTOR_USD!D44 -> 5.3106703 | C44: =SEKTOR_TL!D44 -> 46.11475 | D44: =SEKTOR_USD!H44 -> 5.3106703 | E44: =SEKTOR_TL!H44 -> 46.11475 | F44: =SEKTOR_USD!L44 -> 8.7239494 | G44: =SEKTOR_TL!L44 -> 96.99822
A45: İhracatçı Birlikleri Kaydından Muaf İhracat | D45: =SEKTOR_USD!H46 -> 10.379885 | E45: =SEKTOR_TL!H45 -> 30.633028 | F45: =SEKTOR_USD!L46 -> 12.394197 | G45: =SEKTOR_TL!L45 -> 28.851745
A46: T O P L A M | B46: =SEKTOR_USD!#REF! -> #REF! | C46: =SEKTOR_TL!D46 -> #REF! | D46: =SEKTOR_USD!#REF! -> #REF! | E46: =SEKTOR_TL!H46 -> #REF! | F46: =SEKTOR_USD!#REF! -> #REF! | G46: =SEKTOR_TL!L46 -> #REF!
A48: Not: İlgili dönem ortalama MB Dolar Alış Kuru baz alınarak hesaplanmıştır.

Sheet GEN_SEK
C2: 1 - 31 OCAK İHRACAT RAKAMLARI
A6: İHRACATÇI BİRLİKLERİ GENEL SEKRETERLİKLERİ BAZINDA İHRACAT RAKAMLARI (1.000 $)
B7: 1 - 31 OCAK | F7: 1 OCAK - 31 OCAK | J7: SON 12 AYLIK
A8: İHRACATÇI BİRLİKLERİ GENEL SEKRETERLİKLERİ | B8: 2022 | C8: 2023 | D8: Değişim ('23/'22) | E8: Pay(23) (%) | F8: 2022 | G8: 2023 | H8: Değişim ('23/'22) | I8: Pay(23) (%) | J8: 2021 - 2022 | K8: 2022 - 2023 | L8: Değişim ('23/'22) | M8: Pay(23) (%)
A9: İMMİB | B9: 5142156 | C9: 5104502.4 | D9: =(C9-B9)/B9*100 -> -0.73225251 | E9: =C9/C$23*100 -> 30.042158 | F9: 5142156 | G9: 5104502.4 | H9: =(G9-F9)/F9*100 -> -0.73225251 | I9: =G9/G$23*100 -> 30.042158 | J9: 68929714 | K9: 72873217 | L9: =(K9-J9)/J9*100 -> 5.7210505 | M9: =K9/K$23*100 -> 32.058987
A10: UİB | B10: 2352038.5 | C10: 2829745.9 | D10: =(C10-B10)/B10*100 -> 20.310358 | E10: =C10/C$23*100 -> 16.654253 | F10: 2352038.5 | G10: 2829745.9 | H10: =(G10-F10)/F10*100 -> 20.310358 | I10: =G10/G$23*100 -> 16.654253 | J10: 30750199 | K10: 32833131 | L10: =(K10-J10)/J10*100 -> 6.7737174 | M10: =K10/K$23*100 -> 14.444222
A11: OAİB | B11: 1569233.2 | C11: 1878488.5 | D11: =(C11-B11)/B11*100 -> 19.707415 | E11: =C11/C$23*100 -> 11.0557 | F11: 1569233.2 | G11: 1878488.5 | H11: =(G11-F11)/F11*100 -> 19.707415 | I11: =G11/G$23*100 -> 11.0557 | J11: 20020374 | K11: 24523403 | L11: =(K11-J11)/J11*100 -> 22.492233 | M11: =K11/K$23*100 -> 10.788538
A12: İTKİB | B12: 1777223.1 | C12: 1892298.4 | D12: =(C12-B12)/B12*100 -> 6.475006 | E12: =C12/C$23*100 -> 11.136977 | F12: 1777223.1 | G12: 1892298.4 | H12: =(G12-F12)/F12*100 -> 6.475006 | I12: =G12/G$23*100 -> 11.136977 | J12: 22616647 | K12: 24061502 | L12: =(K12-J12)/J12*100 -> 6.3884607 | M12: =K12/K$23*100 -> 10.585335
A13: AKİB | B13: 1408472.9 | C13: 1214505.9 | D13: =(C13-B13)/B13*100 -> -13.771438 | E13: =C13/C$23*100 -> 7.1478816 | F13: 1408472.9 | G13: 1214505.9 | H13: =(G13-F13)/F13*100 -> -13.771438 | I13: =G13/G$23*100 -> 7.1478816 | J13: 16722742 | K13: 19094328 | L13: =(K13-J13)/J13*100 -> 14.181804 | M13: =K13/K$23*100 -> 8.4001344
A14: EİB | B14: 1369703 | C14: 1433970.8 | D14: =(C14-B14)/B14*100 -> 4.6921003 | E14: =C14/C$23*100 -> 8.4395255 | F14: 1369703 | G14: 1433970.8 | H14: =(G14-F14)/F14*100 -> 4.6921003 | I14: =G14/G$23*100 -> 8.4395255 | J14: 16611355 | K14: 18340188 | L14: =(K14-J14)/J14*100 -> 10.407537 | M14: =K14/K$23*100 -> 8.0683669
A15: GAİB | B15: 842939.08 | C15: 942746.23 | D15: =(C15-B15)/B15*100 -> 11.840375 | E15: =C15/C$23*100 -> 5.5484607 | F15: 842939.08 | G15: 942746.23 | H15: =(G15-F15)/F15*100 -> 11.840375 | I15: =G15/G$23*100 -> 5.5484607 | J15: 11758190 | K15: 12442691 | L15: =(K15-J15)/J15*100 -> 5.8214886 | M15: =K15/K$23*100 -> 5.4738915
A16: İİB | B16: 805704.11 | C16: 821660.52 | D16: =(C16-B16)/B16*100 -> 1.98043 | E16: =C16/C$23*100 -> 4.83582 | F16: 805704.11 | G16: 821660.52 | H16: =(G16-F16)/F16*100 -> 1.98043 | I16: =G16/G$23*100 -> 4.83582 | J16: 10041777 | K16: 11511025 | L16: =(K16-J16)/J16*100 -> 14.631361 | M16: =K16/K$23*100 -> 5.0640253
A17: DENİB | B17: 266442.15 | C17: 256283.93 | D17: =(C17-B17)/B17*100 -> -3.8125428 | E17: =C17/C$23*100 -> 1.5083394 | F17: 266442.15 | G17: 256283.93 | H17: =(G17-F17)/F17*100 -> -3.8125428 | I17: =G17/G$23*100 -> 1.5083394 | J17: 3451508.5 | K17: 3492810.4 | L17: =(K17-J17)/J17*100 -> 1.1966337 | M17: =K17/K$23*100 -> 1.536586
A18: BAİB | B18: 200575.74 | C18: 214844.99 | D18: =(C18-B18)/B18*100 -> 7.1141468 | E18: =C18/C$23*100 -> 1.2644537 | F18: 200575.74 | G18: 214844.99 | H18: =(G18-F18)/F18*100 -> 7.1141468 | I18: =G18/G$23*100 -> 1.2644537 | J18: 2541633.1 | K18: 2575671 | L18: =(K18-J18)/J18*100 -> 1.3392137 | M18: =K18/K$23*100 -> 1.1331104
A19: DAİB | B19: 168143.5 | C19: 178533.86 | D19: =(C19-B19)/B19*100 -> 6.1794614 | E19: =C19/C$23*100 -> 1.0507473 | F19: 168143.5 | G19: 178533.86 | H19: =(G19-F19)/F19*100 -> 6.1794614 | I19: =G19/G$23*100 -> 1.0507473 | J19: 2519444 | K19: 2468643 | L19: =(K19-J19)/J19*100 -> -2.0163571 | M19: =K19/K$23*100 -> 1.0860258
A20: KİB | B20: 126012.02 | C20: 121239.39 | D20: =(C20-B20)/B20*100 -> -3.7874376 | E20: =C20/C$23*100 -> 0.71354514 | F20: 126012.02 | G20: 121239.39 | H20: =(G20-F20)/F20*100 -> -3.7874376 | I20: =G20/G$23*100 -> 0.71354514 | J20: 1659103.1 | K20: 1596553.7 | L20: =(K20-J20)/J20*100 -> -3.7700711 | M20: =K20/K$23*100 -> 0.7023691
... A22: HİZMET | B22: 12.82445 | C22: 2383.9802 | D22: =(C22-B22)/B22*100 -> 18489.337 | E22: =C22/C$23*100 -> 0.014030733 | F22: 12.82445 | G22: 2383.9802 | H22: =(G22-F22)/F22*100 -> 18489.337 | I22: =G22/G$23*100 -> 0.014030733 | J22: 21393.642 | K22: 71070.173 | L22: =(K22-J22)/J22*100 -> 232.20231 | M22: =K22/K$23*100 -> 0.031265777
A23: TOPLAM | B23: =SUM(B9:B22) -> 16134292 | C23: =SUM(C9:C22) -> 16991131 | D23: =(C23-B23)/B23*100 -> 5.3106703 | E23: =C23/C$23*100 -> 100 | F23: =SUM(F9:F22) -> 16134292 | G23: =SUM(G9:G22) -> 16991131 | H23: =(G23-F23)/F23*100 -> 5.3106703 | I23: =G23/G$23*100 -> 100 | J23: =SUM(J9:J22) -> 2.0907058e+08 | K23: =SUM(K9:K22) -> 2.2730979e+08 | L23: =(K23-J23)/J23*100 -> 8.7239494 | M23: =K23/K$23*100 -> 100

Sheet Toplam İhracat  bar gra

Sheet ULKE
B3: 2023 YILI İHRACATIMIZDA İLK 20 ÜLKE (1.000 $)
B4: ÜLKE | C4: OCAK | D4: ŞUBAT | E4: MART | F4: NİSAN | G4: MAYIS | H4: HAZİRAN | I4: TEMMUZ | J4: AĞUSTOS | K4: EYLÜL | L4: EKİM | M4: KASIM | N4: ARALIK | O4: KÜMÜLATİF | P4: % PAY
A5: 1. | B5: ALMANYA | C5: 1594722.3 | D5: 0 | E5: 0 | F5: 0 | G5: 0 | H5: 0 | I5: 0 | J5: 0 | K5: 0 | L5: 0 | M5: 0 | N5: 0 | O5: 1594722.3 | P5: =O5/O$26*100 -> 9.3856158
A6: 2. | B6: ABD | C6: 1004881.7 | D6: 0 | E6: 0 | F6: 0 | G6: 0 | H6: 0 | I6: 0 | J6: 0 | K6: 0 | L6: 0 | M6: 0 | N6: 0 | O6: 1004881.7 | P6: =O6/O$26*100 -> 5.9141544
A7: 3. | B7: BİRLEŞİK KRALLIK | C7: 890934.85 | D7: 0 | E7: 0 | F7: 0 | G7: 0 | H7: 0 | I7: 0 | J7: 0 | K7: 0 | L7: 0 | M7: 0 | N7: 0 | O7: 890934.85 | P7: =O7/O$26*100 -> 5.2435287
A8: 4. | B8: İTALYA | C8: 804437.72 | D8: 0 | E8: 0 | F8: 0 | G8: 0 | H8: 0 | I8: 0 | J8: 0 | K8: 0 | L8: 0 | M8: 0 | N8: 0 | O8: 804437.72 | P8: =O8/O$26*100 -> 4.7344565
A9: 5. | B9: RUSYA FEDERASYONU | C9: 797350.06 | D9: 0 | E9: 0 | F9: 0 | G9: 0 | H9: 0 | I9: 0 | J9: 0 | K9: 0 | L9: 0 | M9: 0 | N9: 0 | O9: 797350.06 | P9: =O9/O$26*100 -> 4.6927426
A10: 6. | B10: İSPANYA | C10: 766076.2 | D10: 0 | E10: 0 | F10: 0 | G10: 0 | H10: 0 | I10: 0 | J10: 0 | K10: 0 | L10: 0 | M10: 0 | N10: 0 | O10: 766076.2 | P10: =O10/O$26*100 -> 4.5086827
A11: 7. | B11: FRANSA | C11: 729168.07 | D11: 0 | E11: 0 | F11: 0 | G11: 0 | H11: 0 | I11: 0 | J11: 0 | K11: 0 | L11: 0 | M11: 0 | N11: 0 | O11: 729168.07 | P11: =O11/O$26*100 -> 4.2914628
A12: 8. | B12: IRAK | C12: 671201.25 | D12: 0 | E12: 0 | F12: 0 | G12: 0 | H12: 0 | I12: 0 | J12: 0 | K12: 0 | L12: 0 | M12: 0 | N12: 0 | O12: 671201.25 | P12: =O12/O$26*100 -> 3.9503035
A13: 9. | B13: HOLLANDA | C13: 529446.7 | D13: 0 | E13: 0 | F13: 0 | G13: 0 | H13: 0 | I13: 0 | J13: 0 | K13: 0 | L13: 0 | M13: 0 | N13: 0 | O13: 529446.7 | P13: =O13/O$26*100 -> 3.116018
A14: 10. | B14: İSRAİL | C14: 456704.01 | D14: 0 | E14: 0 | F14: 0 | G14: 0 | H14: 0 | I14: 0 | J14: 0 | K14: 0 | L14: 0 | M14: 0 | N14: 0 | O14: 456704.01 | P14: =O14/O$26*100 -> 2.6878965
A15: 11. | B15: ROMANYA | C15: 444404.78 | D15: 0 | E15: 0 | F15: 0 | G15: 0 | H15: 0 | I15: 0 | J15: 0 | K15: 0 | L15: 0 | M15: 0 | N15: 0 | O15: 444404.78 | P15: =O15/O$26*100 -> 2.6155103
A16: 12. | B16: POLONYA | C16: 438793.84 | D16: 0 | E16: 0 | F16: 0 | G16: 0 | H16: 0 | I16: 0 | J16: 0 | K16: 0 | L16: 0 | M16: 0 | N16: 0 | O16: 438793.84 | P16: =O16/O$26*100 -> 2.5824875
... A24: 20. | B24: İRAN | C24: 191719.71 | D24: 0 | E24: 0 | F24: 0 | G24: 0 | H24: 0 | I24: 0 | J24: 0 | K24: 0 | L24: 0 | M24: 0 | N24: 0 | O24: 191719.71 | P24: =O24/O$26*100 -> 1.1283516
B25: İlk 20 Ülke Toplam | O25: =SUM(O5:O24) -> 11043938 | P25: =SUM(P5:P24) -> 64.998249
B26: Genel Toplam | O26: 16991131 | P26: =O26/O$26*100 -> 100

Sheet KARŞL.
A22: * Aylar bazında toplam ihracat grafiğinde TUİK rakamları kullanılmıştır.

Sheet SEKT1
B1: I. TARIM
B2: A. BİTKİSEL ÜRÜNLER

Sheet SEKT2 

Sheet SEKT3 
C2: B. HAYVANSAL ÜRÜNLER
C21: C. AĞAÇ MAMULLERİ VE ORMAN ÜRÜNLERİ

Sheet SEKT4 
B1: II. SANAYİ
B2: A. TARIMA DAYALI İŞLENMİŞ ÜRÜNLER

Sheet SEKT5 
B1: B. KİMYEVİ MADDELER
B18: C. SANAYİ MAMULLERİ

Sheet 2002_2023_AYLIK_IHR
B1: (x1000 $) | C1: OCAK | D1: ŞUBAT | E1: MART | F1: NİSAN | G1: MAYIS | H1: HAZİRAN | I1: TEMMUZ | J1: AGUSTOS | K1: EYLÜL | L1: EKİM | M1: KASIM | N1: ARALIK | O1: TOPLAM
A2: 2023 | B2: I. TARIM | C2: =C4+C6+C8+C10+C12+C14+C16+C18+C20+C22 -> 2875570.6 | O2: =O4+O6+O8+O10+O12+O14+O16+O18+O20+O22 -> 2875570.6
A3: 2022 | B3: I. TARIM | C3: =C5+C7+C9+C11+C13+C15+C17+C19+C21+C23 -> 2549930.8 | D3: =D5+D7+D9+D11+D13+D15+D17+D19+D21+D23 -> 2742426.3 | E3: =E5+E7+E9+E11+E13+E15+E17+E19+E21+E23 -> 2964255.6 | F3: =F5+F7+F9+F11+F13+F15+F17+F19+F21+F23 -> 2749071.8 | G3: =G5+G7+G9+G11+G13+G15+G17+G19+G21+G23 -> 2408542.1 | H3: =H5+H7+H9+H11+H13+H15+H17+H19+H21+H23 -> 2984763.9 | I3: =I5+I7+I9+I11+I13+I15+I17+I19+I21+I23 -> 2311853.5 | J3: =J5+J7+J9+J11+J13+J15+J17+J19+J21+J23 -> 2760400.3 | ... O3: =O5+O7+O9+O11+O13+O15+O17+O19+O21+O23 -> 34234822
A4: 2023 | B4: Hububat, Bakliyat, Yağlı Tohumlar ve Mamulleri | C4: 989464.67 | O4: 989464.67
A5: 2022 | B5: Hububat, Bakliyat, Yağlı Tohumlar ve Mamulleri | C5: 829221.51 | D5: 938161.2 | E5: 960869.58 | F5: 811694.1 | G5: 865010.54 | H5: 994788.24 | I5: 826260.72 | J5: 993120.16 | K5: 1009533.4 | L5: 1043252 | M5: 1075811.2 | N5: 1123181.4 | O5: 11470904
A6: 2023 | B6: Yaş Meyve ve Sebze | C6: 325100.64 | O6: 325100.64
A7: 2022 | B7: Yaş Meyve ve Sebze | C7: 284427.63 | D7: 253755.52 | E7: 224880.33 | F7: 209879.05 | G7: 189527.82 | H7: 293476.04 | I7: 155047.71 | J7: 154822.78 | K7: 178508.83 | L7: 238895.38 | M7: 354051.86 | N7: 415015.96 | O7: 2952288.9
A8: 2023 | B8: Meyve Sebze Mamulleri | C8: 170739.85 | O8: 170739.85
A9: 2022 | B9: Meyve Sebze Mamulleri | C9: 172966.69 | D9: 202863.35 | E9: 229835.91 | F9: 206672.24 | G9: 157721.86 | H9: 182204.15 | I9: 160742.93 | J9: 235840.42 | K9: 261677.55 | L9: 246335.37 | M9: 231129.65 | N9: 237179.12 | O9: 2525169.2
A10: 2023 | B10: Kuru Meyve ve Mamulleri | C10: 128117.14 | O10: 128117.14
A11: 2022 | B11: Kuru Meyve ve Mamulleri | C11: 119386.62 | D11: 126481.12 | E11: 155085.15 | F11: 138429.82 | G11: 95080.687 | H11: 119344.38 | I11: 74157.958 | J11: 106003.38 | K11: 146740.46 | L11: 177248.46 | M11: 168504.45 | N11: 145873.01 | O11: 1572335.5
A12: 2023 | B12: Fındık ve Mamulleri | C12: 143380.07 | O12: 143380.07
A13: 2022 | B13: Fındık ve Mamulleri | C13: 181950.72 | D13: 165835.79 | E13: 147564.07 | F13: 124825.16 | G13: 99421.29 | H13: 111705.49 | I13: 86058.781 | J13: 91009.194 | K13: 135579.1 | L13: 177683.17 | M13: 224180.25 | N13: 203740.94 | O13: 1749554
A14: 2023 | B14: Zeytin ve Zeytinyağı | C14: 119781.42 | O14: 119781.42
A15: 2022 | B15: Zeytin ve Zeytinyağı | C15: 37521.508 | D15: 46265.332 | E15: 31049.38 | F15: 29631.198 | G15: 21837.589 | H15: 26370.037 | I15: 24070.126 | J15: 29110.842 | K15: 44324.274 | L15: 37818.711 | M15: 64223.612 | N15: 103405.88 | O15: 495628.49
A16: 2023 | B16: Tütün | C16: 86086.11 | O16: 86086.11
A17: 2022 | B17: Tütün | C17: 54248.672 | D17: 55002.359 | E17: 64496.354 | F17: 51947.964 | G17: 53632.734 | H17: 78845.42 | I17: 56311.74 | J17: 88413.106 | K17: 83802.197 | L17: 87581.334 | M17: 75182.486 | N17: 79447.835 | O17: 828912.2
A18: 2023 | B18: Süs Bitkileri ve Mamulleri | C18: 13964.295 | O18: 13964.295
A19: 2022 | B19: Süs Bitkileri ve Mamulleri | C19: 12415.091 | D19: 15693.365 | E19: 17018.631 | F19: 18025.693 | G19: 12424.482 | H19: 9079.7731 | I19: 5411.4848 | J19: 8150.7517 | K19: 7678.1554 | L19: 8254.6919 | M19: 10095.65 | N19: 12922.571 | O19: 137170.34
A20: 2023 | B20: Su Ürünleri ve Hayvansal Mamuller | C20: 272220.71 | O20: 272220.71
A21: 2022 | B21: Su Ürünleri ve Hayvansal Mamuller | C21: 300295.32 | D21: 316201.99 | E21: 381564.51 | F21: 382265.56 | G21: 301401.85 | H21: 369561.76 | I21: 318336.14 | J21: 323036.57 | K21: 355787.52 | L21: 308775.1 | M21: 355465.01 | N21: 352216.19 | O21: 4064907.5
A22: 2023 | B22: Mobilya, Kağıt ve Orman Ürünleri | C22: 626715.74 | O22: 626715.74
A23: 2022 | B23: Mobilya, Kağıt ve Orman Ürünleri | C23: 557497.03 | D23: 622166.26 | E23: 751891.7 | F23: 775701.01 | G23: 612483.21 | H23: 799388.61 | I23: 605455.89 | J23: 730893.08 | K23: 759715.1 | L23: 703092.39 | M23: 763604.66 | N23: 756062.44 | O23: 8437951.4
A24: 2023 | B24: II. SANAYİ | C24: =C26+C28+C30+C32+C34+C36+C38+C40+C42+C44+C46+C48+C50+C52+C54+C56 -> 13674373 | O24: =O26+O28+O30+O32+O34+O36+O38+O40+O42+O44+O46+O48+O50+O52+O54+O56 -> 13674373
A25: 2022 | B25: II. SANAYİ | C25: =C27+C29+C31+C33+C35+C37+C39+C41+C43+C45+C47+C49+C51+C53+C55+C57 -> 13086511 | D25: =D27+D29+D31+D33+D35+D37+D39+D41+D43+D45+D47+D49+D51+D53+D55+D57 -> 14951346 | E25: =E27+E29+E31+E33+E35+E37+E39+E41+E43+E45+E47+E49+E51+E53+E55+E57 -> 17129699 | F25: =F27+F29+F31+F33+F35+F37+F39+F41+F43+F45+F47+F49+F51+F53+F55+F57 -> 17698452 | G25: =G27+G29+G31+G33+G35+G37+G39+G41+G43+G45+G47+G49+G51+G53+G55+G57 -> 14046533 | H25: =H27+H29+H31+H33+H35+H37+H39+H41+H43+H45+H47+H49+H51+H53+H55+H57 -> 17244413 | I25: =I27+I29+I31+I33+I35+I37+I39+I41+I43+I45+I47+I49+I51+I53+I55+I57 -> 13509873 | J25: =J27+J29+J31+J33+J35+J37+J39+J41+J43+J45+J47+J49+J51+J53+J55+J57 -> 15252946 | ... O25: =O27+O29+O31+O33+O35+O37+O39+O41+O43+O45+O47+O49+O51+O53+O55+O57 -> 1.8575929e+08
A26: 2023 | B26: Tekstil ve Hammaddeleri | C26: 818844.41 | O26: 818844.41
A27: 2022 | B27: Tekstil ve Hammaddeleri | C27: 814849.09 | D27: 879853 | E27: 950831.65 | F27: 993023.03 | G27: 766312.75 | H27: 981321.18 | I27: 726692.88 | J27: 834803.69 | K27: 933987.9 | L27: 833418.72 | M27: 843700.2 | N27: 797929.22 | O27: 10356723
A28: 2023 | B28: Deri ve Deri Mamulleri | C28: 178765.28 | O28: 178765.28
A29: 2022 | B29: Deri ve Deri Mamulleri | C29: 132688.5 | D29: 177391.12 | E29: 191688.27 | F29: 187035.6 | G29: 116468.31 | H29: 171948.24 | I29: 155381.47 | J29: 190918.49 | K29: 209891.82 | L29: 168450.19 | M29: 173204.93 | N29: 182188.81 | O29: 2057255.7
A30: 2023 | B30: Halı | C30: 211588.23 | O30: 211588.23
A31: 2022 | B31: Halı | C31: 198477.64 | D31: 251000.23 | E31: 259806.36 | F31: 262164.35 | G31: 157792.49 | H31: 225209.32 | I31: 156147.21 | J31: 224283.59 | K31: 245560.21 | L31: 256688.17 | M31: 256505.15 | N31: 260573.9 | O31: 2754208.6
A32: 2023 | B32: Kimyevi Maddeler ve Mamulleri | C32: 2304656.6 | O32: 2304656.6
A33: 2022 | B33: Kimyevi Maddeler ve Mamulleri | C33: 2140818.1 | D33: 2432142.5 | E33: 3019349.6 | F33: 3329944.5 | G33: 2789449.4 | H33: 3166894.2 | I33: 2890617.7 | J33: 2921520.2 | K33: 2915273.1 | L33: 2602922.8 | M33: 2596672.3 | N33: 2697310.7 | O33: 33502915
A34: 2023 | B34: Hazırgiyim ve Konfeksiyon | C34: 1633774.5 | O34: 1633774.5
A35: 2022 | B35: Hazırgiyim ve Konfeksiyon | C35: 1591577.6 | D35: 1840385.6 | E35: 2014112.1 | F35: 2035761.4 | G35: 1335940.6 | H35: 1965761.8 | I35: 1617670.7 | J35: 1837165.4 | K35: 1921238 | L35: 1703024.6 | M35: 1632528.4 | N35: 1705964.7 | O35: 21201131
A36: 2023 | B36: Otomotiv Endüstrisi | C36: 2715993.1 | O36: 2715993.1
A37: 2022 | B37: Otomotiv Endüstrisi | C37: 2227605.1 | D37: 2538713.4 | E37: 2679518.7 | F37: 2742252.9 | G37: 2295113.4 | H37: 2768865.1 | I37: 2048286.9 | J37: 2264676.3 | K37: 2751432.3 | L37: 2648017 | M37: 2872680.6 | N37: 3143690.5 | O37: 30980852
A38: 2023 | B38: Gemi, Yat ve Hizmetleri | C38: 20520.98 | O38: 20520.98
A39: 2022 | B39: Gemi, Yat ve Hizmetleri | C39: 70779.796 | D39: 67064.579 | E39: 140227.69 | F39: 198881.66 | G39: 100124.43 | H39: 101131.22 | I39: 44156.116 | J39: 77395.489 | K39: 199348.73 | L39: 209572 | M39: 55079.847 | N39: 189404.34 | O39: 1453165.9
A40: 2023 | B40: Elektrik ve Elektronik | C40: 1181220 | O40: 1181220
...
