Workbook

Sheet SEKTOR_USD
B1: 1 - 31 OCAK İHRACAT RAKAMLARI
A5: SEKTÖREL BAZDA İHRACAT RAKAMLARI -1.000 $
B6: 1 - 31 OCAK | F6: 1 OCAK - 31 OCAK | J6: SON 12 AYLIK
A7: SEKTÖRLER | B7: 2024 | C7: 2025 | D7: Değişim ('25/'24) | E7: Pay(25) (%) | F7: 2024 | G7: 2025 | H7: Değişim ('25/'24) | I7: Pay(25) (%) | J7: 2023 - 2024 | K7: 2024 - 2025 | L7: Değişim ('25/'24) | M7: Pay(25) (%)
A8: I. TARIM | B8: =B9+B18+B20 -> 3093494.6 | C8: =C9+C18+C20 -> 3018606.7 | D8: =(C8-B8)/B8*100 -> -2.4208212 | E8: =C8/C$45*100 -> 14.262811 | F8: =F9+F18+F20 -> 3093494.6 | G8: =G9+G18+G20 -> 3018606.7 | H8: =(G8-F8)/F8*100 -> -2.4208212 | I8: =G8/G$45*100 -> 14.262811 | J8: =J9+J18+J20 -> 35310963 | K8: =K9+K18+K20 -> 36141314 | L8: =(K8-J8)/J8*100 -> 2.3515394 | M8: =K8/K$45*100 -> 13.741037
A9: A. BİTKİSEL ÜRÜNLER | B9: =B10+B11+B12+B13+B14+B15+B16+B17 -> 2135975.6 | C9: =C10+C11+C12+C13+C14+C15+C16+C17 -> 2124901.8 | D9: =(C9-B9)/B9*100 -> -0.51844231 | E9: =C9/C$45*100 -> 10.040087 | F9: =F10+F11+F12+F13+F14+F15+F16+F17 -> 2135975.6 | G9: =G10+G11+G12+G13+G14+G15+G16+G17 -> 2124901.8 | H9: =(G9-F9)/F9*100 -> -0.51844231 | I9: =G9/G$45*100 -> 10.040087 | J9: =J10+J11+J12+J13+J14+J15+J16+J17 -> 23783666 | K9: =K10+K11+K12+K13+K14+K15+K16+K17 -> 24447980 | L9: =(K9-J9)/J9*100 -> 2.7931522 | M9: =K9/K$45*100 -> 9.2951959
A10: Hububat, Bakliyat, Yağlı Tohumlar ve Mamulleri | B10: 1010018.5 | C10: 1030715.8 | D10: =(C10-B10)/B10*100 -> 2.0491949 | E10: =C10/C$45*100 -> 4.870096 | F10: 1010018.5 | G10: 1030715.8 | H10: =(G10-F10)/F10*100 -> 2.0491949 | I10: =G10/G$45*100 -> 4.870096 | J10: 12351435 | K10: 11927406 | L10: =(K10-J10)/J10*100 -> -3.4330391 | M10: =K10/K$45*100 -> 4.5348357
A11: Yaş Meyve ve Sebze | B11: 365786.03 | C11: 353527.19 | D11: =(C11-B11)/B11*100 -> -3.3513697 | E11: =C11/C$45*100 -> 1.6704036 | F11: 365786.03 | G11: 353527.19 | H11: =(G11-F11)/F11*100 -> -3.3513697 | I11: =G11/G$45*100 -> 1.6704036 | J11: 3529561.5 | K11: 3389233.3 | L11: =(K11-J11)/J11*100 -> -3.9757952 | M11: =K11/K$45*100 -> 1.2885968
A12: Meyve Sebze Mamulleri | B12: 232093.39 | C12: 210752.79 | D12: =(C12-B12)/B12*100 -> -9.1948306 | E12: =C12/C$45*100 -> 0.99579961 | F12: 232093.39 | G12: 210752.79 | H12: =(G12-F12)/F12*100 -> -9.1948306 | I12: =G12/G$45*100 -> 0.99579961 | J12: 2464690 | K12: 2705348 | L12: =(K12-J12)/J12*100 -> 9.7642289 | M12: =K12/K$45*100 -> 1.0285815
A13: Kuru Meyve ve Mamulleri | B13: 160121.92 | C13: 164775 | D13: =(C13-B13)/B13*100 -> 2.9059611 | E13: =C13/C$45*100 -> 0.77855613 | F13: 160121.92 | G13: 164775 | H13: =(G13-F13)/F13*100 -> 2.9059611 | I13: =G13/G$45*100 -> 0.77855613 | J13: 1640211.1 | K13: 1859351.3 | L13: =(K13-J13)/J13*100 -> 13.360488 | M13: =K13/K$45*100 -> 0.70693099
A14: Fındık ve Mamulleri | B14: 206128.33 | C14: 209171.68 | D14: =(C14-B14)/B14*100 -> 1.4764325 | E14: =C14/C$45*100 -> 0.98832888 | F14: 206128.33 | G14: 209171.68 | H14: =(G14-F14)/F14*100 -> 1.4764325 | I14: =G14/G$45*100 -> 0.98832888 | J14: 1926553.9 | K14: 2639695.1 | L14: =(K14-J14)/J14*100 -> 37.016416 | M14: =K14/K$45*100 -> 1.00362
A15: Zeytin ve Zeytinyağı | B15: 83436.901 | C15: 51262.625 | D15: =(C15-B15)/B15*100 -> -38.561207 | E15: =C15/C$45*100 -> 0.24221412 | F15: 83436.901 | G15: 51262.625 | H15: =(G15-F15)/F15*100 -> -38.561207 | I15: =G15/G$45*100 -> 0.24221412 | J15: 835488.67 | K15: 781121.27 | L15: =(K15-J15)/J15*100 -> -6.5072573 | M15: =K15/K$45*100 -> 0.29698467
A16: Tütün | B16: 64406 | C16: 86326.722 | D16: =(C16-B16)/B16*100 -> 34.035218 | E16: =C16/C$45*100 -> 0.40789076 | F16: 64406 | G16: 86326.722 | H16: =(G16-F16)/F16*100 -> 34.035218 | I16: =G16/G$45*100 -> 0.40789076 | J16: 900608.49 | K16: 1000610.6 | L16: =(K16-J16)/J16*100 -> 11.103835 | M16: =K16/K$45*100 -> 0.38043516
A17: Süs Bitkileri ve Mamulleri | B17: 13984.519 | C17: 18370.034 | D17: =(C17-B17)/B17*100 -> 31.359781 | E17: =C17/C$45*100 -> 0.086797769 | F17: 13984.519 | G17: 18370.034 | H17: =(G17-F17)/F17*100 -> 31.359781 | I17: =G17/G$45*100 -> 0.086797769 | J17: 135117.16 | K17: 145214.84 | L17: =(K17-J17)/J17*100 -> 7.473282 | M17: =K17/K$45*100 -> 0.055211121
A18: B. HAYVANSAL ÜRÜNLER | B18: =B19 -> 355960.4 | C18: =C19 -> 283884.16 | D18: =(C18-B18)/B18*100 -> -20.248387 | E18: =C18/C$45*100 -> 1.3413428 | F18: =F19 -> 355960.4 | G18: =G19 -> 283884.16 | H18: =(G18-F18)/F18*100 -> -20.248387 | I18: =G18/G$45*100 -> 1.3413428 | J18: =J19 -> 3570663.4 | K18: =K19 -> 3791253.8 | L18: =(K18-J18)/J18*100 -> 6.1778541 | M18: =K18/K$45*100 -> 1.4414462
A19: Su Ürünleri ve Hayvansal Mamuller | B19: 355960.4 | C19: 283884.16 | D19: =(C19-B19)/B19*100 -> -20.248387 | E19: =C19/C$45*100 -> 1.3413428 | F19: 355960.4 | G19: 283884.16 | H19: =(G19-F19)/F19*100 -> -20.248387 | I19: =G19/G$45*100 -> 1.3413428 | J19: 3570663.4 | K19: 3791253.8 | L19: =(K19-J19)/J19*100 -> 6.1778541 | M19: =K19/K$45*100 -> 1.4414462
A20: C. AĞAÇ VE ORMAN ÜRÜNLERİ | B20: =B21 -> 601558.64 | C20: =C21 -> 609820.71 | D20: =(C20-B20)/B20*100 -> 1.3734436 | E20: =C20/C$45*100 -> 2.8813816 | F20: =F21 -> 601558.64 | G20: =G21 -> 609820.71 | H20: =(G20-F20)/F20*100 -> 1.3734436 | I20: =G20/G$45*100 -> 2.8813816 | J20: =J21 -> 7956632.9 | K20: =K21 -> 7902079.8 | L20: =(K20-J20)/J20*100 -> -0.6856314 | M20: =K20/K$45*100 -> 3.0043946
A21: Mobilya, Kağıt ve Orman Ürünleri | B21: 601558.64 | C21: 609820.71 | D21: =(C21-B21)/B21*100 -> 1.3734436 | E21: =C21/C$45*100 -> 2.8813816 | F21: 601558.64 | G21: 609820.71 | H21: =(G21-F21)/F21*100 -> 1.3734436 | I21: =G21/G$45*100 -> 2.8813816 | J21: 7956632.9 | K21: 7902079.8 | L21: =(K21-J21)/J21*100 -> -0.6856314 | M21: =K21/K$45*100 -> 3.0043946
A22: II. SANAYİ | B22: =B23+B27+B29 -> 13628860 | C22: =C23+C27+C29 -> 14963209 | D22: =(C22-B22)/B22*100 -> 9.7906149 | E22: =C22/C$45*100 -> 70.70064 | F22: =F23+F27+F29 -> 13628860 | G22: =G23+G27+G29 -> 14963209 | H22: =(G22-F22)/F22*100 -> 9.7906149 | I22: =G22/G$45*100 -> 70.70064 | J22: =J23+J27+J29 -> 1.8066081e+08 | K22: =K23+K27+K29 -> 1.8510718e+08 | L22: =(K22-J22)/J22*100 -> 2.461169 | M22: =K22/K$45*100 -> 70.378308
A23: A. TARIMA DAYALI İŞLENMİŞ ÜRÜNLER | B23: =B24+B25+B26 -> 1143545.6 | C23: =C24+C25+C26 -> 1183268.2 | D23: =(C23-B23)/B23*100 -> 3.4736359 | E23: =C23/C$45*100 -> 5.590901 | F23: =F24+F25+F26 -> 1143545.6 | G23: =G24+G25+G26 -> 1183268.2 | H23: =(G23-F23)/F23*100 -> 3.4736359 | I23: =G23/G$45*100 -> 5.590901 | J23: =J24+J25+J26 -> 14102400 | K23: =K24+K25+K26 -> 13927337 | L23: =(K23-J23)/J23*100 -> -1.2413723 | M23: =K23/K$45*100 -> 5.2952157
A24: Tekstil ve Hammaddeleri | B24: 784406.94 | C24: 827110.89 | D24: =(C24-B24)/B24*100 -> 5.4441065 | E24: =C24/C$45*100 -> 3.9080701 | F24: 784406.94 | G24: 827110.89 | H24: =(G24-F24)/F24*100 -> 5.4441065 | I24: =G24/G$45*100 -> 3.9080701 | J24: 9519890.8 | K24: 9536886.5 | L24: =(K24-J24)/J24*100 -> 0.17852827 | M24: =K24/K$45*100 -> 3.6259531
A25: Deri ve Deri Mamulleri | B25: 120200.55 | C25: 126460 | D25: =(C25-B25)/B25*100 -> 5.2075059 | E25: =C25/C$45*100 -> 0.5975191 | F25: 120200.55 | G25: 126460 | H25: =(G25-F25)/F25*100 -> 5.2075059 | I25: =G25/G$45*100 -> 0.5975191 | J25: 1800963 | K25: 1532643.8 | L25: =(K25-J25)/J25*100 -> -14.89865 | M25: =K25/K$45*100 -> 0.58271582
A26: Halı | B26: 238938.1 | C26: 229697.31 | D26: =(C26-B26)/B26*100 -> -3.8674409 | E26: =C26/C$45*100 -> 1.0853118 | F26: 238938.1 | G26: 229697.31 | H26: =(G26-F26)/F26*100 -> -3.8674409 | I26: =G26/G$45*100 -> 1.0853118 | J26: 2781546.6 | K26: 2857806.8 | L26: =(K26-J26)/J26*100 -> 2.7416467 | M26: =K26/K$45*100 -> 1.0865468
A27: B. KİMYEVİ MADDELER VE MAM. | B27: =B28 -> 2368550.9 | C27: =C28 -> 2548163.5 | D27: =(C27-B27)/B27*100 -> 7.5832274 | E27: =C27/C$45*100 -> 12.039984 | F27: =F28 -> 2368550.9 | G27: =G28 -> 2548163.5 | H27: =(G27-F27)/F27*100 -> 7.5832274 | I27: =G27/G$45*100 -> 12.039984 | J27: =J28 -> 30560994 | K27: =K28 -> 30955496 | L27: =(K27-J27)/J27*100 -> 1.2908688 | M27: =K27/K$45*100 -> 11.769373
A28: Kimyevi Maddeler ve Mamulleri | B28: 2368550.9 | C28: 2548163.5 | D28: =(C28-B28)/B28*100 -> 7.5832274 | E28: =C28/C$45*100 -> 12.039984 | F28: 2368550.9 | G28: 2548163.5 | H28: =(G28-F28)/F28*100 -> 7.5832274 | I28: =G28/G$45*100 -> 12.039984 | J28: 30560994 | K28: 30955496 | L28: =(K28-J28)/J28*100 -> 1.2908688 | M28: =K28/K$45*100 -> 11.769373
A29: C. SANAYİ MAMULLERİ | B29: =B30+B31+B32+B33+B34+B35+B36+B37+B38+B39+B40 -> 10116763 | C29: =C30+C31+C32+C33+C34+C35+C36+C37+C38+C39+C40 -> 11231777 | D29: =(C29-B29)/B29*100 -> 11.02145 | E29: =C29/C$45*100 -> 53.069755 | F29: =F30+F31+F32+F33+F34+F35+F36+F37+F38+F39+F40 -> 10116763 | G29: =G30+G31+G32+G33+G34+G35+G36+G37+G38+G39+G40 -> 11231777 | H29: =(G29-F29)/F29*100 -> 11.02145 | I29: =G29/G$45*100 -> 53.069755 | J29: =J30+J31+J32+J33+J34+J35+J36+J37+J38+J39+J40 -> 1.3599742e+08 | K29: =K30+K31+K32+K33+K34+K35+K36+K37+K38+K39+K40 -> 1.4022434e+08 | L29: =(K29-J29)/J29*100 -> 3.1080949 | M29: =K29/K$45*100 -> 53.313719
A30: Hazırgiyim ve Konfeksiyon | B30: 1418115.9 | C30: 1413219.8 | D30: =(C30-B30)/B30*100 -> -0.34525077 | E30: =C30/C$45*100 -> 6.6774144 | F30: 1418115.9 | G30: 1413219.8 | H30: =(G30-F30)/F30*100 -> -0.34525077 | I30: =G30/G$45*100 -> 6.6774144 | J30: 19037382 | K30: 17913153 | L30: =(K30-J30)/J30*100 -> -5.9053766 | M30: =K30/K$45*100 -> 6.810635
A31: Otomotiv Endüstrisi | B31: 2776766.8 | C31: 2999897.7 | D31: =(C31-B31)/B31*100 -> 8.035638 | E31: =C31/C$45*100 -> 14.174412 | F31: 2776766.8 | G31: 2999897.7 | H31: =(G31-F31)/F31*100 -> 8.035638 | I31: =G31/G$45*100 -> 14.174412 | J31: 35054922 | K31: 37426041 | L31: =(K31-J31)/J31*100 -> 6.7640121 | M31: =K31/K$45*100 -> 14.229494
A32: Gemi, Yat ve Hizmetleri | B32: 167284.18 | C32: 82415.475 | D32: =(C32-B32)/B32*100 -> -50.733252 | E32: =C32/C$45*100 -> 0.38941025 | F32: 167284.18 | G32: 82415.475 | H32: =(G32-F32)/F32*100 -> -50.733252 | I32: =G32/G$45*100 -> 0.38941025 | J32: 2086682 | K32: 1827383.2 | L32: =(K32-J32)/J32*100 -> -12.426366 | M32: =K32/K$45*100 -> 0.69477663
A33: Elektrik ve Elektronik | B33: 1207653.5 | C33: 1224867.3 | D33: =(C33-B33)/B33*100 -> 1.4253893 | E33: =C33/C$45*100 -> 5.7874553 | F33: 1207653.5 | G33: 1224867.3 | H33: =(G33-F33)/F33*100 -> 1.4253893 | I33: =G33/G$45*100 -> 5.7874553 | J33: 16235273 | K33: 16688132 | L33: =(K33-J33)/J33*100 -> 2.7893559 | M33: =K33/K$45*100 -> 6.3448784
A34: Makine ve Aksamları | B34: 823191.72 | C34: 791919.16 | D34: =(C34-B34)/B34*100 -> -3.7989406 | E34: =C34/C$45*100 -> 3.7417904 | F34: 823191.72 | G34: 791919.16 | H34: =(G34-F34)/F34*100 -> -3.7989406 | I34: =G34/G$45*100 -> 3.7417904 | J34: 11309254 | K34: 11155063 | L34: =(K34-J34)/J34*100 -> -1.3634085 | M34: =K34/K$45*100 -> 4.2411886
A35: Demir ve Demir Dışı Metaller | B35: 938412.69 | C35: 1011426.8 | D35: =(C35-B35)/B35*100 -> 7.7805997 | E35: =C35/C$45*100 -> 4.7789565 | F35: 938412.69 | G35: 1011426.8 | H35: =(G35-F35)/F35*100 -> 7.7805997 | I35: =G35/G$45*100 -> 4.7789565 | J35: 12353468 | K35: 12504645 | L35: =(K35-J35)/J35*100 -> 1.2237587 | M35: =K35/K$45*100 -> 4.7543038
A36: Çelik | B36: 1113603.7 | C36: 1251739.5 | D36: =(C36-B36)/B36*100 -> 12.404404 | E36: =C36/C$45*100 -> 5.9144257 | F36: 1113603.7 | G36: 1251739.5 | H36: =(G36-F36)/F36*100 -> 12.404404 | I36: =G36/G$45*100 -> 5.9144257 | J36: 14866928 | K36: 16280629 | L36: =(K36-J36)/J36*100 -> 9.5090296 | M36: =K36/K$45*100 -> 6.1899443
A37: Çimento Cam Seramik ve Toprak Ürünleri | B37: 322350.55 | C37: 319084.8 | D37: =(C37-B37)/B37*100 -> -1.0131058 | E37: =C37/C$45*100 -> 1.5076646 | F37: 322350.55 | G37: 319084.8 | H37: =(G37-F37)/F37*100 -> -1.0131058 | I37: =G37/G$45*100 -> 1.5076646 | J37: 4560802.8 | K37: 4309220.2 | L37: =(K37-J37)/J37*100 -> -5.5161913 | M37: =K37/K$45*100 -> 1.6383785
A38: Mücevher | B38: 468318.85 | C38: 1163994.1 | D38: =(C38-B38)/B38*100 -> 148.54735 | E38: =C38/C$45*100 -> 5.4998316 | F38: 468318.85 | G38: 1163994.1 | H38: =(G38-F38)/F38*100 -> 148.54735 | I38: =G38/G$45*100 -> 5.4998316 | J38: 7705912.7 | K38: 8153030.4 | L38: =(K38-J38)/J38*100 -> 5.8022689 | M38: =K38/K$45*100 -> 3.0998068
A39: Savunma ve Havacılık Sanayii | B39: 329917.98 | C39: 383147.74 | D39: =(C39-B39)/B39*100 -> 16.13424 | E39: =C39/C$45*100 -> 1.8103597 | F39: 329917.98 | G39: 383147.74 | H39: =(G39-F39)/F39*100 -> 16.13424 | I39: =G39/G$45*100 -> 1.8103597 | J39: 5595225.6 | K39: 6787975.5 | L39: =(K39-J39)/J39*100 -> 21.317278 | M39: =K39/K$45*100 -> 2.5808088
A40: İklimlendirme Sanayii | B40: 551147.24 | C40: 590064.52 | D40: =(C40-B40)/B40*100 -> 7.0611406 | E40: =C40/C$45*100 -> 2.7880343 | F40: 551147.24 | G40: 590064.52 | H40: =(G40-F40)/F40*100 -> 7.0611406 | I40: =G40/G$45*100 -> 2.7880343 | J40: 7191564.8 | K40: 7179071.8 | L40: =(K40-J40)/J40*100 -> -0.17371744 | M40: =K40/K$45*100 -> 2.7295048
A41: III. MADENCİLİK | B41: =B42 -> 445638.95 | C41: =C42 -> 457926.58 | D41: =(C41-B41)/B41*100 -> 2.7573068 | E41: =C41/C$45*100 -> 2.1636871 | F41: =F42 -> 445638.95 | G41: =G42 -> 457926.58 | H41: =(G41-F41)/F41*100 -> 2.7573068 | I41: =G41/G$45*100 -> 2.1636871 | J41: =J42 -> 5748621.4 | K41: =K42 -> 6022705.5 | L41: =(K41-J41)/J41*100 -> 4.7678231 | M41: =K41/K$45*100 -> 2.2898508
A42: Madencilik Ürünleri | B42: 445638.95 | C42: 457926.58 | D42: =(C42-B42)/B42*100 -> 2.7573068 | E42: =C42/C$45*100 -> 2.1636871 | F42: 445638.95 | G42: 457926.58 | H42: =(G42-F42)/F42*100 -> 2.7573068 | I42: =G42/G$45*100 -> 2.1636871 | J42: 5748621.4 | K42: 6022705.5 | L42: =(K42-J42)/J42*100 -> 4.7678231 | M42: =K42/K$45*100 -> 2.2898508
A43: T O P L A M (TİM*) | B43: =B8+B22+B41 -> 17167993 | C43: =C8+C22+C41 -> 18439742 | D43: =(C43-B43)/B43*100 -> 7.4076731 | E43: =C43/C$45*100 -> 87.127138 | F43: =F8+F22+F41 -> 17167993 | G43: =G8+G22+G41 -> 18439742 | H43: =(G43-F43)/F43*100 -> 7.4076731 | I43: =G43/G$45*100 -> 87.127138 | J43: =J8+J22+J41 -> 2.2172039e+08 | K43: =K8+K22+K41 -> 2.272712e+08 | L43: =(K43-J43)/J43*100 -> 2.5035149 | M43: =K43/K$45*100 -> 86.409196
A44: İhracatçı Birlikleri Kaydından Muaf İhracat ile Antrepo ve Serbest Bölgeler Farkı | B44: =B45-B43 -> 2833488.6 | C44: =C45-C43 -> 2724435.3 | D44: =(C44-B44)/B44*100 -> -3.848728 | E44: =C44/C$45*100 -> 12.872862 | F44: =F45-F43 -> 2833488.6 | G44: =G45-G43 -> 2724435.3 | H44: =(G44-F44)/F44*100 -> -3.848728 | I44: =G44/G$45*100 -> 12.872862 | J44: =J45-J43 -> 34576808 | K44: =K45-K43 -> 35746176 | L44: =(K44-J44)/J44*100 -> 3.3819432 | M44: =K44/K$45*100 -> 13.590804
A45: GENEL İHRACAT TOPLAMI | B45: 20001482 | C45: 21164177 | D45: =(C45-B45)/B45*100 -> 5.8130471 | E45: =C45/C$45*100 -> 100 | F45: 20001482 | G45: 21164177 | H45: =(G45-F45)/F45*100 -> 5.8130471 | I45: =G45/G$45*100 -> 100 | J45: 2.562972e+08 | K45: 2.6301737e+08 | L45: =(K45-J45)/J45*100 -> 2.6220228 | M45: =K45/K$45*100 -> 100

Sheet SECILMIS_ISTATISTIK
A2: Tablo 1
A3: En yüksek ihracat artışı elde edilen ilk 10 ülke*
A5: ÜLKE (Bin$) | B5: 2024 1 - 31 OCAK | C5: 2025 1 - 31 OCAK | D5: Değ. %
A6: ERİTRE | B6: 165.39736 | C6: 5123.9986 | D6: =(C6-B6)/B6 -> 29.97993
A7: ERMENİSTAN | B7: 3.73879 | C7: 62.32648 | D7: =(C7-B7)/B7 -> 15.670228
A8: GÜNEY KIBRIS RUM YÖNETİMİ | B8: 30.34799 | C8: 482.77987 | D8: =(C8-B8)/B8 -> 14.908133
A9: ARUBA | B9: 267.33007 | C9: 2260.0884 | D9: =(C9-B9)/B9 -> 7.4542991
A10: BELİRLENEMEYEN ÜLKE VE BÖLGELER | B10: 206.2819 | C10: 1566.22 | D10: =(C10-B10)/B10 -> 6.5926195
A11: MARŞAL ADALARI | B11: 584.48712 | C11: 4328.4465 | D11: =(C11-B11)/B11 -> 6.4055465
A12: ANDORRA | B12: 1.08604 | C12: 7.61482 | D12: =(C12-B12)/B12 -> 6.0115465
A13: SUDAN | B13: 6012.6982 | C13: 28003.545 | D13: =(C13-B13)/B13 -> 3.6574008
A14: CABO VERDE | B14: 434.74016 | C14: 1613.8669 | D14: =(C14-B14)/B14 -> 2.7122564
A15: FİLİSTİN DEVLETİ | B15: 14900.079 | C15: 53793.619 | D15: =(C15-B15)/B15 -> 2.6102909
A18: Tablo 2
A19: En fazla ihracat yapılan ilk 10 ülke
A21: ÜLKE (Bin$) | B21: 2024 1 - 31 OCAK | C21: 2025 1 - 31 OCAK | D21: Değ. %
A22: ALMANYA | B22: 1548887.2 | C22: 1580862.4 | D22: =(C22-B22)/B22 -> 0.020644003
A23: BİRLEŞİK KRALLIK | B23: 946910.48 | C23: 1086373.2 | D23: =(C23-B23)/B23 -> 0.14728181
A24: ABD | B24: 1002522.2 | C24: 1080997.4 | D24: =(C24-B24)/B24 -> 0.078277745
A25: İTALYA | B25: 917129.67 | C25: 910467.35 | D25: =(C25-B25)/B25 -> -0.0072643178
A26: BAE | B26: 406060 | C26: 865642.3 | D26: =(C26-B26)/B26 -> 1.1318088
A27: IRAK | B27: 895262.82 | C27: 838546.69 | D27: =(C27-B27)/B27 -> -0.063351376
A28: FRANSA | B28: 703806.94 | C28: 795689.89 | D28: =(C28-B28)/B28 -> 0.13055135
A29: İSPANYA | B29: 695141.96 | C29: 773970.13 | D29: =(C29-B29)/B29 -> 0.11339867
A30: ROMANYA | B30: 475221.73 | C30: 570180.83 | D30: =(C30-B30)/B30 -> 0.19982062
A31: HOLLANDA | B31: 602120.59 | C31: 543821.7 | D31: =(C31-B31)/B31 -> -0.096822611
A33: Tablo 3
A34: İhracatını en yüksek oranlı artıran ilk 10 sektör
A36: SEKTÖR (Bin$) | B36: 2024 1 - 31 OCAK | C36: 2025 1 - 31 OCAK | D36: Değ. %
A37: Mücevher | B37: 468318.85 | C37: 1163994.1 | D37: =(C37-B37)/B37 -> 1.4854735
A38: Tütün | B38: 64406 | C38: 86326.722 | D38: =(C38-B38)/B38 -> 0.34035218
A39: Süs Bitkileri ve Mamulleri | B39: 13984.519 | C39: 18370.034 | D39: =(C39-B39)/B39 -> 0.31359781
A40: Savunma ve Havacılık Sanayii | B40: 329917.98 | C40: 383147.74 | D40: =(C40-B40)/B40 -> 0.1613424
A41: Çelik | B41: 1113603.7 | C41: 1251739.5 | D41: =(C41-B41)/B41 -> 0.12404404
A42: Otomotiv Endüstrisi | B42: 2776766.8 | C42: 2999897.7 | D42: =(C42-B42)/B42 -> 0.08035638
A43: Demir ve Demir Dışı Metaller | B43: 938412.69 | C43: 1011426.8 | D43: =(C43-B43)/B43 -> 0.077805997
A44: Kimyevi Maddeler ve Mamulleri | B44: 2368550.9 | C44: 2548163.5 | D44: =(C44-B44)/B44 -> 0.075832274
A45: İklimlendirme Sanayii | B45: 551147.24 | C45: 590064.52 | D45: =(C45-B45)/B45 -> 0.070611406
A46: Tekstil ve Hammaddeleri | B46: 784406.94 | C46: 827110.89 | D46: =(C46-B46)/B46 -> 0.054441065
A48: Tablo 4
A49: En fazla ihracat yapan ilk 10 sektör
A51: SEKTÖR (Bin$) | B51: 2024 1 - 31 OCAK | C51: 2025 1 - 31 OCAK | D51: Değ. %
A52: Otomotiv Endüstrisi | B52: 2776766.8 | C52: 2999897.7 | D52: =(C52-B52)/B52 -> 0.08035638
A53: Kimyevi Maddeler ve Mamulleri | B53: 2368550.9 | C53: 2548163.5 | D53: =(C53-B53)/B53 -> 0.075832274
A54: Hazırgiyim ve Konfeksiyon | B54: 1418115.9 | C54: 1413219.8 | D54: =(C54-B54)/B54 -> -0.0034525077
A55: Çelik | B55: 1113603.7 | C55: 1251739.5 | D55: =(C55-B55)/B55 -> 0.12404404
A56: Elektrik ve Elektronik | B56: 1207653.5 | C56: 1224867.3 | D56: =(C56-B56)/B56 -> 0.014253893
A57: Mücevher | B57: 468318.85 | C57: 1163994.1 | D57: =(C57-B57)/B57 -> 1.4854735
A58: Hububat, Bakliyat, Yağlı Tohumlar ve Mamulleri | B58: 1010018.5 | C58: 1030715.8 | D58: =(C58-B58)/B58 -> 0.020491949
A59: Demir ve Demir Dışı Metaller | B59: 938412.69 | C59: 1011426.8 | D59: =(C59-B59)/B59 -> 0.077805997
A60: Tekstil ve Hammaddeleri | B60: 784406.94 | C60: 827110.89 | D60: =(C60-B60)/B60 -> 0.054441065
A61: Makine ve Aksamları | B61: 823191.72 | C61: 791919.16 | D61: =(C61-B61)/B61 -> -0.037989406
A63: Tablo 5
A64: En fazla ihracat yapan ilk 10 il
A66: İL (Bin$) | B66: 2024 1 - 31 OCAK | C66: 2025 1 - 31 OCAK | D66: Değ. %
A67: İSTANBUL | B67: 7191863.1 | C67: 7800800.4 | D67: =(C67-B67)/B67 -> 0.084670315
A68: KOCAELI | B68: 1534529.8 | C68: 1797811.5 | D68: =(C68-B68)/B68 -> 0.17157161
A69: BURSA | B69: 1160109.2 | C69: 1271886.7 | D69: =(C69-B69)/B69 -> 0.096350922
A70: İZMIR | B70: 1066289.1 | C70: 1127720.8 | D70: =(C70-B70)/B70 -> 0.057612648
A71: ANKARA | B71: 843964.45 | C71: 870851.72 | D71: =(C71-B71)/B71 -> 0.031858298
A72: GAZIANTEP | B72: 812490.42 | C72: 817272.46 | D72: =(C72-B72)/B72 -> 0.005885656
A73: SAKARYA | B73: 451003.97 | C73: 441688.72 | D73: =(C73-B73)/B73 -> -0.020654479
A74: DENIZLI | B74: 332449.6 | C74: 382780.39 | D74: =(C74-B74)/B74 -> 0.15139374
A75: MANISA | B75: 361756.28 | C75: 368812.74 | D75: =(C75-B75)/B75 -> 0.019506122
A76: ÇORUM | B76: 175964.4 | C76: 293225.57 | D76: =(C76-B76)/B76 -> 0.66639143
A78: Tablo 6
A79: İhracatını en yüksek oranlı artıran ilk 10 il
A81: İL (Bin$) | B81: 2024 1 - 31 OCAK | C81: 2025 1 - 31 OCAK | D81: Değ. %
A82: KARS | B82: 11.995 | C82: 350.41344 | D82: =(C82-B82)/B82 -> 28.213292
A83: KIRIKKALE | B83: 414.6594 | C83: 1861.2176 | D83: =(C83-B83)/B83 -> 3.4885456
A84: SIIRT | B84: 692.49991 | C84: 1954.309 | D84: =(C84-B84)/B84 -> 1.8221073
A85: TUNCELI | B85: 89.91997 | C85: 221.52275 | D85: =(C85-B85)/B85 -> 1.4635545
A86: OSMANIYE | B86: 9074.9839 | C86: 15334.783 | D86: =(C86-B86)/B86 -> 0.68978621
A87: ÇORUM | B87: 175964.4 | C87: 293225.57 | D87: =(C87-B87)/B87 -> 0.66639143
A88: NEVŞEHIR | B88: 5589.1838 | C88: 8808.538 | D88: =(C88-B88)/B88 -> 0.5759972
A89: AKSARAY | B89: 7297.3996 | C89: 10584.363 | D89: =(C89-B89)/B89 -> 0.45042939
A90: GÜMÜŞHANE | B90: 6139.0549 | C90: 8595.9867 | D90: =(C90-B90)/B90 -> 0.40021335
A91: DIYARBAKIR | B91: 18227.073 | C91: 25023.708 | D91: =(C91-B91)/B91 -> 0.37288676
A92: NOT =2020 Yılında 0 fobusd üzerindeki İller baz alınmıştır.

Sheet SEKTOR_TL
B1: 2025 İHRACAT RAKAMLARI - TL
A5: SEKTÖREL BAZDA İHRACAT KAYIT RAKAMLARI - 1.000 TL
B6: =SEKTOR_USD!B6 -> 1 - 31 OCAK | F6: =SEKTOR_USD!F6 -> 1 OCAK - 31 OCAK | J6: SON 12 AYLIK
A7: SEKTÖRLER | B7: =SEKTOR_USD!B7 -> 2024 | C7: =SEKTOR_USD!C7 -> 2025 | D7: Değişim ('25/'24) | E7: Pay(25) (%) | H7: Değişim ('25/'24) | I7: Pay(25) (%) | L7: Değişim ('25/'24) | M7: Pay(25) (%)
A8: I. TARIM | B8: =SEKTOR_USD!B8*$B$52 -> 93008239 | C8: =SEKTOR_USD!C8*$C$52 -> 1.0723214e+08 | D8: =(C8-B8)/B8*100 -> 15.293166 | E8: =C8/C$43*100 -> 16.370113 | F8: =SEKTOR_USD!F8*$B$53 -> 93008239 | G8: =SEKTOR_USD!G8*$C$53 -> 1.0723214e+08 | H8: =(G8-F8)/F8*100 -> 15.293166 | I8: =G8/G$43*100 -> 16.370113 | J8: =SEKTOR_USD!J8*$B$54 -> 8.7232517e+08 | K8: =SEKTOR_USD!K8*$C$54 -> 1.2044768e+09 | L8: =(K8-J8)/J8*100 -> 38.076586 | M8: =K8/K$43*100 -> 15.902285
A9: A. BİTKİSEL ÜRÜNLER | B9: =SEKTOR_USD!B9*$B$52 -> 64219710 | C9: =SEKTOR_USD!C9*$C$52 -> 75484420 | D9: =(C9-B9)/B9*100 -> 17.540892 | E9: =C9/C$43*100 -> 11.52349 | F9: =SEKTOR_USD!F9*$B$53 -> 64219710 | G9: =SEKTOR_USD!G9*$C$53 -> 75484420 | H9: =(G9-F9)/F9*100 -> 17.540892 | I9: =G9/G$43*100 -> 11.52349 | J9: =SEKTOR_USD!J9*$B$54 -> 5.8755381e+08 | K9: =SEKTOR_USD!K9*$C$54 -> 8.1477462e+08 | L9: =(K9-J9)/J9*100 -> 38.67234 | M9: =K9/K$43*100 -> 10.757184
A10: =SEKTOR_USD!A10 -> Hububat, Bakliyat, Yağlı Tohumlar ve Mamulleri | B10: =SEKTOR_USD!B10*$B$52 -> 30366965 | C10: =SEKTOR_USD!C10*$C$52 -> 36614860 | D10: =(C10-B10)/B10*100 -> 20.574644 | E10: =C10/C$43*100 -> 5.589643 | F10: =SEKTOR_USD!F10*$B$53 -> 30366965 | G10: =SEKTOR_USD!G10*$C$53 -> 36614860 | H10: =(G10-F10)/F10*100 -> 20.574644 | I10: =G10/G$43*100 -> 5.589643 | J10: =SEKTOR_USD!J10*$B$54 -> 3.0513096e+08 | K10: =SEKTOR_USD!K10*$C$54 -> 3.9750308e+08 | L10: =(K10-J10)/J10*100 -> 30.272943 | M10: =K10/K$43*100 -> 5.2480939
A11: =SEKTOR_USD!A11 -> Yaş Meyve ve Sebze | B11: =SEKTOR_USD!B11*$B$52 -> 10997632 | C11: =SEKTOR_USD!C11*$C$52 -> 12558602 | D11: =(C11-B11)/B11*100 -> 14.193691 | E11: =C11/C$43*100 -> 1.9172025 | F11: =SEKTOR_USD!F11*$B$53 -> 10997632 | G11: =SEKTOR_USD!G11*$C$53 -> 12558602 | H11: =(G11-F11)/F11*100 -> 14.193691 | I11: =G11/G$43*100 -> 1.9172025 | J11: =SEKTOR_USD!J11*$B$54 -> 87194601 | K11: =SEKTOR_USD!K11*$C$54 -> 1.1295253e+08 | L11: =(K11-J11)/J11*100 -> 29.540742 | M11: =K11/K$43*100 -> 1.4912727
A12: =SEKTOR_USD!A12 -> Meyve Sebze Mamulleri | B12: =SEKTOR_USD!B12*$B$52 -> 6978062 | C12: =SEKTOR_USD!C12*$C$52 -> 7486723.7 | D12: =(C12-B12)/B12*100 -> 7.2894402 | E12: =C12/C$43*100 -> 1.142927 | F12: =SEKTOR_USD!F12*$B$53 -> 6978062 | G12: =SEKTOR_USD!G12*$C$53 -> 7486723.7 | H12: =(G12-F12)/F12*100 -> 7.2894402 | I12: =G12/G$43*100 -> 1.142927 | J12: =SEKTOR_USD!J12*$B$54 -> 60887922 | K12: =SEKTOR_USD!K12*$C$54 -> 90160776 | L12: =(K12-J12)/J12*100 -> 48.076619 | M12: =K12/K$43*100 -> 1.1903611
A13: =SEKTOR_USD!A13 -> Kuru Meyve ve Mamulleri | B13: =SEKTOR_USD!B13*$B$52 -> 4814185.8 | C13: =SEKTOR_USD!C13*$C$52 -> 5853421.3 | D13: =(C13-B13)/B13*100 -> 21.586943 | E13: =C13/C$43*100 -> 0.89358626 | F13: =SEKTOR_USD!F13*$B$53 -> 4814185.8 | G13: =SEKTOR_USD!G13*$C$53 -> 5853421.3 | H13: =(G13-F13)/F13*100 -> 21.586943 | I13: =G13/G$43*100 -> 0.89358626 | J13: =SEKTOR_USD!J13*$B$54 -> 40519921 | K13: =SEKTOR_USD!K13*$C$54 -> 61966356 | L13: =(K13-J13)/J13*100 -> 52.928125 | M13: =K13/K$43*100 -> 0.81812009
A14: =SEKTOR_USD!A14 -> Fındık ve Mamulleri | B14: =SEKTOR_USD!B14*$B$52 -> 6197403 | C14: =SEKTOR_USD!C14*$C$52 -> 7430556.4 | D14: =(C14-B14)/B14*100 -> 19.897906 | E14: =C14/C$43*100 -> 1.1343525 | F14: =SEKTOR_USD!F14*$B$53 -> 6197403 | G14: =SEKTOR_USD!G14*$C$53 -> 7430556.4 | H14: =(G14-F14)/F14*100 -> 19.897906 | I14: =G14/G$43*100 -> 1.1343525 | J14: =SEKTOR_USD!J14*$B$54 -> 47593758 | K14: =SEKTOR_USD!K14*$C$54 -> 87972770 | L14: =(K14-J14)/J14*100 -> 84.840981 | M14: =K14/K$43*100 -> 1.1614737
A15: =SEKTOR_USD!A15 -> Zeytin ve Zeytinyağı | B15: =SEKTOR_USD!B15*$B$52 -> 2508593.1 | C15: =SEKTOR_USD!C15*$C$52 -> 1821039.2 | D15: =(C15-B15)/B15*100 -> -27.407947 | E15: =C15/C$43*100 -> 0.27800077 | F15: =SEKTOR_USD!F15*$B$53 -> 2508593.1 | G15: =SEKTOR_USD!G15*$C$53 -> 1821039.2 | H15: =(G15-F15)/F15*100 -> -27.407947 | I15: =G15/G$43*100 -> 0.27800077 | J15: =SEKTOR_USD!J15*$B$54 -> 20639987 | K15: =SEKTOR_USD!K15*$C$54 -> 26032326 | L15: =(K15-J15)/J15*100 -> 26.125691 | M15: =K15/K$43*100 -> 0.34369567
A16: =SEKTOR_USD!A16 -> Tütün | B16: =SEKTOR_USD!B16*$B$52 -> 1936414.8 | C16: =SEKTOR_USD!C16*$C$52 -> 3066646.5 | D16: =(C16-B16)/B16*100 -> 58.367233 | E16: =C16/C$43*100 -> 0.46815581 | F16: =SEKTOR_USD!F16*$B$53 -> 1936414.8 | G16: =SEKTOR_USD!G16*$C$53 -> 3066646.5 | H16: =(G16-F16)/F16*100 -> 58.367233 | I16: =G16/G$43*100 -> 0.46815581 | J16: =SEKTOR_USD!J16*$B$54 -> 22248712 | K16: =SEKTOR_USD!K16*$C$54 -> 33347217 | L16: =(K16-J16)/J16*100 -> 49.883805 | M16: =K16/K$43*100 -> 0.44027162
A17: =SEKTOR_USD!A17 -> Süs Bitkileri ve Mamulleri | B17: =SEKTOR_USD!B17*$B$52 -> 420455.07 | C17: =SEKTOR_USD!C17*$C$52 -> 652571.97 | D17: =(C17-B17)/B17*100 -> 55.206113 | E17: =C17/C$43*100 -> 0.099621967 | F17: =SEKTOR_USD!F17*$B$53 -> 420455.07 | G17: =SEKTOR_USD!G17*$C$53 -> 652571.97 | H17: =(G17-F17)/F17*100 -> 55.206113 | I17: =G17/G$43*100 -> 0.099621967 | J17: =SEKTOR_USD!J17*$B$54 -> 3337946.2 | K17: =SEKTOR_USD!K17*$C$54 -> 4839555.9 | L17: =(K17-J17)/J17*100 -> 44.986034 | M17: =K17/K$43*100 -> 0.06389496
A18: B. HAYVANSAL ÜRÜNLER | B18: =SEKTOR_USD!B18*$B$52 -> 10702217 | C18: =SEKTOR_USD!C18*$C$52 -> 10084622 | D18: =(C18-B18)/B18*100 -> -5.7707183 | E18: =C18/C$43*100 -> 1.5395235 | F18: =SEKTOR_USD!F18*$B$53 -> 10702217 | G18: =SEKTOR_USD!G18*$C$53 -> 10084622 | H18: =(G18-F18)/F18*100 -> -5.7707183 | I18: =G18/G$43*100 -> 1.5395235 | J18: =SEKTOR_USD!J18*$B$54 -> 88209987 | K18: =SEKTOR_USD!K18*$C$54 -> 1.2635062e+08 | L18: =(K18-J18)/J18*100 -> 43.238447 | M18: =K18/K$43*100 -> 1.6681629
A19: =SEKTOR_USD!A19 -> Su Ürünleri ve Hayvansal Mamuller | B19: =SEKTOR_USD!B19*$B$52 -> 10702217 | C19: =SEKTOR_USD!C19*$C$52 -> 10084622 | D19: =(C19-B19)/B19*100 -> -5.7707183 | E19: =C19/C$43*100 -> 1.5395235 | F19: =SEKTOR_USD!F19*$B$53 -> 10702217 | G19: =SEKTOR_USD!G19*$C$53 -> 10084622 | H19: =(G19-F19)/F19*100 -> -5.7707183 | I19: =G19/G$43*100 -> 1.5395235 | J19: =SEKTOR_USD!J19*$B$54 -> 88209987 | K19: =SEKTOR_USD!K19*$C$54 -> 1.2635062e+08 | L19: =(K19-J19)/J19*100 -> 43.238447 | M19: =K19/K$43*100 -> 1.6681629
A20: C. AĞAÇ VE ORMAN ÜRÜNLERİ | B20: =SEKTOR_USD!B20*$B$52 -> 18086312 | C20: =SEKTOR_USD!C20*$C$52 -> 21663101 | D20: =(C20-B20)/B20*100 -> 19.776221 | E20: =C20/C$43*100 -> 3.3071 | F20: =SEKTOR_USD!F20*$B$53 -> 18086312 | G20: =SEKTOR_USD!G20*$C$53 -> 21663101 | H20: =(G20-F20)/F20*100 -> 19.776221 | I20: =G20/G$43*100 -> 3.3071 | J20: =SEKTOR_USD!J20*$B$54 -> 1.9656137e+08 | K20: =SEKTOR_USD!K20*$C$54 -> 2.6335157e+08 | L20: =(K20-J20)/J20*100 -> 33.979313 | M20: =K20/K$43*100 -> 3.4769385
A21: =SEKTOR_USD!A21 -> Mobilya, Kağıt ve Orman Ürünleri | B21: =SEKTOR_USD!B21*$B$52 -> 18086312 | C21: =SEKTOR_USD!C21*$C$52 -> 21663101 | D21: =(C21-B21)/B21*100 -> 19.776221 | E21: =C21/C$43*100 -> 3.3071 | F21: =SEKTOR_USD!F21*$B$53 -> 18086312 | G21: =SEKTOR_USD!G21*$C$53 -> 21663101 | H21: =(G21-F21)/F21*100 -> 19.776221 | I21: =G21/G$43*100 -> 3.3071 | J21: =SEKTOR_USD!J21*$B$54 -> 1.9656137e+08 | K21: =SEKTOR_USD!K21*$C$54 -> 2.6335157e+08 | L21: =(K21-J21)/J21*100 -> 33.979313 | M21: =K21/K$43*100 -> 3.4769385
A22: II. SANAYİ | B22: =SEKTOR_USD!B22*$B$52 -> 4.097619e+08 | C22: =SEKTOR_USD!C22*$C$52 -> 5.3154887e+08 | D22: =(C22-B22)/B22*100 -> 29.721399 | E22: =C22/C$43*100 -> 81.146519 | F22: =SEKTOR_USD!F22*$B$53 -> 4.097619e+08 | G22: =SEKTOR_USD!G22*$C$53 -> 5.3154887e+08 | H22: =(G22-F22)/F22*100 -> 29.721399 | I22: =G22/G$43*100 -> 81.146519 | J22: =SEKTOR_USD!J22*$B$54 -> 4.4630607e+09 | K22: =SEKTOR_USD!K22*$C$54 -> 6.1690425e+09 | L22: =(K22-J22)/J22*100 -> 38.22448 | M22: =K22/K$43*100 -> 81.447707
A23: A. TARIMA DAYALI İŞLENMİŞ ÜRÜNLER | B23: =SEKTOR_USD!B23*$B$52 -> 34381557 | C23: =SEKTOR_USD!C23*$C$52 -> 42034091 | D23: =(C23-B23)/B23*100 -> 22.25767 | E23: =C23/C$43*100 -> 6.4169455 | F23: =SEKTOR_USD!F23*$B$53 -> 34381557 | G23: =SEKTOR_USD!G23*$C$53 -> 42034091 | H23: =(G23-F23)/F23*100 -> 22.25767 | I23: =G23/G$43*100 -> 6.4169455 | J23: =SEKTOR_USD!J23*$B$54 -> 3.4838696e+08 | K23: =SEKTOR_USD!K23*$C$54 -> 4.6415453e+08 | L23: =(K23-J23)/J23*100 -> 33.229595 | M23: =K23/K$43*100 -> 6.1280696
A24: =SEKTOR_USD!A24 -> Tekstil ve Hammaddeleri | B24: =SEKTOR_USD!B24*$B$52 -> 23583784 | C24: =SEKTOR_USD!C24*$C$52 -> 29382057 | D24: =(C24-B24)/B24*100 -> 24.585849 | E24: =C24/C$43*100 -> 4.4854797 | F24: =SEKTOR_USD!F24*$B$53 -> 23583784 | G24: =SEKTOR_USD!G24*$C$53 -> 29382057 | H24: =(G24-F24)/F24*100 -> 24.585849 | I24: =G24/G$43*100 -> 4.4854797 | J24: =SEKTOR_USD!J24*$B$54 -> 2.3518023e+08 | K24: =SEKTOR_USD!K24*$C$54 -> 3.1783456e+08 | L24: =(K24-J24)/J24*100 -> 35.145101 | M24: =K24/K$43*100 -> 4.1962583
A25: =SEKTOR_USD!A25 -> Deri ve Deri Mamulleri | B25: =SEKTOR_USD!B25*$B$52 -> 3613919.8 | C25: =SEKTOR_USD!C25*$C$52 -> 4492329.9 | D25: =(C25-B25)/B25*100 -> 24.306298 | E25: =C25/C$43*100 -> 0.68580136 | F25: =SEKTOR_USD!F25*$B$53 -> 3613919.8 | G25: =SEKTOR_USD!G25*$C$53 -> 4492329.9 | H25: =(G25-F25)/F25*100 -> 24.306298 | I25: =G25/G$43*100 -> 0.68580136 | J25: =SEKTOR_USD!J25*$B$54 -> 44491151 | K25: =SEKTOR_USD!K25*$C$54 -> 51078220 | L25: =(K25-J25)/J25*100 -> 14.805346 | M25: =K25/K$43*100 -> 0.67436783
A26: =SEKTOR_USD!A26 -> Halı | B26: =SEKTOR_USD!B26*$B$52 -> 7183853.4 | C26: =SEKTOR_USD!C26*$C$52 -> 8159703.3 | D26: =(C26-B26)/B26*100 -> 13.583935 | E26: =C26/C$43*100 -> 1.2456644 | F26: =SEKTOR_USD!F26*$B$53 -> 7183853.4 | G26: =SEKTOR_USD!G26*$C$53 -> 8159703.3 | H26: =(G26-F26)/F26*100 -> 13.583935 | I26: =G26/G$43*100 -> 1.2456644 | J26: =SEKTOR_USD!J26*$B$54 -> 68715575 | K26: =SEKTOR_USD!K26*$C$54 -> 95241751 | L26: =(K26-J26)/J26*100 -> 38.602857 | M26: =K26/K$43*100 -> 1.2574435
A27: B. KİMYEVİ MADDELER VE MAM. | B27: =SEKTOR_USD!B27*$B$52 -> 71212262 | C27: =SEKTOR_USD!C27*$C$52 -> 90520252 | D27: =(C27-B27)/B27*100 -> 27.113295 | E27: =C27/C$43*100 -> 13.818868 | F27: =SEKTOR_USD!F27*$B$53 -> 71212262 | G27: =SEKTOR_USD!G27*$C$53 -> 90520252 | H27: =(G27-F27)/F27*100 -> 27.113295 | I27: =G27/G$43*100 -> 13.818868 | J27: =SEKTOR_USD!J27*$B$54 -> 7.5498151e+08 | K27: =SEKTOR_USD!K27*$C$54 -> 1.0316497e+09 | L27: =(K27-J27)/J27*100 -> 36.645696 | M27: =K27/K$43*100 -> 13.62051
A28: =SEKTOR_USD!A28 -> Kimyevi Maddeler ve Mamulleri | B28: =SEKTOR_USD!B28*$B$52 -> 71212262 | C28: =SEKTOR_USD!C28*$C$52 -> 90520252 | D28: =(C28-B28)/B28*100 -> 27.113295 | E28: =C28/C$43*100 -> 13.818868 | F28: =SEKTOR_USD!F28*$B$53 -> 71212262 | G28: =SEKTOR_USD!G28*$C$53 -> 90520252 | H28: =(G28-F28)/F28*100 -> 27.113295 | I28: =G28/G$43*100 -> 13.818868 | J28: =SEKTOR_USD!J28*$B$54 -> 7.5498151e+08 | K28: =SEKTOR_USD!K28*$C$54 -> 1.0316497e+09 | L28: =(K28-J28)/J28*100 -> 36.645696 | M28: =K28/K$43*100 -> 13.62051
A29: C. SANAYİ MAMULLERİ | B29: =SEKTOR_USD!B29*$B$52 -> 3.0416808e+08 | C29: =SEKTOR_USD!C29*$C$52 -> 3.9899452e+08 | D29: =(C29-B29)/B29*100 -> 31.175673 | E29: =C29/C$43*100 -> 60.910706 | F29: =SEKTOR_USD!F29*$B$53 -> 3.0416808e+08 | G29: =SEKTOR_USD!G29*$C$53 -> 3.9899452e+08 | H29: =(G29-F29)/F29*100 -> 31.175673 | I29: =G29/G$43*100 -> 60.910706 | J29: =SEKTOR_USD!J29*$B$54 -> 3.3596923e+09 | K29: =SEKTOR_USD!K29*$C$54 -> 4.6732383e+09 | L29: =(K29-J29)/J29*100 -> 39.097211 | M29: =K29/K$43*100 -> 61.699127
A30: =SEKTOR_USD!A30 -> Hazırgiyim ve Konfeksiyon | B30: =SEKTOR_USD!B30*$B$52 -> 42636719 | C30: =SEKTOR_USD!C30*$C$52 -> 50202828 | D30: =(C30-B30)/B30*100 -> 17.745524 | E30: =C30/C$43*100 -> 7.6639892 | F30: =SEKTOR_USD!F30*$B$53 -> 42636719 | G30: =SEKTOR_USD!G30*$C$53 -> 50202828 | H30: =(G30-F30)/F30*100 -> 17.745524 | I30: =G30/G$43*100 -> 7.6639892 | J30: =SEKTOR_USD!J30*$B$54 -> 4.7030119e+08 | K30: =SEKTOR_USD!K30*$C$54 -> 5.969893e+08 | L30: =(K30-J30)/J30*100 -> 26.937654 | M30: =K30/K$43*100 -> 7.8818405
A31: =SEKTOR_USD!A31 -> Otomotiv Endüstrisi | B31: =SEKTOR_USD!B31*$B$52 -> 83485578 | C31: =SEKTOR_USD!C31*$C$52 -> 1.0656753e+08 | D31: =(C31-B31)/B31*100 -> 27.647833 | E31: =C31/C$43*100 -> 16.268653 | F31: =SEKTOR_USD!F31*$B$53 -> 83485578 | G31: =SEKTOR_USD!G31*$C$53 -> 1.0656753e+08 | H31: =(G31-F31)/F31*100 -> 27.647833 | I31: =G31/G$43*100 -> 16.268653 | J31: =SEKTOR_USD!J31*$B$54 -> 8.6599991e+08 | K31: =SEKTOR_USD!K31*$C$54 -> 1.2472927e+09 | L31: =(K31-J31)/J31*100 -> 44.029199 | M31: =K31/K$43*100 -> 16.467569
A32: =SEKTOR_USD!A32 -> Gemi, Yat ve Hizmetleri | B32: =SEKTOR_USD!B32*$B$52 -> 5029524.5 | C32: =SEKTOR_USD!C32*$C$52 -> 2927704.4 | D32: =(C32-B32)/B32*100 -> -41.789638 | E32: =C32/C$43*100 -> 0.44694484 | F32: =SEKTOR_USD!F32*$B$53 -> 5029524.5 | G32: =SEKTOR_USD!G32*$C$53 -> 2927704.4 | H32: =(G32-F32)/F32*100 -> -41.789638 | I32: =G32/G$43*100 -> 0.44694484 | J32: =SEKTOR_USD!J32*$B$54 -> 51549577 | K32: =SEKTOR_USD!K32*$C$54 -> 60900960 | L32: =(K32-J32)/J32*100 -> 18.140561 | M32: =K32/K$43*100 -> 0.80405404
A33: =SEKTOR_USD!A33 -> Elektrik ve Elektronik | B33: =SEKTOR_USD!B33*$B$52 -> 36309010 | C33: =SEKTOR_USD!C33*$C$52 -> 43511845 | D33: =(C33-B33)/B33*100 -> 19.837596 | E33: =C33/C$43*100 -> 6.6425403 | F33: =SEKTOR_USD!F33*$B$53 -> 36309010 | G33: =SEKTOR_USD!G33*$C$53 -> 43511845 | H33: =(G33-F33)/F33*100 -> 19.837596 | I33: =G33/G$43*100 -> 6.6425403 | J33: =SEKTOR_USD!J33*$B$54 -> 4.0107763e+08 | K33: =SEKTOR_USD!K33*$C$54 -> 5.5616319e+08 | L33: =(K33-J33)/J33*100 -> 38.667219 | M33: =K33/K$43*100 -> 7.3428277
A34: =SEKTOR_USD!A34 -> Makine ve Aksamları | B34: =SEKTOR_USD!B34*$B$52 -> 24749877 | C34: =SEKTOR_USD!C34*$C$52 -> 28131916 | D34: =(C34-B34)/B34*100 -> 13.66487 | E34: =C34/C$43*100 -> 4.2946325 | F34: =SEKTOR_USD!F34*$B$53 -> 24749877 | G34: =SEKTOR_USD!G34*$C$53 -> 28131916 | H34: =(G34-F34)/F34*100 -> 13.66487 | I34: =G34/G$43*100 -> 4.2946325 | J34: =SEKTOR_USD!J34*$B$54 -> 2.7938482e+08 | K34: =SEKTOR_USD!K34*$C$54 -> 3.7176331e+08 | L34: =(K34-J34)/J34*100 -> 33.064963 | M34: =K34/K$43*100 -> 4.9082607
A35: =SEKTOR_USD!A35 -> Demir ve Demir Dışı Metaller | B35: =SEKTOR_USD!B35*$B$52 -> 28214082 | C35: =SEKTOR_USD!C35*$C$52 -> 35929646 | D35: =(C35-B35)/B35*100 -> 27.346497 | E35: =C35/C$43*100 -> 5.4850379 | F35: =SEKTOR_USD!F35*$B$53 -> 28214082 | G35: =SEKTOR_USD!G35*$C$53 -> 35929646 | H35: =(G35-F35)/F35*100 -> 27.346497 | I35: =G35/G$43*100 -> 5.4850379 | J35: =SEKTOR_USD!J35*$B$54 -> 3.0518119e+08 | K35: =SEKTOR_USD!K35*$C$54 -> 4.1674066e+08 | L35: =(K35-J35)/J35*100 -> 36.555161 | M35: =K35/K$43*100 -> 5.5020809
A36: =SEKTOR_USD!A36 -> Çelik | B36: =SEKTOR_USD!B36*$B$52 -> 33481330 | C36: =SEKTOR_USD!C36*$C$52 -> 44466448 | D36: =(C36-B36)/B36*100 -> 32.809681 | E36: =C36/C$43*100 -> 6.7882704 | F36: =SEKTOR_USD!F36*$B$53 -> 33481330 | G36: =SEKTOR_USD!G36*$C$53 -> 44466448 | H36: =(G36-F36)/F36*100 -> 32.809681 | I36: =G36/G$43*100 -> 6.7882704 | J36: =SEKTOR_USD!J36*$B$54 -> 3.6727392e+08 | K36: =SEKTOR_USD!K36*$C$54 -> 5.4258237e+08 | L36: =(K36-J36)/J36*100 -> 47.732345 | M36: =K36/K$43*100 -> 7.1635249
A37: =SEKTOR_USD!A37 -> Çimento Cam Seramik ve Toprak Ürünleri | B37: =SEKTOR_USD!B37*$B$52 -> 9691711.4 | C37: =SEKTOR_USD!C37*$C$52 -> 11335080 | D37: =(C37-B37)/B37*100 -> 16.95643 | E37: =C37/C$43*100 -> 1.730419 | F37: =SEKTOR_USD!F37*$B$53 -> 9691711.4 | G37: =SEKTOR_USD!G37*$C$53 -> 11335080 | H37: =(G37-F37)/F37*100 -> 16.95643 | I37: =G37/G$43*100 -> 1.730419 | J37: =SEKTOR_USD!J37*$B$54 -> 1.1267048e+08 | K37: =SEKTOR_USD!K37*$C$54 -> 1.4361281e+08 | L37: =(K37-J37)/J37*100 -> 27.462682 | M37: =K37/K$43*100 -> 1.8960696
A38: =SEKTOR_USD!A38 -> Mücevher | B38: =SEKTOR_USD!B38*$B$52 -> 14080358 | C38: =SEKTOR_USD!C38*$C$52 -> 41349403 | D38: =(C38-B38)/B38*100 -> 193.66727 | E38: =C38/C$43*100 -> 6.3124208 | F38: =SEKTOR_USD!F38*$B$53 -> 14080358 | G38: =SEKTOR_USD!G38*$C$53 -> 41349403 | H38: =(G38-F38)/F38*100 -> 193.66727 | I38: =G38/G$43*100 -> 6.3124208 | J38: =SEKTOR_USD!J38*$B$54 -> 1.9036755e+08 | K38: =SEKTOR_USD!K38*$C$54 -> 2.7171497e+08 | L38: =(K38-J38)/J38*100 -> 42.731767 | M38: =K38/K$43*100 -> 3.5873575
A39: =SEKTOR_USD!A39 -> Savunma ve Havacılık Sanayii | B39: =SEKTOR_USD!B39*$B$52 -> 9919231.8 | C39: =SEKTOR_USD!C39*$C$52 -> 13610834 | D39: =(C39-B39)/B39*100 -> 37.216611 | E39: =C39/C$43*100 -> 2.0778368 | F39: =SEKTOR_USD!F39*$B$53 -> 9919231.8 | G39: =SEKTOR_USD!G39*$C$53 -> 13610834 | H39: =(G39-F39)/F39*100 -> 37.216611 | I39: =G39/G$43*100 -> 2.0778368 | J39: =SEKTOR_USD!J39*$B$54 -> 1.3822495e+08 | K39: =SEKTOR_USD!K39*$C$54 -> 2.2622196e+08 | L39: =(K39-J39)/J39*100 -> 63.662175 | M39: =K39/K$43*100 -> 2.9867293
A40: =SEKTOR_USD!A40 -> İklimlendirme Sanayii | B40: =SEKTOR_USD!B40*$B$52 -> 16570656 | C40: =SEKTOR_USD!C40*$C$52 -> 20961288 | D40: =(C40-B40)/B40*100 -> 26.496431 | E40: =C40/C$43*100 -> 3.1999608 | F40: =SEKTOR_USD!F40*$B$53 -> 16570656 | G40: =SEKTOR_USD!G40*$C$53 -> 20961288 | H40: =(G40-F40)/F40*100 -> 26.496431 | I40: =G40/G$43*100 -> 3.1999608 | J40: =SEKTOR_USD!J40*$B$54 -> 1.7766106e+08 | K40: =SEKTOR_USD!K40*$C$54 -> 2.3925598e+08 | L40: =(K40-J40)/J40*100 -> 34.669906 | M40: =K40/K$43*100 -> 3.1588128
A41: III. MADENCİLİK | B41: =SEKTOR_USD!B41*$B$52 -> 13398470 | C41: =SEKTOR_USD!C41*$C$52 -> 16267257 | D41: =(C41-B41)/B41*100 -> 21.411303 | E41: =C41/C$43*100 -> 2.4833676 | F41: =SEKTOR_USD!F41*$B$53 -> 13398470 | G41: =SEKTOR_USD!G41*$C$53 -> 16267257 | H41: =(G41-F41)/F41*100 -> 21.411303 | I41: =G41/G$43*100 -> 2.4833676 | J41: =SEKTOR_USD!J41*$B$54 -> 1.4201446e+08 | K41: =SEKTOR_USD!K41*$C$54 -> 2.0071791e+08 | L41: =(K41-J41)/J41*100 -> 41.336255 | M41: =K41/K$43*100 -> 2.6500083
A42: =SEKTOR_USD!A42 -> Madencilik Ürünleri | B42: =SEKTOR_USD!B42*$B$52 -> 13398470 | C42: =SEKTOR_USD!C42*$C$52 -> 16267257 | D42: =(C42-B42)/B42*100 -> 21.411303 | E42: =C42/C$43*100 -> 2.4833676 | F42: =SEKTOR_USD!F42*$B$53 -> 13398470 | G42: =SEKTOR_USD!G42*$C$53 -> 16267257 | H42: =(G42-F42)/F42*100 -> 21.411303 | I42: =G42/G$43*100 -> 2.4833676 | J42: =SEKTOR_USD!J42*$B$54 -> 1.4201446e+08 | K42: =SEKTOR_USD!K42*$C$54 -> 2.0071791e+08 | L42: =(K42-J42)/J42*100 -> 41.336255 | M42: =K42/K$43*100 -> 2.6500083
A43: T O P L A M (TİM*) | B43: =SEKTOR_USD!B43*$B$52 -> 5.1616861e+08 | C43: =SEKTOR_USD!C43*$C$52 -> 6.5504827e+08 | D43: =(C43-B43)/B43*100 -> 26.905871 | E43: =C43/C$43*100 -> 100 | F43: =SEKTOR_USD!F43*$B$53 -> 5.1616861e+08 | G43: =SEKTOR_USD!G43*$C$53 -> 6.5504827e+08 | H43: =(G43-F43)/F43*100 -> 26.905871 | I43: =G43/G$43*100 -> 100 | J43: =SEKTOR_USD!J43*$B$54 -> 5.4774004e+09 | K43: =SEKTOR_USD!K43*$C$54 -> 7.5742372e+09 | L43: =(K43-J43)/J43*100 -> 38.281607 | M43: =K43/K$43*100 -> 100
A44: İhracatçı Birlikleri Kaydından Muaf İhracat | B44: =SEKTOR_USD!#REF!*2.1157 -> #REF! | C44: =SEKTOR_USD!#REF!*2.7012 -> #REF! | F44: =SEKTOR_USD!#REF!*2.1642 -> #REF! | G44: =SEKTOR_USD!#REF!*2.5613 -> #REF! | H44: =(G44-F44)/F44*100 -> #REF! | I44: =G44/G$45*100 -> #REF! | J44: =SEKTOR_USD!#REF!*2.0809 -> #REF! | K44: =SEKTOR_USD!#REF!*2.3856 -> #REF! | L44: =(K44-J44)/J44*100 -> #REF! | M44: =K44/K$45*100 -> #REF!
A45: T O P L A M (TİM+TUİK*) | B45: =SEKTOR_USD!#REF!*2.1157 -> #REF! | C45: =SEKTOR_USD!#REF!*2.7012 -> #REF! | D45: =(C45-B45)/B45*100 -> #REF! | E45: =C45/C$45*100 -> #REF! | F45: =SEKTOR_USD!#REF!*2.1642 -> #REF! | G45: =SEKTOR_USD!#REF!*2.5613 -> #REF! | H45: =(G45-F45)/F45*100 -> #REF! | I45: =G45/G$45*100 -> #REF! | J45: =SEKTOR_USD!#REF!*2.0809 -> #REF! | K45: =SEKTOR_USD!#REF!*2.3856 -> #REF! | L45: =(K45-J45)/J45*100 -> #REF! | M45: =K45/K$45*100 -> #REF!
A47: *Ocak-Haziran dönemi için ilk 5 ay TUİK, son ay TİM rakamı kullanılmıştır.
A48: Son 12 aylık dönem için ilk 11 ay TUİK, son ay TİM rakamı kullanılmıştır.
A50: Not: İlgili dönem ortalama MB Dolar Satış Kuru baz alınarak hesaplanmıştır.
B51: 2024 | C51: 2025
A52: 1 Ocak - 31 Ocak | B52: 30.065751 | C52: 35.523722
A53: 1 Ocak - 31 Ocak | B53: 30.065751 | C53: 35.523722
A54: 1 Şubat - 31 Ocak | B54: 24.704089 | C54: 33.326868

Sheet USDvsTL
A5: İHRACAT ARTIŞI KARŞILAŞTIRMA TABLOSU (USD - TL)
B6: OCAK (2025/2024) | D6: OCAK (2025/2024) | F6: SON 12 AYLIK (2025/2024)
A7: SEKTÖRLER | B7: USD Bazında Artış (%) | C7: TL Bazında Artış (%) | D7: USD Bazında Artış (%) | E7: TL Bazında Artış (%) | F7: USD Bazında Artış (%) | G7: TL Bazında Artış (%)
A8: I. TARIM | B8: =SEKTOR_USD!D8 -> -2.4208212 | C8: =SEKTOR_TL!D8 -> 15.293166 | D8: =SEKTOR_USD!H8 -> -2.4208212 | E8: =SEKTOR_TL!H8 -> 15.293166 | F8: =SEKTOR_USD!L8 -> 2.3515394 | G8: =SEKTOR_TL!L8 -> 38.076586
A9: A. BİTKİSEL ÜRÜNLER | B9: =SEKTOR_USD!D9 -> -0.51844231 | C9: =SEKTOR_TL!D9 -> 17.540892 | D9: =SEKTOR_USD!H9 -> -0.51844231 | E9: =SEKTOR_TL!H9 -> 17.540892 | F9: =SEKTOR_USD!L9 -> 2.7931522 | G9: =SEKTOR_TL!L9 -> 38.67234
A10: Hububat, Bakliyat, Yağlı Tohumlar ve Mam. | B10: =SEKTOR_USD!D10 -> 2.0491949 | C10: =SEKTOR_TL!D10 -> 20.574644 | D10: =SEKTOR_USD!H10 -> 2.0491949 | E10: =SEKTOR_TL!H10 -> 20.574644 | F10: =SEKTOR_USD!L10 -> -3.4330391 | G10: =SEKTOR_TL!L10 -> 30.272943
A11: Yaş Meyve ve Sebze | B11: =SEKTOR_USD!D11 -> -3.3513697 | C11: =SEKTOR_TL!D11 -> 14.193691 | D11: =SEKTOR_USD!H11 -> -3.3513697 | E11: =SEKTOR_TL!H11 -> 14.193691 | F11: =SEKTOR_USD!L11 -> -3.9757952 | G11: =SEKTOR_TL!L11 -> 29.540742
A12: Meyve Sebze Mamulleri | B12: =SEKTOR_USD!D12 -> -9.1948306 | C12: =SEKTOR_TL!D12 -> 7.2894402 | D12: =SEKTOR_USD!H12 -> -9.1948306 | E12: =SEKTOR_TL!H12 -> 7.2894402 | F12: =SEKTOR_USD!L12 -> 9.7642289 | G12: =SEKTOR_TL!L12 -> 48.076619
A13: Kuru Meyve ve Mamulleri | B13: =SEKTOR_USD!D13 -> 2.9059611 | C13: =SEKTOR_TL!D13 -> 21.586943 | D13: =SEKTOR_USD!H13 -> 2.9059611 | E13: =SEKTOR_TL!H13 -> 21.586943 | F13: =SEKTOR_USD!L13 -> 13.360488 | G13: =SEKTOR_TL!L13 -> 52.928125
A14: Fındık ve Mamulleri | B14: =SEKTOR_USD!D14 -> 1.4764325 | C14: =SEKTOR_TL!D14 -> 19.897906 | D14: =SEKTOR_USD!H14 -> 1.4764325 | E14: =SEKTOR_TL!H14 -> 19.897906 | F14: =SEKTOR_USD!L14 -> 37.016416 | G14: =SEKTOR_TL!L14 -> 84.840981
A15: Zeytin ve Zeytinyağı | B15: =SEKTOR_USD!D15 -> -38.561207 | C15: =SEKTOR_TL!D15 -> -27.407947 | D15: =SEKTOR_USD!H15 -> -38.561207 | E15: =SEKTOR_TL!H15 -> -27.407947 | F15: =SEKTOR_USD!L15 -> -6.5072573 | G15: =SEKTOR_TL!L15 -> 26.125691
A16: Tütün ve Mamulleri | B16: =SEKTOR_USD!D16 -> 34.035218 | C16: =SEKTOR_TL!D16 -> 58.367233 | D16: =SEKTOR_USD!H16 -> 34.035218 | E16: =SEKTOR_TL!H16 -> 58.367233 | F16: =SEKTOR_USD!L16 -> 11.103835 | G16: =SEKTOR_TL!L16 -> 49.883805
A17: Süs Bitkileri | B17: =SEKTOR_USD!D17 -> 31.359781 | C17: =SEKTOR_TL!D17 -> 55.206113 | D17: =SEKTOR_USD!H17 -> 31.359781 | E17: =SEKTOR_TL!H17 -> 55.206113 | F17: =SEKTOR_USD!L17 -> 7.473282 | G17: =SEKTOR_TL!L17 -> 44.986034
A18: B. HAYVANSAL ÜRÜNLER | B18: =SEKTOR_USD!D18 -> -20.248387 | C18: =SEKTOR_TL!D18 -> -5.7707183 | D18: =SEKTOR_USD!H18 -> -20.248387 | E18: =SEKTOR_TL!H18 -> -5.7707183 | F18: =SEKTOR_USD!L18 -> 6.1778541 | G18: =SEKTOR_TL!L18 -> 43.238447
A19: Su Ürünleri ve Hayvansal Mamuller | B19: =SEKTOR_USD!D19 -> -20.248387 | C19: =SEKTOR_TL!D19 -> -5.7707183 | D19: =SEKTOR_USD!H19 -> -20.248387 | E19: =SEKTOR_TL!H19 -> -5.7707183 | F19: =SEKTOR_USD!L19 -> 6.1778541 | G19: =SEKTOR_TL!L19 -> 43.238447
... A43: T O P L A M | B43: =SEKTOR_USD!D43 -> 7.4076731 | C43: =SEKTOR_TL!D43 -> 26.905871 | D43: =SEKTOR_USD!H43 -> 7.4076731 | E43: =SEKTOR_TL!H43 -> 26.905871 | F43: =SEKTOR_USD!L43 -> 2.5035149 | G43: =SEKTOR_TL!L43 -> 38.281607
A44: İhracatçı Birlikleri Kaydından Muaf İhracat | D44: =SEKTOR_USD!#REF! -> #REF! | E44: =SEKTOR_TL!H44 -> #REF! | F44: =SEKTOR_USD!#REF! -> #REF! | G44: =SEKTOR_TL!L44 -> #REF!
A45: T O P L A M | B45: =SEKTOR_USD!#REF! -> #REF! | C45: =SEKTOR_TL!D45 -> #REF! | D45: =SEKTOR_USD!#REF! -> #REF! | E45: =SEKTOR_TL!H45 -> #REF! | F45: =SEKTOR_USD!#REF! -> #REF! | G45: =SEKTOR_TL!L45 -> #REF!
A47: Not: İlgili dönem ortalama MB Dolar Alış Kuru baz alınarak hesaplanmıştır.

Sheet GEN_SEK
C2: 1 - 31 OCAK İHRACAT RAKAMLARI
A6: İHRACATÇI BİRLİKLERİ GENEL SEKRETERLİKLERİ BAZINDA İHRACAT RAKAMLARI (1.000 $)
B7: 1 - 31 OCAK | F7: 1 OCAK - 31 OCAK | J7: SON 12 AYLIK
A8: İHRACATÇI BİRLİKLERİ GENEL SEKRETERLİKLERİ | B8: 2024 | C8: 2025 | D8: Değişim ('25/'24) | E8: Pay(25) (%) | F8: 2024 | G8: 2025 | H8: Değişim ('25/'24) | I8: Pay(25) (%) | J8: 2023 - 2024 | K8: 2024 - 2025 | L8: Değişim ('25/'24) | M8: Pay(25) (%)
A9: İMMİB | B9: 4997972.5 | C9: 5870304 | D9: =(C9-B9)/B9*100 -> 17.453708 | E9: =C9/C$23*100 -> 31.835066 | F9: 4997972.5 | G9: 5870304 | H9: =(G9-F9)/F9*100 -> 17.453708 | I9: =G9/G$23*100 -> 31.835066 | J9: 67545394 | K9: 68944880 | L9: =(K9-J9)/J9*100 -> 2.0719199 | M9: =K9/K$23*100 -> 30.335952
A10: UİB | B10: 2907423.5 | C10: 3101030.5 | D10: =(C10-B10)/B10*100 -> 6.6590587 | E10: =C10/C$23*100 -> 16.817104 | F10: 2907423.5 | G10: 3101030.5 | H10: =(G10-F10)/F10*100 -> 6.6590587 | I10: =G10/G$23*100 -> 16.817104 | J10: 36610121 | K10: 38822051 | L10: =(K10-J10)/J10*100 -> 6.0418545 | M10: =K10/K$23*100 -> 17.081818
A11: OAİB | B11: 1856086.5 | C11: 1876813.2 | D11: =(C11-B11)/B11*100 -> 1.1166888 | E11: =C11/C$23*100 -> 10.178088 | F11: 1856086.5 | G11: 1876813.2 | H11: =(G11-F11)/F11*100 -> 1.1166888 | I11: =G11/G$23*100 -> 10.178088 | J11: 26093388 | K11: 27212333 | L11: =(K11-J11)/J11*100 -> 4.2882297 | M11: =K11/K$23*100 -> 11.973507
A12: İTKİB | B12: 1643931.6 | C12: 1632291.6 | D12: =(C12-B12)/B12*100 -> -0.70805332 | E12: =C12/C$23*100 -> 8.8520309 | F12: 1643931.6 | G12: 1632291.6 | H12: =(G12-F12)/F12*100 -> -0.70805332 | I12: =G12/G$23*100 -> 8.8520309 | J12: 21911689 | K12: 20494368 | L12: =(K12-J12)/J12*100 -> -6.4683315 | M12: =K12/K$23*100 -> 9.0175826
A13: EİB | B13: 1472284.5 | C13: 1476992.9 | D13: =(C13-B13)/B13*100 -> 0.31980509 | E13: =C13/C$23*100 -> 8.0098351 | F13: 1472284.5 | G13: 1476992.9 | H13: =(G13-F13)/F13*100 -> 0.31980509 | I13: =G13/G$23*100 -> 8.0098351 | J13: 18291090 | K13: 18411157 | L13: =(K13-J13)/J13*100 -> 0.65641945 | M13: =K13/K$23*100 -> 8.1009635
A14: AKİB | B14: 1302189.5 | C14: 1499512.7 | D14: =(C14-B14)/B14*100 -> 15.153187 | E14: =C14/C$23*100 -> 8.1319616 | F14: 1302189.5 | G14: 1499512.7 | H14: =(G14-F14)/F14*100 -> 15.153187 | I14: =G14/G$23*100 -> 8.1319616 | J14: 16198551 | K14: 17401986 | L14: =(K14-J14)/J14*100 -> 7.429278 | M14: =K14/K$23*100 -> 7.6569254
A15: İİB | B15: 1016664.4 | C15: 1006346.9 | D15: =(C15-B15)/B15*100 -> -1.0148321 | E15: =C15/C$23*100 -> 5.4574893 | F15: 1016664.4 | G15: 1006346.9 | H15: =(G15-F15)/F15*100 -> -1.0148321 | I15: =G15/G$23*100 -> 5.4574893 | J15: 11812231 | K15: 12038727 | L15: =(K15-J15)/J15*100 -> 1.9174694 | M15: =K15/K$23*100 -> 5.2970755
A16: GAİB | B16: 951558.12 | C16: 988621.3 | D16: =(C16-B16)/B16*100 -> 3.8949986 | E16: =C16/C$23*100 -> 5.3613619 | F16: 951558.12 | G16: 988621.3 | H16: =(G16-F16)/F16*100 -> 3.8949986 | I16: =G16/G$23*100 -> 5.3613619 | J16: 11719143 | K16: 11739647 | L16: =(K16-J16)/J16*100 -> 0.17496403 | M16: =K16/K$23*100 -> 5.1654796
A17: DENİB | B17: 265748.99 | C17: 296058.63 | D17: =(C17-B17)/B17*100 -> 11.405365 | E17: =C17/C$23*100 -> 1.6055465 | F17: 265748.99 | G17: 296058.63 | H17: =(G17-F17)/F17*100 -> 11.405365 | I17: =G17/G$23*100 -> 1.6055465 | J17: 3191098.4 | K17: 3518347.8 | L17: =(K17-J17)/J17*100 -> 10.25507 | M17: =K17/K$23*100 -> 1.5480834
A18: BAİB | B18: 217593.69 | C18: 245809.12 | D18: =(C18-B18)/B18*100 -> 12.967029 | E18: =C18/C$23*100 -> 1.3330399 | F18: 217593.69 | G18: 245809.12 | H18: =(G18-F18)/F18*100 -> 12.967029 | I18: =G18/G$23*100 -> 1.3330399 | J18: 2676613.1 | K18: 2666322.9 | L18: =(K18-J18)/J18*100 -> -0.38444696 | M18: =K18/K$23*100 -> 1.17319
A19: DAİB | B19: 205929.05 | C19: 203573.84 | D19: =(C19-B19)/B19*100 -> -1.1436979 | E19: =C19/C$23*100 -> 1.1039951 | F19: 205929.05 | G19: 203573.84 | H19: =(G19-F19)/F19*100 -> -1.1436979 | I19: =G19/G$23*100 -> 1.1039951 | J19: 2684029.3 | K19: 2601376 | L19: =(K19-J19)/J19*100 -> -3.0794466 | M19: =K19/K$23*100 -> 1.1446131
A20: KİB | B20: 167301.11 | C20: 145899.65 | D20: =(C20-B20)/B20*100 -> -12.792181 | E20: =C20/C$23*100 -> 0.79122391 | F20: 167301.11 | G20: 145899.65 | H20: =(G20-F20)/F20*100 -> -12.792181 | I20: =G20/G$23*100 -> 0.79122391 | J20: 1653465.8 | K20: 1994284.6 | L20: =(K20-J20)/J20*100 -> 20.612393 | M20: =K20/K$23*100 -> 0.87749114
... A22: HİZMET | B22: 2689.8051 | C22: 1039.8895 | D22: =(C22-B22)/B22*100 -> -61.339596 | E22: =C22/C$23*100 -> 0.005639393 | F22: 2689.8051 | G22: 1039.8895 | H22: =(G22-F22)/F22*100 -> -61.339596 | I22: =G22/G$23*100 -> 0.005639393 | J22: 56867.04 | K22: 72427.239 | L22: =(K22-J22)/J22*100 -> 27.362422 | M22: =K22/K$23*100 -> 0.0318682
A23: TOPLAM | B23: =SUM(B9:B22) -> 17167993 | C23: =SUM(C9:C22) -> 18439742 | D23: =(C23-B23)/B23*100 -> 7.4076731 | E23: =C23/C$23*100 -> 100 | F23: =SUM(F9:F22) -> 17167993 | G23: =SUM(G9:G22) -> 18439742 | H23: =(G23-F23)/F23*100 -> 7.4076731 | I23: =G23/G$23*100 -> 100 | J23: =SUM(J9:J22) -> 2.2172039e+08 | K23: =SUM(K9:K22) -> 2.272712e+08 | L23: =(K23-J23)/J23*100 -> 2.5035149 | M23: =K23/K$23*100 -> 100

Sheet Toplam İhracat  bar gra

Sheet ULKE
B3: 2024 YILI İHRACATIMIZDA İLK 20 ÜLKE (1.000 $)
B4: ÜLKE | C4: OCAK | D4: ŞUBAT | E4: MART | F4: NİSAN | G4: MAYIS | H4: HAZİRAN | I4: TEMMUZ | J4: AĞUSTOS | K4: EYLÜL | L4: EKİM | M4: KASIM | N4: ARALIK | O4: KÜMÜLATİF | P4: % PAY
A5: 1. | B5: ALMANYA | C5: 1580862.4 | D5: 0 | E5: 0 | F5: 0 | G5: 0 | H5: 0 | I5: 0 | J5: 0 | K5: 0 | L5: 0 | M5: 0 | N5: 0 | O5: 1580862.4 | P5: =O5/O$26*100 -> 8.5731267
A6: 2. | B6: BİRLEŞİK KRALLIK | C6: 1086373.2 | D6: 0 | E6: 0 | F6: 0 | G6: 0 | H6: 0 | I6: 0 | J6: 0 | K6: 0 | L6: 0 | M6: 0 | N6: 0 | O6: 1086373.2 | P6: =O6/O$26*100 -> 5.8914771
A7: 3. | B7: ABD | C7: 1080997.4 | D7: 0 | E7: 0 | F7: 0 | G7: 0 | H7: 0 | I7: 0 | J7: 0 | K7: 0 | L7: 0 | M7: 0 | N7: 0 | O7: 1080997.4 | P7: =O7/O$26*100 -> 5.8623239
A8: 4. | B8: İTALYA | C8: 910467.35 | D8: 0 | E8: 0 | F8: 0 | G8: 0 | H8: 0 | I8: 0 | J8: 0 | K8: 0 | L8: 0 | M8: 0 | N8: 0 | O8: 910467.35 | P8: =O8/O$26*100 -> 4.9375276
A9: 5. | B9: BAE | C9: 865642.3 | D9: 0 | E9: 0 | F9: 0 | G9: 0 | H9: 0 | I9: 0 | J9: 0 | K9: 0 | L9: 0 | M9: 0 | N9: 0 | O9: 865642.3 | P9: =O9/O$26*100 -> 4.6944383
A10: 6. | B10: IRAK | C10: 838546.69 | D10: 0 | E10: 0 | F10: 0 | G10: 0 | H10: 0 | I10: 0 | J10: 0 | K10: 0 | L10: 0 | M10: 0 | N10: 0 | O10: 838546.69 | P10: =O10/O$26*100 -> 4.5474969
A11: 7. | B11: FRANSA | C11: 795689.89 | D11: 0 | E11: 0 | F11: 0 | G11: 0 | H11: 0 | I11: 0 | J11: 0 | K11: 0 | L11: 0 | M11: 0 | N11: 0 | O11: 795689.89 | P11: =O11/O$26*100 -> 4.3150815
A12: 8. | B12: İSPANYA | C12: 773970.13 | D12: 0 | E12: 0 | F12: 0 | G12: 0 | H12: 0 | I12: 0 | J12: 0 | K12: 0 | L12: 0 | M12: 0 | N12: 0 | O12: 773970.13 | P12: =O12/O$26*100 -> 4.1972937
A13: 9. | B13: ROMANYA | C13: 570180.83 | D13: 0 | E13: 0 | F13: 0 | G13: 0 | H13: 0 | I13: 0 | J13: 0 | K13: 0 | L13: 0 | M13: 0 | N13: 0 | O13: 570180.83 | P13: =O13/O$26*100 -> 3.0921302
A14: 10. | B14: HOLLANDA | C14: 543821.7 | D14: 0 | E14: 0 | F14: 0 | G14: 0 | H14: 0 | I14: 0 | J14: 0 | K14: 0 | L14: 0 | M14: 0 | N14: 0 | O14: 543821.7 | P14: =O14/O$26*100 -> 2.9491828
A15: 11. | B15: RUSYA FEDERASYONU | C15: 427582.57 | D15: 0 | E15: 0 | F15: 0 | G15: 0 | H15: 0 | I15: 0 | J15: 0 | K15: 0 | L15: 0 | M15: 0 | N15: 0 | O15: 427582.57 | P15: =O15/O$26*100 -> 2.3188099
A16: 12. | B16: POLONYA | C16: 425820.27 | D16: 0 | E16: 0 | F16: 0 | G16: 0 | H16: 0 | I16: 0 | J16: 0 | K16: 0 | L16: 0 | M16: 0 | N16: 0 | O16: 425820.27 | P16: =O16/O$26*100 -> 2.3092529
... A24: 20. | B24: ÇİN | C24: 234819.89 | D24: 0 | E24: 0 | F24: 0 | G24: 0 | H24: 0 | I24: 0 | J24: 0 | K24: 0 | L24: 0 | M24: 0 | N24: 0 | O24: 234819.89 | P24: =O24/O$26*100 -> 1.2734445
B25: İlk 20 Ülke Toplam | O25: =SUM(O5:O24) -> 12235827 | P25: =SUM(P5:P24) -> 66.355739
B26: Genel Toplam | O26: 18439742 | P26: =O26/O$26*100 -> 100

Sheet KARŞL.
A22: * Aylar bazında toplam ihracat grafiğinde TUİK rakamları kullanılmıştır.

Sheet SEKT1
B1: I. TARIM
B2: A. BİTKİSEL ÜRÜNLER

Sheet SEKT2 

Sheet SEKT3 
C2: B. HAYVANSAL ÜRÜNLER
C21: C. AĞAÇ MAMULLERİ VE ORMAN ÜRÜNLERİ

Sheet SEKT4 
B1: II. SANAYİ
B2: A. TARIMA DAYALI İŞLENMİŞ ÜRÜNLER

Sheet SEKT5 
B1: B. KİMYEVİ MADDELER
B18: C. SANAYİ MAMULLERİ

Sheet 2002_2024_AYLIK_IHR
B1: (x1000 $) | C1: OCAK | D1: ŞUBAT | E1: MART | F1: NİSAN | G1: MAYIS | H1: HAZİRAN | I1: TEMMUZ | J1: AGUSTOS | K1: EYLÜL | L1: EKİM | M1: KASIM | N1: ARALIK | O1: TOPLAM
A2: 2025 | B2: I. TARIM | C2: =C4+C6+C8+C10+C12+C14+C16+C18+C20+C22 -> 3018606.7 | O2: =O4+O6+O8+O10+O12+O14+O16+O18+O20+O22 -> 3018606.7
A3: 2024 | B3: I. TARIM | C3: =C5+C7+C9+C11+C13+C15+C17+C19+C21+C23 -> 3093494.6 | D3: =D5+D7+D9+D11+D13+D15+D17+D19+D21+D23 -> 3106589.5 | E3: =E5+E7+E9+E11+E13+E15+E17+E19+E21+E23 -> 3068672.2 | F3: =F5+F7+F9+F11+F13+F15+F17+F19+F21+F23 -> 2583280.2 | G3: =G5+G7+G9+G11+G13+G15+G17+G19+G21+G23 -> 3146135.9 | H3: =H5+H7+H9+H11+H13+H15+H17+H19+H21+H23 -> 2434173.7 | I3: =I5+I7+I9+I11+I13+I15+I17+I19+I21+I23 -> 2845008.3 | J3: =J5+J7+J9+J11+J13+J15+J17+J19+J21+J23 -> 2839542.2 | ... O3: =O5+O7+O9+O11+O13+O15+O17+O19+O21+O23 -> 36216202
A4: 2025 | B4: Hububat, Bakliyat, Yağlı Tohumlar ve Mamulleri | C4: 1030715.8 | O4: 1030715.8
A5: 2024 | B5: Hububat, Bakliyat, Yağlı Tohumlar ve Mamulleri | C5: 1010018.5 | D5: 1046831.5 | E5: 1037467.5 | F5: 865281.91 | G5: 1059532.8 | H5: 809216.39 | I5: 941737.99 | J5: 965053.23 | K5: 943761.12 | L5: 1035005 | M5: 1058580 | N5: 1134222.7 | O5: 11906709
A6: 2025 | B6: Yaş Meyve ve Sebze | C6: 353527.19 | O6: 353527.19
A7: 2024 | B7: Yaş Meyve ve Sebze | C7: 365786.03 | D7: 318978.49 | E7: 276701.53 | F7: 211809.36 | G7: 283634.57 | H7: 259746.27 | I7: 205539.19 | J7: 213029.55 | K7: 267560.31 | L7: 289020.8 | M7: 360259.96 | N7: 349426.12 | O7: 3401492.2
A8: 2025 | B8: Meyve Sebze Mamulleri | C8: 210752.79 | O8: 210752.79
A9: 2024 | B9: Meyve Sebze Mamulleri | C9: 232093.39 | D9: 234169.64 | E9: 239526.91 | F9: 199520.59 | G9: 216877.72 | H9: 164240.45 | I9: 225427.95 | J9: 219295.72 | K9: 227466.39 | L9: 277465.23 | M9: 242775.99 | N9: 247828.6 | O9: 2726688.6
A10: 2025 | B10: Kuru Meyve ve Mamulleri | C10: 164775 | O10: 164775
A11: 2024 | B11: Kuru Meyve ve Mamulleri | C11: 160121.92 | D11: 170080.52 | E11: 157757.54 | F11: 114412.46 | G11: 135706.46 | H11: 88559.557 | I11: 103641.01 | J11: 118838.26 | K11: 197019.26 | L11: 236171.09 | M11: 193118.7 | N11: 179271.48 | O11: 1854698.2
A12: 2025 | B12: Fındık ve Mamulleri | C12: 209171.68 | O12: 209171.68
A13: 2024 | B13: Fındık ve Mamulleri | C13: 206128.33 | D13: 196631.18 | E13: 200785.23 | F13: 176579.71 | G13: 234750.7 | H13: 151405.28 | I13: 214662.48 | J13: 161843.06 | K13: 194028.26 | L13: 321343.85 | M13: 291442.44 | N13: 287051.21 | O13: 2636651.7
A14: 2025 | B14: Zeytin ve Zeytinyağı | C14: 51262.625 | O14: 51262.625
A15: 2024 | B15: Zeytin ve Zeytinyağı | C15: 83436.901 | D15: 82610.769 | E15: 78426.065 | F15: 49173.908 | G15: 69796.724 | H15: 70268.485 | I15: 61450.549 | J15: 55487.356 | K15: 56089.078 | L15: 60641.232 | M15: 74775.331 | N15: 71139.15 | O15: 813295.55
A16: 2025 | B16: Tütün | C16: 86326.722 | O16: 86326.722
A17: 2024 | B17: Tütün | C17: 64406 | D17: 76260.281 | E17: 83673.392 | F17: 67010.118 | G17: 76952.423 | H17: 80441.302 | I17: 93554.622 | J17: 98098.891 | K17: 77068.33 | L17: 91153.999 | M17: 79503.759 | N17: 90566.73 | O17: 978689.85
A18: 2025 | B18: Süs Bitkileri ve Mamulleri | C18: 18370.034 | O18: 18370.034
A19: 2024 | B19: Süs Bitkileri ve Mamulleri | C19: 13984.519 | D19: 17475.449 | E19: 17466.657 | F19: 14415.687 | G19: 14684.507 | H19: 7954.6204 | I19: 6293.0091 | J19: 5688.9343 | K19: 7601.4904 | L19: 10952.754 | M19: 10347.757 | N19: 13963.942 | O19: 140829.33
A20: 2025 | B20: Su Ürünleri ve Hayvansal Mamuller | C20: 283884.16 | O20: 283884.16
A21: 2024 | B21: Su Ürünleri ve Hayvansal Mamuller | C21: 355960.4 | D21: 311356.39 | E21: 301716.03 | F21: 302178.78 | G21: 317479.84 | H21: 257665.7 | I21: 286379.65 | J21: 337285.63 | K21: 330368.84 | L21: 366785.5 | M21: 347229.63 | N21: 348923.64 | O21: 3863330
A22: 2025 | B22: Mobilya, Kağıt ve Orman Ürünleri | C22: 609820.71 | O22: 609820.71
A23: 2024 | B23: Mobilya, Kağıt ve Orman Ürünleri | C23: 601558.64 | D23: 652195.28 | E23: 675151.29 | F23: 582897.66 | G23: 736720.14 | H23: 544675.68 | I23: 706321.84 | J23: 664921.6 | K23: 660668.8 | L23: 689726.06 | M23: 670066.73 | N23: 708913.97 | O23: 7893817.7
A24: 2025 | B24: II. SANAYİ | C24: =C26+C28+C30+C32+C34+C36+C38+C40+C42+C44+C46+C48+C50+C52+C54+C56 -> 14963209 | O24: =O26+O28+O30+O32+O34+O36+O38+O40+O42+O44+O46+O48+O50+O52+O54+O56 -> 14963209
A25: 2024 | B25: II. SANAYİ | C25: =C27+C29+C31+C33+C35+C37+C39+C41+C43+C45+C47+C49+C51+C53+C55+C57 -> 13628860 | D25: =D27+D29+D31+D33+D35+D37+D39+D41+D43+D45+D47+D49+D51+D53+D55+D57 -> 14883440 | E25: =E27+E29+E31+E33+E35+E37+E39+E41+E43+E45+E47+E49+E51+E53+E55+E57 -> 16224144 | F25: =F27+F29+F31+F33+F35+F37+F39+F41+F43+F45+F47+F49+F51+F53+F55+F57 -> 13219381 | G25: =G27+G29+G31+G33+G35+G37+G39+G41+G43+G45+G47+G49+G51+G53+G55+G57 -> 17154106 | H25: =H27+H29+H31+H33+H35+H37+H39+H41+H43+H45+H47+H49+H51+H53+H55+H57 -> 13245418 | I25: =I27+I29+I31+I33+I35+I37+I39+I41+I43+I45+I47+I49+I51+I53+I55+I57 -> 15906860 | J25: =J27+J29+J31+J33+J35+J37+J39+J41+J43+J45+J47+J49+J51+J53+J55+J57 -> 15480350 | ... O25: =O27+O29+O31+O33+O35+O37+O39+O41+O43+O45+O47+O49+O51+O53+O55+O57 -> 1.8377283e+08
A26: 2025 | B26: Tekstil ve Hammaddeleri | C26: 827110.89 | O26: 827110.89
A27: 2024 | B27: Tekstil ve Hammaddeleri | C27: 784406.94 | D27: 810014.68 | E27: 816135.45 | F27: 698224.47 | G27: 863019.71 | H27: 644974.09 | I27: 797633.73 | J27: 798361.31 | K27: 805198.19 | L27: 840093.41 | M27: 854542.92 | N27: 781577.67 | O27: 9494182.6
A28: 2025 | B28: Deri ve Deri Mamulleri | C28: 126460 | O28: 126460
A29: 2024 | B29: Deri ve Deri Mamulleri | C29: 120200.55 | D29: 142925.33 | E29: 145748.1 | F29: 105393.17 | G29: 135760.51 | H29: 98665.51 | I29: 138557.71 | J29: 147865.04 | K29: 131964.94 | L29: 132689.25 | M29: 116578.59 | N29: 110035.7 | O29: 1526384.4
A30: 2025 | B30: Halı | C30: 229697.31 | O30: 229697.31
A31: 2024 | B31: Halı | C31: 238938.1 | D31: 260241.12 | E31: 247042.46 | F31: 190122.02 | G31: 260317.94 | H31: 177521.52 | I31: 230131.54 | J31: 231281.5 | K31: 250295.67 | L31: 274168.86 | M31: 259796.85 | N31: 247190.01 | O31: 2867047.6
A32: 2025 | B32: Kimyevi Maddeler ve Mamulleri | C32: 2548163.5 | O32: 2548163.5
A33: 2024 | B33: Kimyevi Maddeler ve Mamulleri | C33: 2368550.9 | D33: 2618778.1 | E33: 3078826.3 | F33: 2492568.9 | G33: 3021326.1 | H33: 2217513.8 | I33: 2584058.1 | J33: 2556220.9 | K33: 2198761.9 | L33: 2451492.5 | M33: 2521481 | N33: 2666304.8 | O33: 30775883
A34: 2025 | B34: Hazırgiyim ve Konfeksiyon | C34: 1413219.8 | O34: 1413219.8
A35: 2024 | B35: Hazırgiyim ve Konfeksiyon | C35: 1418115.9 | D35: 1498077.6 | E35: 1611800.2 | F35: 1225828.8 | G35: 1640868.2 | H35: 1294265.3 | I35: 1657618.4 | J35: 1668492.5 | K35: 1581602.6 | L35: 1572344.9 | M35: 1487040.1 | N35: 1261994.9 | O35: 17918049
A36: 2025 | B36: Otomotiv Endüstrisi | C36: 2999897.7 | O36: 2999897.7
A37: 2024 | B37: Otomotiv Endüstrisi | C37: 2776766.8 | D37: 3127751 | E37: 3221207.7 | F37: 2739743.2 | G37: 3211350 | H37: 2613928.2 | I37: 3119836.9 | J37: 2698040.5 | K37: 3400498.3 | L37: 3570681.5 | M37: 3237629 | N37: 3485477.1 | O37: 37202910
A38: 2025 | B38: Gemi, Yat ve Hizmetleri | C38: 82415.475 | O38: 82415.475
A39: 2024 | B39: Gemi, Yat ve Hizmetleri | C39: 167284.18 | D39: 141283.32 | E39: 143314.96 | F39: 80867.332 | G39: 168228.99 | H39: 220068.33 | I39: 118317.06 | J39: 91670.812 | K39: 234435.91 | L39: 172867.8 | M39: 152747.58 | N39: 221165.67 | O39: 1912251.9
A40: 2025 | B40: Elektrik ve Elektronik | C40: 1224867.3 | O40: 1224867.3
A41: 2024 | B41: Elektrik ve Elektronik | C41: 1207653.5 | D41: 1286258 | E41: 1459955.3 | F41: 1195153.5 | G41: 1495044.5 | H41: 1188505.7 | I41: 1407505.8 | J41: 1476375.7 | K41: 1477658.3 | L41: 1550007.1 | M41: 1449013.2 | N41: 1477788 | O41: 16670919
A42: 2025 | B42: Makine ve Aksamları | C42: 791919.16 | O42: 791919.16
A43: 2024 | B43: Makine ve Aksamları | C43: 823191.72 | D43: 910328.47 | E43: 1026543.5 | F43: 844653.38 | G43: 1065649.8 | H43: 763601.8 | I43: 946443.49 | J43: 975124.97 | K43: 925640.29 | L43: 995349.79 | M43: 945265.34 | N43: 964542.79 | O43: 11186335
A44: 2025 | B44: Demir ve Demir Dışı Metaller | C44: 1011426.8 | O44: 1011426.8
A45: 2024 | B45: Demir ve Demir Dışı Metaller | C45: 938412.69 | D45: 982996.38 | E45: 1078816.2 | F45: 916587.21 | G45: 1205525.1 | H45: 935443.01 | I45: 1101919.4 | J45: 1078118.3 | K45: 1042723.4 | L45: 1118366.5 | M45: 1059692.4 | N45: 973030.24 | O45: 12431631
A46: 2025 | B46: Çelik | C46: 1251739.5 | O46: 1251739.5
A47: 2024 | B47: Çelik | C47: 1113603.7 | D47: 1375414.3 | E47: 1467723 | F47: 1192172.1 | G47: 1452134.9 | H47: 1312479.5 | I47: 1415866.3 | J47: 1404783.9 | K47: 1466618.1 | L47: 1254324.8 | M47: 1247538.6 | N47: 1439833.8 | O47: 16142493
A48: 2025 | B48: Çimento Cam Seramik ve Toprak Ürünleri | C48: 319084.8 | O48: 319084.8
A49: 2024 | B49: Çimento Cam Seramik ve Toprak Ürünleri | C49: 322350.55 | D49: 348218.8 | E49: 385061.22 | F49: 334470.84 | G49: 419457.34 | H49: 332515.44 | I49: 381534.38 | J49: 362787.21 | K49: 375937.94 | L49: 364531.7 | M49: 345376.53 | N49: 340243.96 | O49: 4312485.9
A50: 2025 | B50: Mücevher | C50: 1163994.1 | O50: 1163994.1
A51: 2024 | B51: Mücevher | C51: 468318.85 | D51: 481096.82 | E51: 544469.57 | F51: 341982.01 | G51: 581647.79 | H51: 402477.92 | I51: 953843.71 | J51: 962345.3 | K51: 672514.62 | L51: 755569.99 | M51: 675939.89 | N51: 617148.71 | O51: 7457355.2
A52: 2025 | B52: Savunma ve Havacılık Sanayii | C52: 383147.74 | O52: 383147.74
A53: 2024 | B53: Savunma ve Havacılık Sanayii | C53: 329917.98 | D53: 299894.91 | E53: 358181.2 | F53: 349872.75 | G53: 980446.61 | H53: 564215.97 | I53: 431178.59 | J53: 422623.12 | K53: 566550.09 | L53: 820202.56 | M53: 614129.94 | N53: 997531.98 | O53: 6734745.7
A54: 2025 | B54: İklimlendirme Sanayii | C54: 590064.52 | O54: 590064.52
A55: 2024 | B55: İklimlendirme Sanayii | C55: 551147.24 | D55: 600161.57 | E55: 639318.88 | F55: 511741.32 | G55: 653328.81 | H55: 479242.39 | I55: 622414.49 | J55: 606258.67 | K55: 615419.2 | L55: 628583.53 | M55: 624769.2 | N55: 607769.18 | O55: 7140154.5
A56: 2025 | O56: =SUM(C56:N56) -> 0
A57: 2024 | O57: =SUM(C57:N57) -> 0
A58: 2025 | B58: III. MADENCİLİK | C58: =C60 -> 457926.58 | O58: =O60 -> 457926.58
A59: 2024 | B59: III. MADENCİLİK | C59: =C61 -> 445638.95 | D59: =D61 -> 452009.54 | E59: =E61 -> 499133.05 | F59: =F61 -> 465816.46 | G59: =G61 -> 545499.02 | H59: =H61 -> 432184.4 | I59: =I61 -> 569387.84 | J59: =J61 -> 521644.85 | ... O59: =O61 -> 6010417.9
A60: 2025 | B60: Madencilik Ürünleri | C60: 457926.58 | O60: 457926.58
A61: 2024 | B61: Madencilik Ürünleri | C61: 445638.95 | D61: 452009.54 | E61: 499133.05 | F61: 465816.46 | G61: 545499.02 | H61: 432184.4 | I61: 569387.84 | J61: 521644.85 | K61: 491516.29 | L61: 566667.72 | M61: 485488.45 | N61: 535431.31 | O61: 6010417.9
A62: 2002 | B62: T O P L A M | C62: 2607319.7 | D62: 2383773 | E62: 2918943.5 | F62: 2742857.9 | G62: 3000325.2 | H62: 2770693.9 | I62: 3103851.9 | J62: 2975889 | K62: 3218206.9 | L62: 3501128 | M62: 3593604.9 | N62: 3242495.2 | O62: =SUM(C62:N62) -> 36059089
A63: 2003 | B63: T O P L A M | C63: 3533705.6 | D63: 2923460.4 | E63: 3908256 | F63: 3662183.4 | G63: 3860471.3 | H63: 3796113.5 | I63: 4236114.3 | J63: 3828726.2 | K63: 4114677.5 | L63: 4824388.3 | M63: 3969697.5 | N63: 4595042.4 | O63: =SUM(C63:N63) -> 47252836
A64: 2004 | B64: T O P L A M | C64: 4619660.8 | D64: 3664503 | E64: 5218042.2 | F64: 5072463 | G64: 5170061.6 | H64: 5284383.3 | I64: 5632138.8 | J64: 4707491.3 | K64: 5656283.5 | L64: 5867342.1 | M64: 5733909 | N64: 6540874.2 | O64: =SUM(C64:N64) -> 63167153
A65: 2005 | B65: T O P L A M | C65: 4997279.7 | D65: 5651741.3 | E65: 6591859.2 | F65: 6128131.9 | G65: 5977226.2 | H65: 6038534.4 | I65: 5763466.4 | J65: 5552867.2 | K65: 6814268.9 | L65: 6772178.6 | M65: 5942575.8 | N65: 7246278.6 | O65: =SUM(C65:N65) -> 73476408
A66: 2006 | B66: T O P L A M | C66: 5133048.9 | D66: 6058251.3 | E66: 7411101.7 | F66: 6456090.3 | G66: 7041543.2 | H66: 7815434.6 | I66: 7067411.5 | J66: 6811202.4 | K66: 7606551.1 | L66: 6888812.5 | M66: 8641474.6 | N66: 8603753.5 | O66: =SUM(C66:N66) -> 85534676
A67: 2007 | B67: T O P L A M | C67: 6564559.8 | D67: 7656951.6 | E67: 8957851.6 | F67: 8313312 | G67: 9147620 | H67: 8980247.4 | I67: 8937741.6 | J67: 8736689.1 | K67: 9038743.9 | L67: 9895216.6 | M67: 11318798 | N67: 9724018 | O67: =SUM(C67:N67) -> 1.0727175e+08
A68: 2008 | B68: T O P L A M | C68: 10632207 | D68: 11077899 | E68: 11428587 | F68: 11363964 | G68: 12477969 | H68: 11770634 | I68: 12595427 | J68: 11046830 | K68: 12793148 | L68: 9722708.8 | M68: 9395872.9 | N68: 7721949 | O68: =SUM(C68:N68) -> 1.320272e+08
A69: 2009 | B69: T O P L A M | C69: 7884493.5 | D69: 8435115.8 | E69: 8155485.1 | F69: 7561696.3 | G69: 7346407.5 | H69: 8329692.8 | I69: 9055733.7 | J69: 7839908.8 | K69: 8480708.4 | L69: 10095768 | M69: 8903010.8 | N69: 10054592 | O69: =SUM(C69:N69) -> 1.0214261e+08
A70: 2010 | B70: T O P L A M | C70: 7828748.1 | D70: 8263237.8 | E70: 9886488.2 | F70: 9396006.7 | G70: 9799958.1 | H70: 9542907.6 | I70: 9564682.5 | J70: 8523452 | K70: 8909230.5 | L70: 10963586 | M70: 9382369.7 | N70: 11822552 | O70: =SUM(C70:N70) -> 1.1388322e+08
A71: 2011 | B71: T O P L A M | C71: 9551084.6 | D71: 10059126 | E71: 11811085 | F71: 11873269 | G71: 10943364 | H71: 11349954 | I71: 11860004 | J71: 11245125 | K71: 10750626 | L71: 11907219 | M71: 11078525 | N71: 12477486 | O71: =SUM(C71:N71) -> 1.3490687e+08
A72: 2012 | B72: T O P L A M | C72: 10348187 | D72: 11748000 | E72: 13208573 | F72: 12630227 | G72: 13131531 | H72: 13231199 | I72: 12830675 | J72: 12831395 | K72: 12952652 | L72: 13190770 | M72: 13753052 | N72: 12605476 | O72: =SUM(C72:N72) -> 1.5246174e+08
A73: 2013 | B73: T O P L A M | C73: 11481521 | D73: 12385691 | E73: 13122058 | F73: 12468203 | G73: 13277209 | H73: 12399974 | I73: 13059520 | J73: 11118301 | K73: 13060371 | L73: 12053705 | M73: 14201227 | N73: 13174857 | O73: =SUM(C73:N73) -> 1.5180264e+08
... A84: 2024 | B84: T O P L A M | C84: 20001482 | D84: 21090877 | E84: 22650377 | F84: 19294221 | G84: 24177419 | H84: 19015382 | I84: 22476367 | J84: 22003550 | K84: 21971490 | L84: 23477782 | M84: 22252619 | N84: 23443110 | O84: =SUM(C84:N84) -> 2.6185468e+08
A85: 2025 | B85: T O P L A M | C85: 21164177 | O85: =SUM(C85:N85) -> 21164177
