Workbook

Sheet SEKTOR_USD
B1: 1 - 28 ŞUBAT İHRACAT RAKAMLARI
A5: SEKTÖREL BAZDA İHRACAT RAKAMLARI -1.000 $
B6: 1 - 28 ŞUBAT | F6: 1 OCAK - 28 ŞUBAT | J6: SON 12 AYLIK
A7: SEKTÖRLER | B7: 2024 | C7: 2025 | D7: Değişim ('25/'24) | E7: Pay(25) (%) | F7: 2024 | G7: 2025 | H7: Değişim ('25/'24) | I7: Pay(25) (%) | J7: 2023 - 2024 | K7: 2024 - 2025 | L7: Değişim ('25/'24) | M7: Pay(25) (%)
A8: I. TARIM | B8: =B9+B18+B20 -> 3106589.5 | C8: =C9+C18+C20 -> 2965423.8 | D8: =(C8-B8)/B8*100 -> -4.544073 | E8: =C8/C$45*100 -> 14.273538 | F8: =F9+F18+F20 -> 6200068.3 | G8: =G9+G18+G20 -> 5979659 | H8: =(G8-F8)/F8*100 -> -3.5549495 | I8: =G8/G$45*100 -> 14.257391 | J8: =J9+J18+J20 -> 35874196 | K8: =K9+K18+K20 -> 35986216 | L8: =(K8-J8)/J8*100 -> 0.31225946 | M8: =K8/K$45*100 -> 13.700611
A9: A. BİTKİSEL ÜRÜNLER | B9: =B10+B11+B12+B13+B14+B15+B16+B17 -> 2143037.8 | C9: =C10+C11+C12+C13+C14+C15+C16+C17 -> 2081686.9 | D9: =(C9-B9)/B9*100 -> -2.8627991 | E9: =C9/C$45*100 -> 10.019829 | F9: =F10+F11+F12+F13+F14+F15+F16+F17 -> 4279002.2 | G9: =G10+G11+G12+G13+G14+G15+G16+G17 -> 4202161.3 | H9: =(G9-F9)/F9*100 -> -1.7957665 | I9: =G9/G$45*100 -> 10.019277 | J9: =J10+J11+J12+J13+J14+J15+J16+J17 -> 24201707 | K9: =K10+K11+K12+K13+K14+K15+K16+K17 -> 24373829 | L9: =(K9-J9)/J9*100 -> 0.7111982 | M9: =K9/K$45*100 -> 9.2795627
A10: Hububat, Bakliyat, Yağlı Tohumlar ve Mamulleri | B10: 1046831.5 | C10: 1070169 | D10: =(C10-B10)/B10*100 -> 2.2293463 | E10: =C10/C$45*100 -> 5.1510675 | F10: 2056843.6 | G10: 2097924.2 | H10: =(G10-F10)/F10*100 -> 1.9972636 | I10: =G10/G$45*100 -> 5.0021123 | J10: 12576165 | K10: 11942595 | L10: =(K10-J10)/J10*100 -> -5.0378632 | M10: =K10/K$45*100 -> 4.5467645
A11: Yaş Meyve ve Sebze | B11: 318978.49 | C11: 319343.88 | D11: =(C11-B11)/B11*100 -> 0.11455049 | E11: =C11/C$45*100 -> 1.5371048 | F11: 684764.52 | G11: 672594.13 | H11: =(G11-F11)/F11*100 -> -1.7773108 | I11: =G11/G$45*100 -> 1.6036763 | J11: 3540590.5 | K11: 3388924 | L11: =(K11-J11)/J11*100 -> -4.28365 | M11: =K11/K$45*100 -> 1.2902254
A12: Meyve Sebze Mamulleri | B12: 234169.64 | C12: 199473.29 | D12: =(C12-B12)/B12*100 -> -14.81676 | E12: =C12/C$45*100 -> 0.9601291 | F12: 466258.22 | G12: 409929.78 | H12: =(G12-F12)/F12*100 -> -12.080953 | I12: =G12/G$45*100 -> 0.97740177 | J12: 2528416.8 | K12: 2669815.3 | L12: =(K12-J12)/J12*100 -> 5.5923733 | M12: =K12/K$45*100 -> 1.0164476
A13: Kuru Meyve ve Mamulleri | B13: 170080.52 | C13: 146637.97 | D13: =(C13-B13)/B13*100 -> -13.783204 | E13: =C13/C$45*100 -> 0.70581573 | F13: 330202.44 | G13: 311205.69 | H13: =(G13-F13)/F13*100 -> -5.7530591 | I13: =G13/G$45*100 -> 0.74201243 | J13: 1703827.8 | K13: 1834763.6 | L13: =(K13-J13)/J13*100 -> 7.6848026 | M13: =K13/K$45*100 -> 0.69852807
A14: Fındık ve Mamulleri | B14: 196631.18 | C14: 217693.75 | D14: =(C14-B14)/B14*100 -> 10.711715 | E14: =C14/C$45*100 -> 1.0478301 | F14: 402759.51 | G14: 426483.48 | H14: =(G14-F14)/F14*100 -> 5.8903557 | I14: =G14/G$45*100 -> 1.016871 | J14: 1967430.6 | K14: 2659347.9 | L14: =(K14-J14)/J14*100 -> 35.168572 | M14: =K14/K$45*100 -> 1.0124624
A15: Zeytin ve Zeytinyağı | B15: 82610.769 | C15: 41195.971 | D15: =(C15-B15)/B15*100 -> -50.132445 | E15: =C15/C$45*100 -> 0.19828946 | F15: 166047.67 | G15: 92458.595 | H15: =(G15-F15)/F15*100 -> -44.318041 | I15: =G15/G$45*100 -> 0.22045042 | J15: 836705.57 | K15: 739581.55 | L15: =(K15-J15)/J15*100 -> -11.607909 | M15: =K15/K$45*100 -> 0.28157223
A16: Tütün | B16: 76260.281 | C16: 67747.012 | D16: =(C16-B16)/B16*100 -> -11.163438 | E16: =C16/C$45*100 -> 0.32608816 | F16: 140666.28 | G16: 153791.41 | H16: =(G16-F16)/F16*100 -> 9.3306837 | I16: =G16/G$45*100 -> 0.36668717 | J16: 912046.41 | K16: 991814.97 | L16: =(K16-J16)/J16*100 -> 8.7461083 | M16: =K16/K$45*100 -> 0.37760211
A17: Süs Bitkileri ve Mamulleri | B17: 17475.449 | C17: 19426.086 | D17: =(C17-B17)/B17*100 -> 11.162159 | E17: =C17/C$45*100 -> 0.093504003 | F17: 31459.968 | G17: 37774.046 | H17: =(G17-F17)/F17*100 -> 20.070198 | I17: =G17/G$45*100 -> 0.090065227 | J17: 136524.06 | K17: 146986.54 | L17: =(K17-J17)/J17*100 -> 7.6634682 | M17: =K17/K$45*100 -> 0.055960466
A18: B. HAYVANSAL ÜRÜNLER | B18: =B19 -> 311356.39 | C18: =C19 -> 276116.65 | D18: =(C18-B18)/B18*100 -> -11.318134 | E18: =C18/C$45*100 -> 1.3290383 | F18: =F19 -> 667316.79 | G18: =G19 -> 560773.71 | H18: =(G18-F18)/F18*100 -> -15.965893 | I18: =G18/G$45*100 -> 1.3370612 | J18: =J19 -> 3639476.4 | K18: =K19 -> 3756397.3 | L18: =(K18-J18)/J18*100 -> 3.212576 | M18: =K18/K$45*100 -> 1.4301292
A19: Su Ürünleri ve Hayvansal Mamuller | B19: 311356.39 | C19: 276116.65 | D19: =(C19-B19)/B19*100 -> -11.318134 | E19: =C19/C$45*100 -> 1.3290383 | F19: 667316.79 | G19: 560773.71 | H19: =(G19-F19)/F19*100 -> -15.965893 | I19: =G19/G$45*100 -> 1.3370612 | J19: 3639476.4 | K19: 3756397.3 | L19: =(K19-J19)/J19*100 -> 3.212576 | M19: =K19/K$45*100 -> 1.4301292
A20: C. AĞAÇ VE ORMAN ÜRÜNLERİ | B20: =B21 -> 652195.26 | C20: =C21 -> 607620.17 | D20: =(C20-B20)/B20*100 -> -6.8346237 | E20: =C20/C$45*100 -> 2.9246713 | F20: =F21 -> 1253749.3 | G20: =G21 -> 1216723.9 | H20: =(G20-F20)/F20*100 -> -2.9531684 | I20: =G20/G$45*100 -> 2.9010532 | J20: =J21 -> 8033012.5 | K20: =K21 -> 7855990 | L20: =(K20-J20)/J20*100 -> -2.2036873 | M20: =K20/K$45*100 -> 2.9909192
A21: Mobilya, Kağıt ve Orman Ürünleri | B21: 652195.26 | C21: 607620.17 | D21: =(C21-B21)/B21*100 -> -6.8346237 | E21: =C21/C$45*100 -> 2.9246713 | F21: 1253749.3 | G21: 1216723.9 | H21: =(G21-F21)/F21*100 -> -2.9531684 | I21: =G21/G$45*100 -> 2.9010532 | J21: 8033012.5 | K21: 7855990 | L21: =(K21-J21)/J21*100 -> -2.2036873 | M21: =K21/K$45*100 -> 2.9909192
A22: II. SANAYİ | B22: =B23+B27+B29 -> 14883168 | C22: =C23+C27+C29 -> 14695576 | D22: =(C22-B22)/B22*100 -> -1.2604345 | E22: =C22/C$45*100 -> 70.734534 | F22: =F23+F27+F29 -> 28511791 | G22: =G23+G27+G29 -> 29654230 | H22: =(G22-F22)/F22*100 -> 4.0069005 | I22: =G22/G$45*100 -> 70.705029 | J22: =J23+J27+J29 -> 1.8208882e+08 | K22: =K23+K27+K29 -> 1.8490195e+08 | L22: =(K22-J22)/J22*100 -> 1.5449196 | M22: =K22/K$45*100 -> 70.395556
A23: A. TARIMA DAYALI İŞLENMİŞ ÜRÜNLER | B23: =B24+B25+B26 -> 1213181.1 | C23: =C24+C25+C26 -> 1120499.9 | D23: =(C23-B23)/B23*100 -> -7.6395177 | E23: =C23/C$45*100 -> 5.3933267 | F23: =F24+F25+F26 -> 2356633.4 | G23: =G24+G25+G26 -> 2302188.8 | H23: =(G23-F23)/F23*100 -> -2.3102723 | I23: =G23/G$45*100 -> 5.4891435 | J23: =J24+J25+J26 -> 14298671 | K23: =K24+K25+K26 -> 13832049 | L23: =(K23-J23)/J23*100 -> -3.2633925 | M23: =K23/K$45*100 -> 5.2661143
A24: Tekstil ve Hammaddeleri | B24: 810014.68 | C24: 760192.43 | D24: =(C24-B24)/B24*100 -> -6.1507837 | E24: =C24/C$45*100 -> 3.6590507 | F24: 1594328.3 | G24: 1586146.4 | H24: =(G24-F24)/F24*100 -> -0.51318925 | I24: =G24/G$45*100 -> 3.7818728 | J24: 9615330.5 | K24: 9484864.8 | L24: =(K24-J24)/J24*100 -> -1.3568513 | M24: =K24/K$45*100 -> 3.6110616
A25: Deri ve Deri Mamulleri | B25: 142925.33 | C25: 132488.67 | D25: =(C25-B25)/B25*100 -> -7.3021773 | E25: =C25/C$45*100 -> 0.63771058 | F25: 263125.88 | G25: 258945.74 | H25: =(G25-F25)/F25*100 -> -1.5886466 | I25: =G25/G$45*100 -> 0.61740823 | J25: 1772494.5 | K25: 1522145.5 | L25: =(K25-J25)/J25*100 -> -14.124109 | M25: =K25/K$45*100 -> 0.57950863
A26: Halı | B26: 260241.12 | C26: 227818.85 | D26: =(C26-B26)/B26*100 -> -12.458552 | E26: =C26/C$45*100 -> 1.0965654 | F26: 499179.22 | G26: 457096.64 | H26: =(G26-F26)/F26*100 -> -8.4303563 | I26: =G26/G$45*100 -> 1.0898624 | J26: 2910845.9 | K26: 2825038.9 | L26: =(K26-J26)/J26*100 -> -2.9478362 | M26: =K26/K$45*100 -> 1.075544
A27: B. KİMYEVİ MADDELER VE MAM. | B27: =B28 -> 2618725.7 | C27: =C28 -> 2495006.1 | D27: =(C27-B27)/B27*100 -> -4.7244199 | E27: =C27/C$45*100 -> 12.009267 | F27: =F28 -> 4987248.8 | G27: =G28 -> 5046026.4 | H27: =(G27-F27)/F27*100 -> 1.1785566 | I27: =G27/G$45*100 -> 12.031317 | J27: =J28 -> 30916658 | K27: =K28 -> 30832676 | L27: =(K27-J27)/J27*100 -> -0.27163975 | M27: =K27/K$45*100 -> 11.738564
A28: Kimyevi Maddeler ve Mamulleri | B28: 2618725.7 | C28: 2495006.1 | D28: =(C28-B28)/B28*100 -> -4.7244199 | E28: =C28/C$45*100 -> 12.009267 | F28: 4987248.8 | G28: 5046026.4 | H28: =(G28-F28)/F28*100 -> 1.1785566 | I28: =G28/G$45*100 -> 12.031317 | J28: 30916658 | K28: 30832676 | L28: =(K28-J28)/J28*100 -> -0.27163975 | M28: =K28/K$45*100 -> 11.738564
A29: C. SANAYİ MAMULLERİ | B29: =B30+B31+B32+B33+B34+B35+B36+B37+B38+B39+B40 -> 11051262 | C29: =C30+C31+C32+C33+C34+C35+C36+C37+C38+C39+C40 -> 11080070 | D29: =(C29-B29)/B29*100 -> 0.26067783 | E29: =C29/C$45*100 -> 53.33194 | F29: =F30+F31+F32+F33+F34+F35+F36+F37+F38+F39+F40 -> 21167909 | G29: =G30+G31+G32+G33+G34+G35+G36+G37+G38+G39+G40 -> 22306015 | H29: =(G29-F29)/F29*100 -> 5.3765642 | I29: =G29/G$45*100 -> 53.184568 | J29: =J30+J31+J32+J33+J34+J35+J36+J37+J38+J39+J40 -> 1.3687349e+08 | K29: =K30+K31+K32+K33+K34+K35+K36+K37+K38+K39+K40 -> 1.4023722e+08 | L29: =(K29-J29)/J29*100 -> 2.4575464 | M29: =K29/K$45*100 -> 53.390878
A30: Hazırgiyim ve Konfeksiyon | B30: 1498030.5 | C30: 1358570.7 | D30: =(C30-B30)/B30*100 -> -9.309549 | E30: =C30/C$45*100 -> 6.5392376 | F30: 2916118.3 | G30: 2770449.7 | H30: =(G30-F30)/F30*100 -> -4.9952889 | I30: =G30/G$45*100 -> 6.6056251 | J30: 18958700 | K30: 17770192 | L30: =(K30-J30)/J30*100 -> -6.2689326 | M30: =K30/K$45*100 -> 6.7654373
A31: Otomotiv Endüstrisi | B31: 3127697.9 | C31: 2980748.5 | D31: =(C31-B31)/B31*100 -> -4.6983254 | E31: =C31/C$45*100 -> 14.347301 | F31: 5904429 | G31: 5979539.6 | H31: =(G31-F31)/F31*100 -> 1.2721057 | I31: =G31/G$45*100 -> 14.257106 | J31: 35572039 | K31: 37276666 | L31: =(K31-J31)/J31*100 -> 4.7920416 | M31: =K31/K$45*100 -> 14.191909
A32: Gemi, Yat ve Hizmetleri | B32: 141283.32 | C32: 158789.88 | D32: =(C32-B32)/B32*100 -> 12.391105 | E32: =C32/C$45*100 -> 0.76430678 | F32: 308567.5 | G32: 241205.36 | H32: =(G32-F32)/F32*100 -> -21.830602 | I32: =G32/G$45*100 -> 0.57510957 | J32: 2178977.3 | K32: 1844889.8 | L32: =(K32-J32)/J32*100 -> -15.332307 | M32: =K32/K$45*100 -> 0.70238331
A33: Elektrik ve Elektronik | B33: 1286253.5 | C33: 1296350.1 | D33: =(C33-B33)/B33*100 -> 0.78496656 | E33: =C33/C$45*100 -> 6.2397503 | F33: 2493907 | G33: 2520717.2 | H33: =(G33-F33)/F33*100 -> 1.0750288 | I33: =G33/G$45*100 -> 6.0101841 | J33: 16218486 | K33: 16697337 | L33: =(K33-J33)/J33*100 -> 2.9524981 | M33: =K33/K$45*100 -> 6.3569816
A34: Makine ve Aksamları | B34: 910304.26 | C34: 813126.8 | D34: =(C34-B34)/B34*100 -> -10.675272 | E34: =C34/C$45*100 -> 3.9138409 | F34: 1733463.4 | G34: 1604590.9 | H34: =(G34-F34)/F34*100 -> -7.4343956 | I34: =G34/G$45*100 -> 3.8258503 | J34: 11371143 | K34: 11056629 | L34: =(K34-J34)/J34*100 -> -2.7658928 | M34: =K34/K$45*100 -> 4.2094611
A35: Demir ve Demir Dışı Metaller | B35: 982933.24 | C35: 1021524.6 | D35: =(C35-B35)/B35*100 -> 3.926141 | E35: =C35/C$45*100 -> 4.9169264 | F35: 1921345.9 | G35: 2032444.6 | H35: =(G35-F35)/F35*100 -> 5.7823358 | I35: =G35/G$45*100 -> 4.8459883 | J35: 12335824 | K35: 12541758 | L35: =(K35-J35)/J35*100 -> 1.669394 | M35: =K35/K$45*100 -> 4.7748767
A36: Çelik | B36: 1375414.3 | C36: 1242479.9 | D36: =(C36-B36)/B36*100 -> -9.6650464 | E36: =C36/C$45*100 -> 5.9804554 | F36: 2489018 | G36: 2493484 | H36: =(G36-F36)/F36*100 -> 0.1794275 | I36: =G36/G$45*100 -> 5.9452514 | J36: 15186332 | K36: 16144455 | L36: =(K36-J36)/J36*100 -> 6.3091167 | M36: =K36/K$45*100 -> 6.1464897
A37: Çimento Cam Seramik ve Toprak Ürünleri | B37: 348209.81 | C37: 321456.21 | D37: =(C37-B37)/B37*100 -> -7.6831828 | E37: =C37/C$45*100 -> 1.5472722 | F37: 670559.05 | G37: 640022.49 | H37: =(G37-F37)/F37*100 -> -4.5538967 | I37: =G37/G$45*100 -> 1.5260153 | J37: 4554895.4 | K37: 4281348.5 | L37: =(K37-J37)/J37*100 -> -6.0055591 | M37: =K37/K$45*100 -> 1.6299877
A38: Mücevher | B38: 481096.82 | C38: 861617.15 | D38: =(C38-B38)/B38*100 -> 79.094335 | E38: =C38/C$45*100 -> 4.1472405 | F38: 949403.27 | G38: 2025610.3 | H38: =(G38-F38)/F38*100 -> 113.35615 | I38: =G38/G$45*100 -> 4.8296931 | J38: 7663130.7 | K38: 8533404 | L38: =(K38-J38)/J38*100 -> 11.356629 | M38: =K38/K$45*100 -> 3.2488231
A39: Savunma ve Havacılık Sanayii | B39: 299894.91 | C39: 433644.05 | D39: =(C39-B39)/B39*100 -> 44.598671 | E39: =C39/C$45*100 -> 2.0872683 | F39: 629812.89 | G39: 816340.33 | H39: =(G39-F39)/F39*100 -> 29.616327 | I39: =G39/G$45*100 -> 1.9464126 | J39: 5608016.8 | K39: 6920990.2 | L39: =(K39-J39)/J39*100 -> 23.412437 | M39: =K39/K$45*100 -> 2.6349476
A40: İklimlendirme Sanayii | B40: 600143.01 | C40: 591761.96 | D40: =(C40-B40)/B40*100 -> -1.3965095 | E40: =C40/C$45*100 -> 2.8483407 | F40: 1151284.6 | G40: 1181610.6 | H40: =(G40-F40)/F40*100 -> 2.6341078 | I40: =G40/G$45*100 -> 2.8173321 | J40: 7225950.1 | K40: 7169554.8 | L40: =(K40-J40)/J40*100 -> -0.7804544 | M40: =K40/K$45*100 -> 2.7295807
A41: III. MADENCİLİK | B41: =B42 -> 452009.54 | C41: =C42 -> 418540.63 | D41: =(C41-B41)/B41*100 -> -7.4044696 | E41: =C41/C$45*100 -> 2.0145707 | F41: =F42 -> 897648.49 | G41: =G42 -> 876114.8 | H41: =(G41-F41)/F41*100 -> -2.3989 | I41: =G41/G$45*100 -> 2.0889337 | J41: =J42 -> 5803376.1 | K41: =K42 -> 5987943.3 | L41: =(K41-J41)/J41*100 -> 3.1803413 | M41: =K41/K$45*100 -> 2.2797196
A42: Madencilik Ürünleri | B42: 452009.54 | C42: 418540.63 | D42: =(C42-B42)/B42*100 -> -7.4044696 | E42: =C42/C$45*100 -> 2.0145707 | F42: 897648.49 | G42: 876114.8 | H42: =(G42-F42)/F42*100 -> -2.3989 | I42: =G42/G$45*100 -> 2.0889337 | J42: 5803376.1 | K42: 5987943.3 | L42: =(K42-J42)/J42*100 -> 3.1803413 | M42: =K42/K$45*100 -> 2.2797196
A43: T O P L A M (TİM*) | B43: =B8+B22+B41 -> 18441767 | C43: =C8+C22+C41 -> 18079540 | D43: =(C43-B43)/B43*100 -> -1.9641675 | E43: =C43/C$45*100 -> 87.022643 | F43: =F8+F22+F41 -> 35609508 | G43: =G8+G22+G41 -> 36510004 | H43: =(G43-F43)/F43*100 -> 2.5288081 | I43: =G43/G$45*100 -> 87.051353 | J43: =J8+J22+J41 -> 2.237664e+08 | K43: =K8+K22+K41 -> 2.2687611e+08 | L43: =(K43-J43)/J43*100 -> 1.3897143 | M43: =K43/K$45*100 -> 86.375887
A44: İhracatçı Birlikleri Kaydından Muaf İhracat ile Antrepo ve Serbest Bölgeler Farkı | B44: =B45-B43 -> 2650417.3 | C44: =C45-C43 -> 2696133.3 | D44: =(C44-B44)/B44*100 -> 1.7248607 | E44: =C44/C$45*100 -> 12.977357 | F44: =F45-F43 -> 5484130.8 | G44: =G45-G43 -> 5430761.5 | H44: =(G44-F44)/F44*100 -> -0.97315883 | I44: =G44/G$45*100 -> 12.948647 | J44: =J45-J43 -> 35057286 | K44: =K45-K43 -> 35785285 | L44: =(K44-J44)/J44*100 -> 2.0765983 | M44: =K44/K$45*100 -> 13.624113
A45: GENEL İHRACAT TOPLAMI | B45: 21092185 | C45: 20775674 | D45: =(C45-B45)/B45*100 -> -1.5006088 | E45: =C45/C$45*100 -> 100 | F45: 41093639 | G45: 41940765 | H45: =(G45-F45)/F45*100 -> 2.0614549 | I45: =G45/G$45*100 -> 100 | J45: 2.5882368e+08 | K45: 2.6266139e+08 | L45: =(K45-J45)/J45*100 -> 1.4827517 | M45: =K45/K$45*100 -> 100

Sheet SECILMIS_ISTATISTIK
A2: Tablo 1
A3: En yüksek ihracat artışı elde edilen ilk 10 ülke*
A5: ÜLKE (Bin$) | B5: 2024 1 - 28 ŞUBAT | C5: 2025 1 - 28 ŞUBAT | D5: Değ. %
A6: BRİTANYA VİRJİN AD. | B6: 47.68595 | C6: 8508.2573 | D6: =(C6-B6)/B6 -> 177.42273
A7: BOTSVANA | B7: 47.67157 | C7: 1001.0054 | D7: =(C7-B7)/B7 -> 19.997953
A8: SVAZİLAND | B8: 8.75 | C8: 149.23074 | D8: =(C8-B8)/B8 -> 16.054942
A9: ORTA AFRİKA CUMHURİYETİ | B9: 232.38475 | C9: 3241.5034 | D9: =(C9-B9)/B9 -> 12.948865
A10: BELİZE | B10: 313.56466 | C10: 4093.3135 | D10: =(C10-B10)/B10 -> 12.054129
A11: ERİTRE | B11: 57.42892 | C11: 446.84551 | D11: =(C11-B11)/B11 -> 6.7808447
A12: GRENADA | B12: 113.99111 | C12: 748.41728 | D12: =(C12-B12)/B12 -> 5.5655759
A13: BERMUDA | B13: 10.06592 | C13: 57.49445 | D13: =(C13-B13)/B13 -> 4.7117929
A14: MAYOTTE | B14: 434.41497 | C14: 2317.8124 | D14: =(C14-B14)/B14 -> 4.3354801
A15: LİECHTENSTEİN | B15: 75.22722 | C15: 386.27262 | D15: =(C15-B15)/B15 -> 4.1347454
A18: Tablo 2
A19: En fazla ihracat yapılan ilk 10 ülke
A21: ÜLKE (Bin$) | B21: 2024 1 - 28 ŞUBAT | C21: 2025 1 - 28 ŞUBAT | D21: Değ. %
A22: ALMANYA | B22: 1528812.9 | C22: 1489926.9 | D22: =(C22-B22)/B22 -> -0.025435411
A23: İTALYA | B23: 1081300.9 | C23: 1064424.3 | D23: =(C23-B23)/B23 -> -0.015607734
A24: BİRLEŞİK KRALLIK | B24: 997527.96 | C24: 986650.64 | D24: =(C24-B24)/B24 -> -0.010904272
A25: ABD | B25: 1103043.4 | C25: 929427.37 | D25: =(C25-B25)/B25 -> -0.15739727
A26: IRAK | B26: 862167.91 | C26: 884946.53 | D26: =(C26-B26)/B26 -> 0.026420159
A27: İSPANYA | B27: 701394.92 | C27: 770441.68 | D27: =(C27-B27)/B27 -> 0.098442053
A28: FRANSA | B28: 761143.22 | C28: 704604.79 | D28: =(C28-B28)/B28 -> -0.074280931
A29: BAE | B29: 330751.52 | C29: 599554.98 | D29: =(C29-B29)/B29 -> 0.81270512
A30: HOLLANDA | B30: 609622.22 | C30: 554851.07 | D30: =(C30-B30)/B30 -> -0.089844408
A31: ROMANYA | B31: 597523.14 | C31: 539355.58 | D31: =(C31-B31)/B31 -> -0.097347804
A33: Tablo 3
A34: İhracatını en yüksek oranlı artıran ilk 10 sektör
A36: SEKTÖR (Bin$) | B36: 2024 1 - 28 ŞUBAT | C36: 2025 1 - 28 ŞUBAT | D36: Değ. %
A37: Mücevher | B37: 481096.82 | C37: 861617.15 | D37: =(C37-B37)/B37 -> 0.79094335
A38: Savunma ve Havacılık Sanayii | B38: 299894.91 | C38: 433644.05 | D38: =(C38-B38)/B38 -> 0.44598671
A39: Gemi, Yat ve Hizmetleri | B39: 141283.32 | C39: 158789.88 | D39: =(C39-B39)/B39 -> 0.12391105
A40: Süs Bitkileri ve Mamulleri | B40: 17475.449 | C40: 19426.086 | D40: =(C40-B40)/B40 -> 0.11162159
A41: Fındık ve Mamulleri | B41: 196631.18 | C41: 217693.75 | D41: =(C41-B41)/B41 -> 0.10711715
A42: Demir ve Demir Dışı Metaller | B42: 982933.24 | C42: 1021524.6 | D42: =(C42-B42)/B42 -> 0.03926141
A43: Hububat, Bakliyat, Yağlı Tohumlar ve Mamulleri | B43: 1046831.5 | C43: 1070169 | D43: =(C43-B43)/B43 -> 0.022293463
A44: Elektrik ve Elektronik | B44: 1286253.5 | C44: 1296350.1 | D44: =(C44-B44)/B44 -> 0.0078496656
A45: Yaş Meyve ve Sebze | B45: 318978.49 | C45: 319343.88 | D45: =(C45-B45)/B45 -> 0.0011455049
A46: İklimlendirme Sanayii | B46: 600143.01 | C46: 591761.96 | D46: =(C46-B46)/B46 -> -0.013965095
A48: Tablo 4
A49: En fazla ihracat yapan ilk 10 sektör
A51: SEKTÖR (Bin$) | B51: 2024 1 - 28 ŞUBAT | C51: 2025 1 - 28 ŞUBAT | D51: Değ. %
A52: Otomotiv Endüstrisi | B52: 3127697.9 | C52: 2980748.5 | D52: =(C52-B52)/B52 -> -0.046983254
A53: Kimyevi Maddeler ve Mamulleri | B53: 2618725.7 | C53: 2495006.1 | D53: =(C53-B53)/B53 -> -0.047244199
A54: Hazırgiyim ve Konfeksiyon | B54: 1498030.5 | C54: 1358570.7 | D54: =(C54-B54)/B54 -> -0.09309549
A55: Elektrik ve Elektronik | B55: 1286253.5 | C55: 1296350.1 | D55: =(C55-B55)/B55 -> 0.0078496656
A56: Çelik | B56: 1375414.3 | C56: 1242479.9 | D56: =(C56-B56)/B56 -> -0.096650464
A57: Hububat, Bakliyat, Yağlı Tohumlar ve Mamulleri | B57: 1046831.5 | C57: 1070169 | D57: =(C57-B57)/B57 -> 0.022293463
A58: Demir ve Demir Dışı Metaller | B58: 982933.24 | C58: 1021524.6 | D58: =(C58-B58)/B58 -> 0.03926141
A59: Mücevher | B59: 481096.82 | C59: 861617.15 | D59: =(C59-B59)/B59 -> 0.79094335
A60: Makine ve Aksamları | B60: 910304.26 | C60: 813126.8 | D60: =(C60-B60)/B60 -> -0.10675272
A61: Tekstil ve Hammaddeleri | B61: 810014.68 | C61: 760192.43 | D61: =(C61-B61)/B61 -> -0.061507837
A63: Tablo 5
A64: En fazla ihracat yapan ilk 10 il
A66: İL (Bin$) | B66: 2024 1 - 28 ŞUBAT | C66: 2025 1 - 28 ŞUBAT | D66: Değ. %
A67: İSTANBUL | B67: 7703405.4 | C67: 7330717 | D67: =(C67-B67)/B67 -> -0.048379697
A68: KOCAELI | B68: 1606663.6 | C68: 1829573.6 | D68: =(C68-B68)/B68 -> 0.13874094
A69: BURSA | B69: 1419076 | C69: 1310168.5 | D69: =(C69-B69)/B69 -> -0.076745359
A70: ANKARA | B70: 972827.98 | C70: 1144999.2 | D70: =(C70-B70)/B70 -> 0.17698008
A71: İZMIR | B71: 1161943.5 | C71: 1050785.3 | D71: =(C71-B71)/B71 -> -0.09566575
A72: GAZIANTEP | B72: 860987.97 | C72: 803789.7 | D72: =(C72-B72)/B72 -> -0.066433301
A73: MANISA | B73: 440505.98 | C73: 413726.3 | D73: =(C73-B73)/B73 -> -0.06079301
A74: SAKARYA | B74: 492317.46 | C74: 364303.52 | D74: =(C74-B74)/B74 -> -0.26002316
A75: DENIZLI | B75: 359364.82 | C75: 339888.33 | D75: =(C75-B75)/B75 -> -0.054196999
A76: HATAY | B76: 276399.94 | C76: 311877.05 | D76: =(C76-B76)/B76 -> 0.12835426
A78: Tablo 6
A79: İhracatını en yüksek oranlı artıran ilk 10 il
A81: İL (Bin$) | B81: 2024 1 - 28 ŞUBAT | C81: 2025 1 - 28 ŞUBAT | D81: Değ. %
A82: KARS | B82: 39.5695 | C82: 344.74576 | D82: =(C82-B82)/B82 -> 7.7124113
A83: KASTAMONU | B83: 10059.605 | C83: 32620.541 | D83: =(C83-B83)/B83 -> 2.2427256
A84: NIĞDE | B84: 5612.4398 | C84: 11578.858 | D84: =(C84-B84)/B84 -> 1.0630703
A85: YALOVA | B85: 36369.245 | C85: 71997.201 | D85: =(C85-B85)/B85 -> 0.9796177
A86: ERZINCAN | B86: 3273.207 | C86: 5587.2906 | D86: =(C86-B86)/B86 -> 0.70697746
A87: RIZE | B87: 9227.1154 | C87: 14602.677 | D87: =(C87-B87)/B87 -> 0.5825831
A88: ÇORUM | B88: 158622.53 | C88: 242381.87 | D88: =(C88-B88)/B88 -> 0.52804191
A89: KILIS | B89: 7528.6746 | C89: 11452.207 | D89: =(C89-B89)/B89 -> 0.5211452
A90: GIRESUN | B90: 36270.716 | C90: 54227.997 | D90: =(C90-B90)/B90 -> 0.49509032
A91: NEVŞEHIR | B91: 5832.7487 | C91: 8410.1736 | D91: =(C91-B91)/B91 -> 0.44188855
A92: NOT =2020 Yılında 0 fobusd üzerindeki İller baz alınmıştır.

Sheet SEKTOR_TL
B1: 2022 İHRACAT RAKAMLARI - TL
A5: SEKTÖREL BAZDA İHRACAT KAYIT RAKAMLARI - 1.000 TL
B6: =SEKTOR_USD!B6 -> 1 - 28 ŞUBAT | F6: =SEKTOR_USD!F6 -> 1 OCAK - 28 ŞUBAT | J6: SON 12 AYLIK
A7: SEKTÖRLER | B7: =SEKTOR_USD!B7 -> 2024 | C7: =SEKTOR_USD!C7 -> 2025 | D7: Değişim ('25/'24) | E7: Pay(25) (%) | H7: Değişim ('25/'24) | I7: Pay(25) (%) | L7: Değişim ('25/'24) | M7: Pay(25) (%)
A8: I. TARIM | B8: =SEKTOR_USD!B8*$B$52 -> 95633840 | C8: =SEKTOR_USD!C8*$C$52 -> 1.0725666e+08 | D8: =(C8-B8)/B8*100 -> 12.153454 | E8: =C8/C$43*100 -> 16.402097 | F8: =SEKTOR_USD!F8*$B$53 -> 1.8863689e+08 | G8: =SEKTOR_USD!G8*$C$53 -> 2.1434926e+08 | H8: =(G8-F8)/F8*100 -> 13.630613 | I8: =G8/G$43*100 -> 16.378138 | J8: =SEKTOR_USD!J8*$B$54 -> 9.2192248e+08 | K8: =SEKTOR_USD!K8*$C$54 -> 1.2154564e+09 | L8: =(K8-J8)/J8*100 -> 31.839325 | M8: =K8/K$43*100 -> 15.861616
A9: A. BİTKİSEL ÜRÜNLER | B9: =SEKTOR_USD!B9*$B$52 -> 65971683 | C9: =SEKTOR_USD!C9*$C$52 -> 75292706 | D9: =(C9-B9)/B9*100 -> 14.128823 | E9: =C9/C$43*100 -> 11.514048 | F9: =SEKTOR_USD!F9*$B$53 -> 1.3018852e+08 | G9: =SEKTOR_USD!G9*$C$53 -> 1.5063236e+08 | H9: =(G9-F9)/F9*100 -> 15.703265 | I9: =G9/G$43*100 -> 11.509616 | J9: =SEKTOR_USD!J9*$B$54 -> 6.2195394e+08 | K9: =SEKTOR_USD!K9*$C$54 -> 8.2324092e+08 | L9: =(K9-J9)/J9*100 -> 32.363646 | M9: =K9/K$43*100 -> 10.743233
A10: =SEKTOR_USD!A10 -> Hububat, Bakliyat, Yağlı Tohumlar ve Mamulleri | B10: =SEKTOR_USD!B10*$B$52 -> 32225859 | C10: =SEKTOR_USD!C10*$C$52 -> 38707029 | D10: =(C10-B10)/B10*100 -> 20.111707 | E10: =C10/C$43*100 -> 5.9192267 | F10: =SEKTOR_USD!F10*$B$53 -> 62579406 | G10: =SEKTOR_USD!G10*$C$53 -> 75203034 | H10: =(G10-F10)/F10*100 -> 20.172176 | I10: =G10/G$43*100 -> 5.7461626 | J10: =SEKTOR_USD!J10*$B$54 -> 3.2319189e+08 | K10: =SEKTOR_USD!K10*$C$54 -> 4.0336842e+08 | L10: =(K10-J10)/J10*100 -> 24.807717 | M10: =K10/K$43*100 -> 5.263928
A11: =SEKTOR_USD!A11 -> Yaş Meyve ve Sebze | B11: =SEKTOR_USD!B11*$B$52 -> 9819494.5 | C11: =SEKTOR_USD!C11*$C$52 -> 11550375 | D11: =(C11-B11)/B11*100 -> 17.626983 | E11: =C11/C$43*100 -> 1.7663275 | F11: =SEKTOR_USD!F11*$B$53 -> 20833940 | G11: =SEKTOR_USD!G11*$C$53 -> 24110079 | H11: =(G11-F11)/F11*100 -> 15.72501 | I11: =G11/G$43*100 -> 1.8422187 | J11: =SEKTOR_USD!J11*$B$54 -> 90988798 | K11: =SEKTOR_USD!K11*$C$54 -> 1.1446297e+08 | L11: =(K11-J11)/J11*100 -> 25.798971 | M11: =K11/K$43*100 -> 1.4937333
A12: =SEKTOR_USD!A12 -> Meyve Sebze Mamulleri | B12: =SEKTOR_USD!B12*$B$52 -> 7208722.8 | C12: =SEKTOR_USD!C12*$C$52 -> 7214765.7 | D12: =(C12-B12)/B12*100 -> 0.083828004 | E12: =C12/C$43*100 -> 1.1033095 | F12: =SEKTOR_USD!F12*$B$53 -> 14185893 | G12: =SEKTOR_USD!G12*$C$53 -> 14694508 | H12: =(G12-F12)/F12*100 -> 3.5853593 | I12: =G12/G$43*100 -> 1.1227876 | J12: =SEKTOR_USD!J12*$B$54 -> 64977187 | K12: =SEKTOR_USD!K12*$C$54 -> 90174639 | L12: =(K12-J12)/J12*100 -> 38.778922 | M12: =K12/K$43*100 -> 1.1767724
A13: =SEKTOR_USD!A13 -> Kuru Meyve ve Mamulleri | B13: =SEKTOR_USD!B13*$B$52 -> 5235790.9 | C13: =SEKTOR_USD!C13*$C$52 -> 5303760.8 | D13: =(C13-B13)/B13*100 -> 1.2981782 | E13: =C13/C$43*100 -> 0.81107136 | F13: =SEKTOR_USD!F13*$B$53 -> 10046399 | G13: =SEKTOR_USD!G13*$C$53 -> 11155604 | H13: =(G13-F13)/F13*100 -> 11.040822 | I13: =G13/G$43*100 -> 0.85238472 | J13: =SEKTOR_USD!J13*$B$54 -> 43786267 | K13: =SEKTOR_USD!K13*$C$54 -> 61970257 | L13: =(K13-J13)/J13*100 -> 41.52898 | M13: =K13/K$43*100 -> 0.80870726
A14: =SEKTOR_USD!A14 -> Fındık ve Mamulleri | B14: =SEKTOR_USD!B14*$B$52 -> 6053131.6 | C14: =SEKTOR_USD!C14*$C$52 -> 7873783.2 | D14: =(C14-B14)/B14*100 -> 30.077845 | E14: =C14/C$43*100 -> 1.204089 | F14: =SEKTOR_USD!F14*$B$53 -> 12253946 | G14: =SEKTOR_USD!G14*$C$53 -> 15287898 | H14: =(G14-F14)/F14*100 -> 24.758979 | I14: =G14/G$43*100 -> 1.1681277 | J14: =SEKTOR_USD!J14*$B$54 -> 50560535 | K14: =SEKTOR_USD!K14*$C$54 -> 89821095 | L14: =(K14-J14)/J14*100 -> 77.650603 | M14: =K14/K$43*100 -> 1.1721586
A15: =SEKTOR_USD!A15 -> Zeytin ve Zeytinyağı | B15: =SEKTOR_USD!B15*$B$52 -> 2543105.6 | C15: =SEKTOR_USD!C15*$C$52 -> 1490020.4 | D15: =(C15-B15)/B15*100 -> -41.409415 | E15: =C15/C$43*100 -> 0.22785961 | F15: =SEKTOR_USD!F15*$B$53 -> 5051995.4 | G15: =SEKTOR_USD!G15*$C$53 -> 3314308 | H15: =(G15-F15)/F15*100 -> -34.396062 | I15: =G15/G$43*100 -> 0.25324181 | J15: =SEKTOR_USD!J15*$B$54 -> 21502299 | K15: =SEKTOR_USD!K15*$C$54 -> 24979817 | L15: =(K15-J15)/J15*100 -> 16.172776 | M15: =K15/K$43*100 -> 0.32598476
A16: =SEKTOR_USD!A16 -> Tütün | B16: =SEKTOR_USD!B16*$B$52 -> 2347611 | C16: =SEKTOR_USD!C16*$C$52 -> 2450347.2 | D16: =(C16-B16)/B16*100 -> 4.3762044 | E16: =C16/C$43*100 -> 0.37471645 | F16: =SEKTOR_USD!F16*$B$53 -> 4279767.4 | G16: =SEKTOR_USD!G16*$C$53 -> 5512868.6 | H16: =(G16-F16)/F16*100 -> 28.81234 | I16: =G16/G$43*100 -> 0.42123087 | J16: =SEKTOR_USD!J16*$B$54 -> 23438465 | K16: =SEKTOR_USD!K16*$C$54 -> 33499155 | L16: =(K16-J16)/J16*100 -> 42.923842 | M16: =K16/K$43*100 -> 0.43716149
A17: =SEKTOR_USD!A17 -> Süs Bitkileri ve Mamulleri | B17: =SEKTOR_USD!B17*$B$52 -> 537967.54 | C17: =SEKTOR_USD!C17*$C$52 -> 702623.71 | D17: =(C17-B17)/B17*100 -> 30.607083 | E17: =C17/C$43*100 -> 0.1074479 | F17: =SEKTOR_USD!F17*$B$53 -> 957168.6 | G17: =SEKTOR_USD!G17*$C$53 -> 1354063.6 | H17: =(G17-F17)/F17*100 -> 41.46553 | I17: =G17/G$43*100 -> 0.10346218 | J17: =SEKTOR_USD!J17*$B$54 -> 3508499.6 | K17: =SEKTOR_USD!K17*$C$54 -> 4964559.9 | L17: =(K17-J17)/J17*100 -> 41.50094 | M17: =K17/K$43*100 -> 0.064787139
A18: B. HAYVANSAL ÜRÜNLER | B18: =SEKTOR_USD!B18*$B$52 -> 9584854.2 | C18: =SEKTOR_USD!C18*$C$52 -> 9986885.8 | D18: =(C18-B18)/B18*100 -> 4.1944476 | E18: =C18/C$43*100 -> 1.5272327 | F18: =SEKTOR_USD!F18*$B$53 -> 20303094 | G18: =SEKTOR_USD!G18*$C$53 -> 20101720 | H18: =(G18-F18)/F18*100 -> -0.99183861 | I18: =G18/G$43*100 -> 1.5359453 | J18: =SEKTOR_USD!J18*$B$54 -> 93530044 | K18: =SEKTOR_USD!K18*$C$54 -> 1.2687461e+08 | L18: =(K18-J18)/J18*100 -> 35.65118 | M18: =K18/K$43*100 -> 1.6557042
A19: =SEKTOR_USD!A19 -> Su Ürünleri ve Hayvansal Mamuller | B19: =SEKTOR_USD!B19*$B$52 -> 9584854.2 | C19: =SEKTOR_USD!C19*$C$52 -> 9986885.8 | D19: =(C19-B19)/B19*100 -> 4.1944476 | E19: =C19/C$43*100 -> 1.5272327 | F19: =SEKTOR_USD!F19*$B$53 -> 20303094 | G19: =SEKTOR_USD!G19*$C$53 -> 20101720 | H19: =(G19-F19)/F19*100 -> -0.99183861 | I19: =G19/G$43*100 -> 1.5359453 | J19: =SEKTOR_USD!J19*$B$54 -> 93530044 | K19: =SEKTOR_USD!K19*$C$54 -> 1.2687461e+08 | L19: =(K19-J19)/J19*100 -> 35.65118 | M19: =K19/K$43*100 -> 1.6557042
A20: C. AĞAÇ VE ORMAN ÜRÜNLERİ | B20: =SEKTOR_USD!B20*$B$52 -> 20077303 | C20: =SEKTOR_USD!C20*$C$52 -> 21977064 | D20: =(C20-B20)/B20*100 -> 9.4622316 | E20: =C20/C$43*100 -> 3.3608165 | F20: =SEKTOR_USD!F20*$B$53 -> 38145284 | G20: =SEKTOR_USD!G20*$C$53 -> 43615175 | H20: =(G20-F20)/F20*100 -> 14.339626 | I20: =G20/G$43*100 -> 3.3325768 | J20: =SEKTOR_USD!J20*$B$54 -> 2.0643849e+08 | K20: =SEKTOR_USD!K20*$C$54 -> 2.6534085e+08 | L20: =(K20-J20)/J20*100 -> 28.532644 | M20: =K20/K$43*100 -> 3.4626784
A21: =SEKTOR_USD!A21 -> Mobilya, Kağıt ve Orman Ürünleri | B21: =SEKTOR_USD!B21*$B$52 -> 20077303 | C21: =SEKTOR_USD!C21*$C$52 -> 21977064 | D21: =(C21-B21)/B21*100 -> 9.4622316 | E21: =C21/C$43*100 -> 3.3608165 | F21: =SEKTOR_USD!F21*$B$53 -> 38145284 | G21: =SEKTOR_USD!G21*$C$53 -> 43615175 | H21: =(G21-F21)/F21*100 -> 14.339626 | I21: =G21/G$43*100 -> 3.3325768 | J21: =SEKTOR_USD!J21*$B$54 -> 2.0643849e+08 | K21: =SEKTOR_USD!K21*$C$54 -> 2.6534085e+08 | L21: =(K21-J21)/J21*100 -> 28.532644 | M21: =K21/K$43*100 -> 3.4626784
A22: II. SANAYİ | B22: =SEKTOR_USD!B22*$B$52 -> 4.5816628e+08 | C22: =SEKTOR_USD!C22*$C$52 -> 5.3152549e+08 | D22: =(C22-B22)/B22*100 -> 16.01148 | E22: =C22/C$43*100 -> 81.282907 | F22: =SEKTOR_USD!F22*$B$53 -> 8.674704e+08 | G22: =SEKTOR_USD!G22*$C$53 -> 1.0629975e+09 | H22: =(G22-F22)/F22*100 -> 22.539911 | I22: =G22/G$43*100 -> 81.222205 | J22: =SEKTOR_USD!J22*$B$54 -> 4.6794577e+09 | K22: =SEKTOR_USD!K22*$C$54 -> 6.245176e+09 | L22: =(K22-J22)/J22*100 -> 33.459397 | M22: =K22/K$43*100 -> 81.499084
A23: A. TARIMA DAYALI İŞLENMİŞ ÜRÜNLER | B23: =SEKTOR_USD!B23*$B$52 -> 37346798 | C23: =SEKTOR_USD!C23*$C$52 -> 40527454 | D23: =(C23-B23)/B23*100 -> 8.5165423 | E23: =C23/C$43*100 -> 6.1976131 | F23: =SEKTOR_USD!F23*$B$53 -> 71700503 | G23: =SEKTOR_USD!G23*$C$53 -> 82525185 | H23: =(G23-F23)/F23*100 -> 15.09708 | I23: =G23/G$43*100 -> 6.3056383 | J23: =SEKTOR_USD!J23*$B$54 -> 3.6745817e+08 | K23: =SEKTOR_USD!K23*$C$54 -> 4.6718589e+08 | L23: =(K23-J23)/J23*100 -> 27.139885 | M23: =K23/K$43*100 -> 6.0967412
A24: =SEKTOR_USD!A24 -> Tekstil ve Hammaddeleri | B24: =SEKTOR_USD!B24*$B$52 -> 24935646 | C24: =SEKTOR_USD!C24*$C$52 -> 27495462 | D24: =(C24-B24)/B24*100 -> 10.265692 | E24: =C24/C$43*100 -> 4.2047111 | F24: =SEKTOR_USD!F24*$B$53 -> 48507393 | G24: =SEKTOR_USD!G24*$C$53 -> 56857642 | H24: =(G24-F24)/F24*100 -> 17.214385 | I24: =G24/G$43*100 -> 4.3444159 | J24: =SEKTOR_USD!J24*$B$54 -> 2.4710211e+08 | K24: =SEKTOR_USD!K24*$C$54 -> 3.2035709e+08 | L24: =(K24-J24)/J24*100 -> 29.645631 | M24: =K24/K$43*100 -> 4.1806362
A25: =SEKTOR_USD!A25 -> Deri ve Deri Mamulleri | B25: =SEKTOR_USD!B25*$B$52 -> 4399840.5 | C25: =SEKTOR_USD!C25*$C$52 -> 4791993.5 | D25: =(C25-B25)/B25*100 -> 8.9128917 | E25: =C25/C$43*100 -> 0.73280994 | F25: =SEKTOR_USD!F25*$B$53 -> 8005597.1 | G25: =SEKTOR_USD!G25*$C$53 -> 9282273 | H25: =(G25-F25)/F25*100 -> 15.947292 | I25: =G25/G$43*100 -> 0.70924599 | J25: =SEKTOR_USD!J25*$B$54 -> 45550918 | K25: =SEKTOR_USD!K25*$C$54 -> 51411390 | L25: =(K25-J25)/J25*100 -> 12.865762 | M25: =K25/K$43*100 -> 0.67091483
A26: =SEKTOR_USD!A26 -> Halı | B26: =SEKTOR_USD!B26*$B$52 -> 8011312.2 | C26: =SEKTOR_USD!C26*$C$52 -> 8239998.6 | D26: =(C26-B26)/B26*100 -> 2.8545437 | E26: =C26/C$43*100 -> 1.2600921 | F26: =SEKTOR_USD!F26*$B$53 -> 15187513 | G26: =SEKTOR_USD!G26*$C$53 -> 16385270 | H26: =(G26-F26)/F26*100 -> 7.8864566 | I26: =G26/G$43*100 -> 1.2519764 | J26: =SEKTOR_USD!J26*$B$54 -> 74805141 | K26: =SEKTOR_USD!K26*$C$54 -> 95417411 | L26: =(K26-J26)/J26*100 -> 27.554617 | M26: =K26/K$43*100 -> 1.2451901
A27: B. KİMYEVİ MADDELER VE MAM. | B27: =SEKTOR_USD!B27*$B$52 -> 80615349 | C27: =SEKTOR_USD!C27*$C$52 -> 90242079 | D27: =(C27-B27)/B27*100 -> 11.941561 | E27: =C27/C$43*100 -> 13.800163 | F27: =SEKTOR_USD!F27*$B$53 -> 1.517369e+08 | G27: =SEKTOR_USD!G27*$C$53 -> 1.8088189e+08 | H27: =(G27-F27)/F27*100 -> 19.207584 | I27: =G27/G$43*100 -> 13.820942 | J27: =SEKTOR_USD!J27*$B$54 -> 7.945199e+08 | K27: =SEKTOR_USD!K27*$C$54 -> 1.0413924e+09 | L27: =(K27-J27)/J27*100 -> 31.071913 | M27: =K27/K$43*100 -> 13.590094
A28: =SEKTOR_USD!A28 -> Kimyevi Maddeler ve Mamulleri | B28: =SEKTOR_USD!B28*$B$52 -> 80615349 | C28: =SEKTOR_USD!C28*$C$52 -> 90242079 | D28: =(C28-B28)/B28*100 -> 11.941561 | E28: =C28/C$43*100 -> 13.800163 | F28: =SEKTOR_USD!F28*$B$53 -> 1.517369e+08 | G28: =SEKTOR_USD!G28*$C$53 -> 1.8088189e+08 | H28: =(G28-F28)/F28*100 -> 19.207584 | I28: =G28/G$43*100 -> 13.820942 | J28: =SEKTOR_USD!J28*$B$54 -> 7.945199e+08 | K28: =SEKTOR_USD!K28*$C$54 -> 1.0413924e+09 | L28: =(K28-J28)/J28*100 -> 31.071913 | M28: =K28/K$43*100 -> 13.590094
A29: C. SANAYİ MAMULLERİ | B29: =SEKTOR_USD!B29*$B$52 -> 3.4020414e+08 | C29: =SEKTOR_USD!C29*$C$52 -> 4.0075595e+08 | D29: =(C29-B29)/B29*100 -> 17.798671 | E29: =C29/C$43*100 -> 61.28513 | F29: =SEKTOR_USD!F29*$B$53 -> 6.44033e+08 | G29: =SEKTOR_USD!G29*$C$53 -> 7.9959038e+08 | H29: =(G29-F29)/F29*100 -> 24.153635 | I29: =G29/G$43*100 -> 61.095625 | J29: =SEKTOR_USD!J29*$B$54 -> 3.5174796e+09 | K29: =SEKTOR_USD!K29*$C$54 -> 4.7365977e+09 | L29: =(K29-J29)/J29*100 -> 34.658853 | M29: =K29/K$43*100 -> 61.812248
A30: =SEKTOR_USD!A30 -> Hazırgiyim ve Konfeksiyon | B30: =SEKTOR_USD!B30*$B$52 -> 46115657 | C30: =SEKTOR_USD!C30*$C$52 -> 49138253 | D30: =(C30-B30)/B30*100 -> 6.5543826 | E30: =C30/C$43*100 -> 7.5144093 | F30: =SEKTOR_USD!F30*$B$53 -> 88722812 | G30: =SEKTOR_USD!G30*$C$53 -> 99310655 | H30: =(G30-F30)/F30*100 -> 11.933619 | I30: =G30/G$43*100 -> 7.5881934 | J30: =SEKTOR_USD!J30*$B$54 -> 4.8721515e+08 | K30: =SEKTOR_USD!K30*$C$54 -> 6.0019906e+08 | L30: =(K30-J30)/J30*100 -> 23.189735 | M30: =K30/K$43*100 -> 7.8325532
A31: =SEKTOR_USD!A31 -> Otomotiv Endüstrisi | B31: =SEKTOR_USD!B31*$B$52 -> 96283646 | C31: =SEKTOR_USD!C31*$C$52 -> 1.0781094e+08 | D31: =(C31-B31)/B31*100 -> 11.97222 | E31: =C31/C$43*100 -> 16.48686 | F31: =SEKTOR_USD!F31*$B$53 -> 1.7964208e+08 | G31: =SEKTOR_USD!G31*$C$53 -> 2.1434498e+08 | H31: =(G31-F31)/F31*100 -> 19.317802 | I31: =G31/G$43*100 -> 16.377811 | J31: =SEKTOR_USD!J31*$B$54 -> 9.1415743e+08 | K31: =SEKTOR_USD!K31*$C$54 -> 1.2590421e+09 | L31: =(K31-J31)/J31*100 -> 37.727055 | M31: =K31/K$43*100 -> 16.430406
A32: =SEKTOR_USD!A32 -> Gemi, Yat ve Hizmetleri | B32: =SEKTOR_USD!B32*$B$52 -> 4349292.5 | C32: =SEKTOR_USD!C32*$C$52 -> 5743284.2 | D32: =(C32-B32)/B32*100 -> 32.051 | E32: =C32/C$43*100 -> 0.87828495 | F32: =SEKTOR_USD!F32*$B$53 -> 9388157 | G32: =SEKTOR_USD!G32*$C$53 -> 8646344.2 | H32: =(G32-F32)/F32*100 -> -7.9015812 | I32: =G32/G$43*100 -> 0.66065552 | J32: =SEKTOR_USD!J32*$B$54 -> 55997023 | K32: =SEKTOR_USD!K32*$C$54 -> 62312277 | L32: =(K32-J32)/J32*100 -> 11.277839 | M32: =K32/K$43*100 -> 0.81317059
A33: =SEKTOR_USD!A33 -> Elektrik ve Elektronik | B33: =SEKTOR_USD!B33*$B$52 -> 39596272 | C33: =SEKTOR_USD!C33*$C$52 -> 46887795 | D33: =(C33-B33)/B33*100 -> 18.414671 | E33: =C33/C$43*100 -> 7.1702606 | F33: =SEKTOR_USD!F33*$B$53 -> 75877047 | G33: =SEKTOR_USD!G33*$C$53 -> 90358643 | H33: =(G33-F33)/F33*100 -> 19.085608 | I33: =G33/G$43*100 -> 6.9041823 | J33: =SEKTOR_USD!J33*$B$54 -> 4.1679504e+08 | K33: =SEKTOR_USD!K33*$C$54 -> 5.6396271e+08 | L33: =(K33-J33)/J33*100 -> 35.309363 | M33: =K33/K$43*100 -> 7.3596716
A34: =SEKTOR_USD!A34 -> Makine ve Aksamları | B34: =SEKTOR_USD!B34*$B$52 -> 28022979 | C34: =SEKTOR_USD!C34*$C$52 -> 29410050 | D34: =(C34-B34)/B34*100 -> 4.9497616 | E34: =C34/C$43*100 -> 4.4974971 | F34: =SEKTOR_USD!F34*$B$53 -> 52740573 | G34: =SEKTOR_USD!G34*$C$53 -> 57518810 | H34: =(G34-F34)/F34*100 -> 9.0598877 | I34: =G34/G$43*100 -> 4.3949348 | J34: =SEKTOR_USD!J34*$B$54 -> 2.9222431e+08 | K34: =SEKTOR_USD!K34*$C$54 -> 3.7344438e+08 | L34: =(K34-J34)/J34*100 -> 27.793743 | M34: =K34/K$43*100 -> 4.8734215
A35: =SEKTOR_USD!A35 -> Demir ve Demir Dışı Metaller | B35: =SEKTOR_USD!B35*$B$52 -> 30258803 | C35: =SEKTOR_USD!C35*$C$52 -> 36947606 | D35: =(C35-B35)/B35*100 -> 22.105312 | E35: =C35/C$43*100 -> 5.650169 | F35: =SEKTOR_USD!F35*$B$53 -> 58456893 | G35: =SEKTOR_USD!G35*$C$53 -> 72855826 | H35: =(G35-F35)/F35*100 -> 24.631711 | I35: =G35/G$43*100 -> 5.5668156 | J35: =SEKTOR_USD!J35*$B$54 -> 3.1701543e+08 | K35: =SEKTOR_USD!K35*$C$54 -> 4.2360551e+08 | L35: =(K35-J35)/J35*100 -> 33.622993 | M35: =K35/K$43*100 -> 5.5280205
A36: =SEKTOR_USD!A36 -> Çelik | B36: =SEKTOR_USD!B36*$B$52 -> 42341016 | C36: =SEKTOR_USD!C36*$C$52 -> 44939357 | D36: =(C36-B36)/B36*100 -> 6.1367002 | E36: =C36/C$43*100 -> 6.872298 | F36: =SEKTOR_USD!F36*$B$53 -> 75728298 | G36: =SEKTOR_USD!G36*$C$53 -> 89382428 | H36: =(G36-F36)/F36*100 -> 18.030419 | I36: =G36/G$43*100 -> 6.829591 | J36: =SEKTOR_USD!J36*$B$54 -> 3.9026996e+08 | K36: =SEKTOR_USD!K36*$C$54 -> 5.4528882e+08 | L36: =(K36-J36)/J36*100 -> 39.720931 | M36: =K36/K$43*100 -> 7.1159786
A37: =SEKTOR_USD!A37 -> Çimento Cam Seramik ve Toprak Ürünleri | B37: =SEKTOR_USD!B37*$B$52 -> 10719357 | C37: =SEKTOR_USD!C37*$C$52 -> 11626776 | D37: =(C37-B37)/B37*100 -> 8.4652392 | E37: =C37/C$43*100 -> 1.778011 | F37: =SEKTOR_USD!F37*$B$53 -> 20401739 | G37: =SEKTOR_USD!G37*$C$53 -> 22942503 | H37: =(G37-F37)/F37*100 -> 12.453663 | I37: =G37/G$43*100 -> 1.7530058 | J37: =SEKTOR_USD!J37*$B$54 -> 1.1705518e+08 | K37: =SEKTOR_USD!K37*$C$54 -> 1.4460515e+08 | L37: =(K37-J37)/J37*100 -> 23.535884 | M37: =K37/K$43*100 -> 1.8870865
A38: =SEKTOR_USD!A38 -> Mücevher | B38: =SEKTOR_USD!B38*$B$52 -> 14810176 | C38: =SEKTOR_USD!C38*$C$52 -> 31163901 | D38: =(C38-B38)/B38*100 -> 110.42222 | E38: =C38/C$43*100 -> 4.7657028 | F38: =SEKTOR_USD!F38*$B$53 -> 28885566 | G38: =SEKTOR_USD!G38*$C$53 -> 72610840 | H38: =(G38-F38)/F38*100 -> 151.37413 | I38: =G38/G$43*100 -> 5.5480966 | J38: =SEKTOR_USD!J38*$B$54 -> 1.9693299e+08 | K38: =SEKTOR_USD!K38*$C$54 -> 2.8822092e+08 | L38: =(K38-J38)/J38*100 -> 46.354821 | M38: =K38/K$43*100 -> 3.7612616
A39: =SEKTOR_USD!A39 -> Savunma ve Havacılık Sanayii | B39: =SEKTOR_USD!B39*$B$52 -> 9232021.8 | C39: =SEKTOR_USD!C39*$C$52 -> 15684507 | D39: =(C39-B39)/B39*100 -> 69.892441 | E39: =C39/C$43*100 -> 2.3985347 | F39: =SEKTOR_USD!F39*$B$53 -> 19162038 | G39: =SEKTOR_USD!G39*$C$53 -> 29262864 | H39: =(G39-F39)/F39*100 -> 52.712686 | I39: =G39/G$43*100 -> 2.235936 | J39: =SEKTOR_USD!J39*$B$54 -> 1.441191e+08 | K39: =SEKTOR_USD!K39*$C$54 -> 2.3376066e+08 | L39: =(K39-J39)/J39*100 -> 62.19964 | M39: =K39/K$43*100 -> 3.0505593
A40: =SEKTOR_USD!A40 -> İklimlendirme Sanayii | B40: =SEKTOR_USD!B40*$B$52 -> 18474917 | C40: =SEKTOR_USD!C40*$C$52 -> 21403487 | D40: =(C40-B40)/B40*100 -> 15.851602 | E40: =C40/C$43*100 -> 3.2731029 | F40: =SEKTOR_USD!F40*$B$53 -> 35027799 | G40: =SEKTOR_USD!G40*$C$53 -> 42356490 | H40: =(G40-F40)/F40*100 -> 20.9225 | I40: =G40/G$43*100 -> 3.2364024 | J40: =SEKTOR_USD!J40*$B$54 -> 1.8569798e+08 | K40: =SEKTOR_USD!K40*$C$54 -> 2.4215608e+08 | L40: =(K40-J40)/J40*100 -> 30.403183 | M40: =K40/K$43*100 -> 3.1601189
A41: III. MADENCİLİK | B41: =SEKTOR_USD!B41*$B$52 -> 13914748 | C41: =SEKTOR_USD!C41*$C$52 -> 15138230 | D41: =(C41-B41)/B41*100 -> 8.792706 | E41: =C41/C$43*100 -> 2.314996 | F41: =SEKTOR_USD!F41*$B$53 -> 27310929 | G41: =SEKTOR_USD!G41*$C$53 -> 31405563 | H41: =(G41-F41)/F41*100 -> 14.992659 | I41: =G41/G$43*100 -> 2.3996568 | J41: =SEKTOR_USD!J41*$B$54 -> 1.4913959e+08 | K41: =SEKTOR_USD!K41*$C$54 -> 2.0224643e+08 | L41: =(K41-J41)/J41*100 -> 35.608815 | M41: =K41/K$43*100 -> 2.6393009
A42: =SEKTOR_USD!A42 -> Madencilik Ürünleri | B42: =SEKTOR_USD!B42*$B$52 -> 13914748 | C42: =SEKTOR_USD!C42*$C$52 -> 15138230 | D42: =(C42-B42)/B42*100 -> 8.792706 | E42: =C42/C$43*100 -> 2.314996 | F42: =SEKTOR_USD!F42*$B$53 -> 27310929 | G42: =SEKTOR_USD!G42*$C$53 -> 31405563 | H42: =(G42-F42)/F42*100 -> 14.992659 | I42: =G42/G$43*100 -> 2.3996568 | J42: =SEKTOR_USD!J42*$B$54 -> 1.4913959e+08 | K42: =SEKTOR_USD!K42*$C$54 -> 2.0224643e+08 | L42: =(K42-J42)/J42*100 -> 35.608815 | M42: =K42/K$43*100 -> 2.6393009
A43: T O P L A M (TİM*) | B43: =SEKTOR_USD!B43*$B$52 -> 5.6771487e+08 | C43: =SEKTOR_USD!C43*$C$52 -> 6.5392037e+08 | D43: =(C43-B43)/B43*100 -> 15.184647 | E43: =C43/C$43*100 -> 100 | F43: =SEKTOR_USD!F43*$B$53 -> 1.0834182e+09 | G43: =SEKTOR_USD!G43*$C$53 -> 1.3087523e+09 | H43: =(G43-F43)/F43*100 -> 20.798437 | I43: =G43/G$43*100 -> 100 | J43: =SEKTOR_USD!J43*$B$54 -> 5.7505197e+09 | K43: =SEKTOR_USD!K43*$C$54 -> 7.6628788e+09 | L43: =(K43-J43)/J43*100 -> 33.255413 | M43: =K43/K$43*100 -> 100
A44: İhracatçı Birlikleri Kaydından Muaf İhracat | B44: =SEKTOR_USD!#REF!*2.1157 -> #REF! | C44: =SEKTOR_USD!#REF!*2.7012 -> #REF! | F44: =SEKTOR_USD!#REF!*2.1642 -> #REF! | G44: =SEKTOR_USD!#REF!*2.5613 -> #REF! | H44: =(G44-F44)/F44*100 -> #REF! | I44: =G44/G$45*100 -> #REF! | J44: =SEKTOR_USD!#REF!*2.0809 -> #REF! | K44: =SEKTOR_USD!#REF!*2.3856 -> #REF! | L44: =(K44-J44)/J44*100 -> #REF! | M44: =K44/K$45*100 -> #REF!
A45: T O P L A M (TİM+TUİK*) | B45: =SEKTOR_USD!#REF!*2.1157 -> #REF! | C45: =SEKTOR_USD!#REF!*2.7012 -> #REF! | D45: =(C45-B45)/B45*100 -> #REF! | E45: =C45/C$45*100 -> #REF! | F45: =SEKTOR_USD!#REF!*2.1642 -> #REF! | G45: =SEKTOR_USD!#REF!*2.5613 -> #REF! | H45: =(G45-F45)/F45*100 -> #REF! | I45: =G45/G$45*100 -> #REF! | J45: =SEKTOR_USD!#REF!*2.0809 -> #REF! | K45: =SEKTOR_USD!#REF!*2.3856 -> #REF! | L45: =(K45-J45)/J45*100 -> #REF! | M45: =K45/K$45*100 -> #REF!
A47: *Ocak-Haziran dönemi için ilk 5 ay TUİK, son ay TİM rakamı kullanılmıştır.
A48: Son 12 aylık dönem için ilk 11 ay TUİK, son ay TİM rakamı kullanılmıştır.
A50: Not: İlgili dönem ortalama MB Dolar Satış Kuru baz alınarak hesaplanmıştır.
B51: 2024 | C51: 2025
A52: 1 - 28 Şubat | B52: 30.78419 | C52: 36.169082
A53: 1- Ocak - 28 Şubat | B53: 30.424971 | C53: 35.846402
A54: 1 Mart - 28 Şubat | B54: 25.698764 | C54: 33.775609

Sheet USDvsTL
A5: İHRACAT ARTIŞI KARŞILAŞTIRMA TABLOSU (USD - TL)
B6: OCAK (2025/2024) | D6: OCAK - ŞUBAT (2025/2024) | F6: SON 12 AYLIK (2025/2024)
A7: SEKTÖRLER | B7: USD Bazında Artış (%) | C7: TL Bazında Artış (%) | D7: USD Bazında Artış (%) | E7: TL Bazında Artış (%) | F7: USD Bazında Artış (%) | G7: TL Bazında Artış (%)
A8: I. TARIM | B8: =SEKTOR_USD!D8 -> -4.544073 | C8: =SEKTOR_TL!D8 -> 12.153454 | D8: =SEKTOR_USD!H8 -> -3.5549495 | E8: =SEKTOR_TL!H8 -> 13.630613 | F8: =SEKTOR_USD!L8 -> 0.31225946 | G8: =SEKTOR_TL!L8 -> 31.839325
A9: A. BİTKİSEL ÜRÜNLER | B9: =SEKTOR_USD!D9 -> -2.8627991 | C9: =SEKTOR_TL!D9 -> 14.128823 | D9: =SEKTOR_USD!H9 -> -1.7957665 | E9: =SEKTOR_TL!H9 -> 15.703265 | F9: =SEKTOR_USD!L9 -> 0.7111982 | G9: =SEKTOR_TL!L9 -> 32.363646
A10: Hububat, Bakliyat, Yağlı Tohumlar ve Mam. | B10: =SEKTOR_USD!D10 -> 2.2293463 | C10: =SEKTOR_TL!D10 -> 20.111707 | D10: =SEKTOR_USD!H10 -> 1.9972636 | E10: =SEKTOR_TL!H10 -> 20.172176 | F10: =SEKTOR_USD!L10 -> -5.0378632 | G10: =SEKTOR_TL!L10 -> 24.807717
A11: Yaş Meyve ve Sebze | B11: =SEKTOR_USD!D11 -> 0.11455049 | C11: =SEKTOR_TL!D11 -> 17.626983 | D11: =SEKTOR_USD!H11 -> -1.7773108 | E11: =SEKTOR_TL!H11 -> 15.72501 | F11: =SEKTOR_USD!L11 -> -4.28365 | G11: =SEKTOR_TL!L11 -> 25.798971
A12: Meyve Sebze Mamulleri | B12: =SEKTOR_USD!D12 -> -14.81676 | C12: =SEKTOR_TL!D12 -> 0.083828004 | D12: =SEKTOR_USD!H12 -> -12.080953 | E12: =SEKTOR_TL!H12 -> 3.5853593 | F12: =SEKTOR_USD!L12 -> 5.5923733 | G12: =SEKTOR_TL!L12 -> 38.778922
A13: Kuru Meyve ve Mamulleri | B13: =SEKTOR_USD!D13 -> -13.783204 | C13: =SEKTOR_TL!D13 -> 1.2981782 | D13: =SEKTOR_USD!H13 -> -5.7530591 | E13: =SEKTOR_TL!H13 -> 11.040822 | F13: =SEKTOR_USD!L13 -> 7.6848026 | G13: =SEKTOR_TL!L13 -> 41.52898
A14: Fındık ve Mamulleri | B14: =SEKTOR_USD!D14 -> 10.711715 | C14: =SEKTOR_TL!D14 -> 30.077845 | D14: =SEKTOR_USD!H14 -> 5.8903557 | E14: =SEKTOR_TL!H14 -> 24.758979 | F14: =SEKTOR_USD!L14 -> 35.168572 | G14: =SEKTOR_TL!L14 -> 77.650603
A15: Zeytin ve Zeytinyağı | B15: =SEKTOR_USD!D15 -> -50.132445 | C15: =SEKTOR_TL!D15 -> -41.409415 | D15: =SEKTOR_USD!H15 -> -44.318041 | E15: =SEKTOR_TL!H15 -> -34.396062 | F15: =SEKTOR_USD!L15 -> -11.607909 | G15: =SEKTOR_TL!L15 -> 16.172776
A16: Tütün ve Mamulleri | B16: =SEKTOR_USD!D16 -> -11.163438 | C16: =SEKTOR_TL!D16 -> 4.3762044 | D16: =SEKTOR_USD!H16 -> 9.3306837 | E16: =SEKTOR_TL!H16 -> 28.81234 | F16: =SEKTOR_USD!L16 -> 8.7461083 | G16: =SEKTOR_TL!L16 -> 42.923842
A17: Süs Bitkileri | B17: =SEKTOR_USD!D17 -> 11.162159 | C17: =SEKTOR_TL!D17 -> 30.607083 | D17: =SEKTOR_USD!H17 -> 20.070198 | E17: =SEKTOR_TL!H17 -> 41.46553 | F17: =SEKTOR_USD!L17 -> 7.6634682 | G17: =SEKTOR_TL!L17 -> 41.50094
A18: B. HAYVANSAL ÜRÜNLER | B18: =SEKTOR_USD!D18 -> -11.318134 | C18: =SEKTOR_TL!D18 -> 4.1944476 | D18: =SEKTOR_USD!H18 -> -15.965893 | E18: =SEKTOR_TL!H18 -> -0.99183861 | F18: =SEKTOR_USD!L18 -> 3.212576 | G18: =SEKTOR_TL!L18 -> 35.65118
A19: Su Ürünleri ve Hayvansal Mamuller | B19: =SEKTOR_USD!D19 -> -11.318134 | C19: =SEKTOR_TL!D19 -> 4.1944476 | D19: =SEKTOR_USD!H19 -> -15.965893 | E19: =SEKTOR_TL!H19 -> -0.99183861 | F19: =SEKTOR_USD!L19 -> 3.212576 | G19: =SEKTOR_TL!L19 -> 35.65118
... A43: T O P L A M | B43: =SEKTOR_USD!D43 -> -1.9641675 | C43: =SEKTOR_TL!D43 -> 15.184647 | D43: =SEKTOR_USD!H43 -> 2.5288081 | E43: =SEKTOR_TL!H43 -> 20.798437 | F43: =SEKTOR_USD!L43 -> 1.3897143 | G43: =SEKTOR_TL!L43 -> 33.255413
A44: İhracatçı Birlikleri Kaydından Muaf İhracat | D44: =SEKTOR_USD!#REF! -> #REF! | E44: =SEKTOR_TL!H44 -> #REF! | F44: =SEKTOR_USD!#REF! -> #REF! | G44: =SEKTOR_TL!L44 -> #REF!
A45: T O P L A M | B45: =SEKTOR_USD!#REF! -> #REF! | C45: =SEKTOR_TL!D45 -> #REF! | D45: =SEKTOR_USD!#REF! -> #REF! | E45: =SEKTOR_TL!H45 -> #REF! | F45: =SEKTOR_USD!#REF! -> #REF! | G45: =SEKTOR_TL!L45 -> #REF!
A47: Not: İlgili dönem ortalama MB Dolar Alış Kuru baz alınarak hesaplanmıştır.

Sheet GEN_SEK
C2: 1 - 28 ŞUBAT İHRACAT RAKAMLARI
A6: İHRACATÇI BİRLİKLERİ GENEL SEKRETERLİKLERİ BAZINDA İHRACAT RAKAMLARI (1.000 $)
B7: 1 - 28 ŞUBAT | F7: 1 OCAK - 28 ŞUBAT | J7: SON 12 AYLIK
A8: İHRACATÇI BİRLİKLERİ GENEL SEKRETERLİKLERİ | B8: 2024 | C8: 2025 | D8: Değişim ('25/'24) | E8: Pay(25) (%) | F8: 2024 | G8: 2025 | H8: Değişim ('25/'24) | I8: Pay(25) (%) | J8: 2023 - 2024 | K8: 2024 - 2025 | L8: Değişim ('25/'24) | M8: Pay(25) (%)
A9: İMMİB | B9: 5616112.1 | C9: 5563451.4 | D9: =(C9-B9)/B9*100 -> -0.93767162 | E9: =C9/C$23*100 -> 30.772084 | F9: 10614035 | G9: 11438618 | H9: =(G9-F9)/F9*100 -> 7.7687908 | I9: =G9/G$23*100 -> 31.330092 | J9: 67936921 | K9: 68889116 | L9: =(K9-J9)/J9*100 -> 1.401586 | M9: =K9/K$23*100 -> 30.3642
A10: UİB | B10: 3228995.4 | C10: 3088167.2 | D10: =(C10-B10)/B10*100 -> -4.3613613 | E10: =C10/C$23*100 -> 17.081005 | F10: 6136413.2 | G10: 6187910.4 | H10: =(G10-F10)/F10*100 -> 0.83920734 | I10: =G10/G$23*100 -> 16.948534 | J10: 37083799 | K10: 38679418 | L10: =(K10-J10)/J10*100 -> 4.3027403 | M10: =K10/K$23*100 -> 17.048696
A11: OAİB | B11: 2014215.1 | C11: 2147224.3 | D11: =(C11-B11)/B11*100 -> 6.6035233 | E11: =C11/C$23*100 -> 11.876542 | F11: 3870283.3 | G11: 4022104.5 | H11: =(G11-F11)/F11*100 -> 3.9227407 | I11: =G11/G$23*100 -> 11.016445 | J11: 26260004 | K11: 27339971 | L11: =(K11-J11)/J11*100 -> 4.1125913 | M11: =K11/K$23*100 -> 12.050617
A12: İTKİB | B12: 1704079.6 | C12: 1601372.7 | D12: =(C12-B12)/B12*100 -> -6.0271184 | E12: =C12/C$23*100 -> 8.857375 | F12: 3348011.1 | G12: 3232075.1 | H12: =(G12-F12)/F12*100 -> -3.4628323 | I12: =G12/G$23*100 -> 8.852574 | J12: 21767201 | K12: 20387856 | L12: =(K12-J12)/J12*100 -> -6.3368043 | M12: =K12/K$23*100 -> 8.9863388
A13: EİB | B13: 1572670.9 | C13: 1418911.7 | D13: =(C13-B13)/B13*100 -> -9.7769454 | E13: =C13/C$23*100 -> 7.8481625 | F13: 3044950.5 | G13: 2892652.1 | H13: =(G13-F13)/F13*100 -> -5.0016734 | I13: =G13/G$23*100 -> 7.9229026 | J13: 18358289 | K13: 18250302 | L13: =(K13-J13)/J13*100 -> -0.58821603 | M13: =K13/K$23*100 -> 8.0441711
A14: AKİB | B14: 1380086.8 | C14: 1400404.9 | D14: =(C14-B14)/B14*100 -> 1.4722373 | E14: =C14/C$23*100 -> 7.7457996 | F14: 2682216.4 | G14: 2896877.9 | H14: =(G14-F14)/F14*100 -> 8.0031425 | I14: =G14/G$23*100 -> 7.9344772 | J14: 16608148 | K14: 17421602 | L14: =(K14-J14)/J14*100 -> 4.8979208 | M14: =K14/K$23*100 -> 7.6789053
A15: İİB | B15: 1027783.4 | C15: 929835.03 | D15: =(C15-B15)/B15*100 -> -9.5300638 | E15: =C15/C$23*100 -> 5.1430237 | F15: 2044443.2 | G15: 1936475.6 | H15: =(G15-F15)/F15*100 -> -5.2810261 | I15: =G15/G$23*100 -> 5.3039589 | J15: 12021472 | K15: 11939239 | L15: =(K15-J15)/J15*100 -> -0.68404418 | M15: =K15/K$23*100 -> 5.262449
A16: GAİB | B16: 975477.19 | C16: 955267.06 | D16: =(C16-B16)/B16*100 -> -2.0718204 | E16: =C16/C$23*100 -> 5.2836911 | F16: 1926925 | G16: 1941282.5 | H16: =(G16-F16)/F16*100 -> 0.74509886 | I16: =G16/G$23*100 -> 5.3171249 | J16: 12109368 | K16: 11712383 | L16: =(K16-J16)/J16*100 -> -3.2783313 | M16: =K16/K$23*100 -> 5.1624577
A17: DENİB | B17: 267243.42 | C17: 268249.08 | D17: =(C17-B17)/B17*100 -> 0.37630851 | E17: =C17/C$23*100 -> 1.4837163 | F17: 532992.41 | G17: 564048.95 | H17: =(G17-F17)/F17*100 -> 5.8268259 | I17: =G17/G$23*100 -> 1.5449161 | J17: 3195021.9 | K17: 3518899.1 | L17: =(K17-J17)/J17*100 -> 10.136933 | M17: =K17/K$23*100 -> 1.5510223
A18: BAİB | B18: 204635.08 | C18: 204967.16 | D18: =(C18-B18)/B18*100 -> 0.16227969 | E18: =C18/C$23*100 -> 1.1336967 | F18: 422228.76 | G18: 450677.95 | H18: =(G18-F18)/F18*100 -> 6.737861 | I18: =G18/G$23*100 -> 1.2343958 | J18: 2667935.5 | K18: 2666511.9 | L18: =(K18-J18)/J18*100 -> -0.053361786 | M18: =K18/K$23*100 -> 1.1753163
A19: DAİB | B19: 222394.11 | C19: 213470.73 | D19: =(C19-B19)/B19*100 -> -4.0124159 | E19: =C19/C$23*100 -> 1.180731 | F19: 428323.16 | G19: 416958.51 | H19: =(G19-F19)/F19*100 -> -2.6532884 | I19: =G19/G$23*100 -> 1.1420391 | J19: 2742207.2 | K19: 2591864 | L19: =(K19-J19)/J19*100 -> -5.4825609 | M19: =K19/K$23*100 -> 1.1424138
A20: KİB | B20: 139606.15 | C20: 184196.08 | D20: =(C20-B20)/B20*100 -> 31.939801 | E20: =C20/C$23*100 -> 1.0188095 | F20: 306907.26 | G20: 329794.6 | H20: =(G20-F20)/F20*100 -> 7.4574136 | I20: =G20/G$23*100 -> 0.90329928 | J20: 1672579.4 | K20: 2038007 | L20: =(K20-J20)/J20*100 -> 21.848146 | M20: =K20/K$23*100 -> 0.89829071
... A22: HİZMET | B22: 1877.7093 | C22: 1383.0218 | D22: =(C22-B22)/B22*100 -> -26.345263 | E22: =C22/C$23*100 -> 0.0076496515 | F22: 4567.5143 | G22: 2422.9113 | H22: =(G22-F22)/F22*100 -> -46.953394 | I22: =G22/G$23*100 -> 0.0066362943 | J22: 56300.438 | K22: 71932.482 | L22: =(K22-J22)/J22*100 -> 27.765404 | M22: =K22/K$23*100 -> 0.031705622
A23: TOPLAM | B23: =SUM(B9:B22) -> 18441767 | C23: =SUM(C9:C22) -> 18079540 | D23: =(C23-B23)/B23*100 -> -1.9641675 | E23: =C23/C$23*100 -> 100 | F23: =SUM(F9:F22) -> 35609508 | G23: =SUM(G9:G22) -> 36510004 | H23: =(G23-F23)/F23*100 -> 2.5288081 | I23: =G23/G$23*100 -> 100 | J23: =SUM(J9:J22) -> 2.237664e+08 | K23: =SUM(K9:K22) -> 2.2687611e+08 | L23: =(K23-J23)/J23*100 -> 1.3897143 | M23: =K23/K$23*100 -> 100

Sheet Toplam İhracat  bar gra

Sheet ULKE
B3: 2024 YILI İHRACATIMIZDA İLK 20 ÜLKE (1.000 $)
B4: ÜLKE | C4: OCAK | D4: ŞUBAT | E4: MART | F4: NİSAN | G4: MAYIS | H4: HAZİRAN | I4: TEMMUZ | J4: AĞUSTOS | K4: EYLÜL | L4: EKİM | M4: KASIM | N4: ARALIK | O4: KÜMÜLATİF | P4: % PAY
A5: 1. | B5: ALMANYA | C5: 1579562.5 | D5: 1489926.9 | E5: 0 | F5: 0 | G5: 0 | H5: 0 | I5: 0 | J5: 0 | K5: 0 | L5: 0 | M5: 0 | N5: 0 | O5: 3069489.4 | P5: =O5/O$26*100 -> 8.4072557
A6: 2. | B6: BİRLEŞİK KRALLIK | C6: 1085952.9 | D6: 986650.64 | E6: 0 | F6: 0 | G6: 0 | H6: 0 | I6: 0 | J6: 0 | K6: 0 | L6: 0 | M6: 0 | N6: 0 | O6: 2072603.6 | P6: =O6/O$26*100 -> 5.6768101
A7: 3. | B7: ABD | C7: 1080254.7 | D7: 929427.37 | E7: 0 | F7: 0 | G7: 0 | H7: 0 | I7: 0 | J7: 0 | K7: 0 | L7: 0 | M7: 0 | N7: 0 | O7: 2009682.1 | P7: =O7/O$26*100 -> 5.5044696
A8: 4. | B8: İTALYA | C8: 933327.07 | D8: 1064424.3 | E8: 0 | F8: 0 | G8: 0 | H8: 0 | I8: 0 | J8: 0 | K8: 0 | L8: 0 | M8: 0 | N8: 0 | O8: 1997751.3 | P8: =O8/O$26*100 -> 5.4717916
A9: 5. | B9: IRAK | C9: 824764.28 | D9: 884946.53 | E9: 0 | F9: 0 | G9: 0 | H9: 0 | I9: 0 | J9: 0 | K9: 0 | L9: 0 | M9: 0 | N9: 0 | O9: 1709710.8 | P9: =O9/O$26*100 -> 4.6828557
A10: 6. | B10: İSPANYA | C10: 774438.89 | D10: 770441.68 | E10: 0 | F10: 0 | G10: 0 | H10: 0 | I10: 0 | J10: 0 | K10: 0 | L10: 0 | M10: 0 | N10: 0 | O10: 1544880.6 | P10: =O10/O$26*100 -> 4.2313898
A11: 7. | B11: FRANSA | C11: 794216.6 | D11: 704604.79 | E11: 0 | F11: 0 | G11: 0 | H11: 0 | I11: 0 | J11: 0 | K11: 0 | L11: 0 | M11: 0 | N11: 0 | O11: 1498821.4 | P11: =O11/O$26*100 -> 4.1052348
A12: 8. | B12: BAE | C12: 865219.23 | D12: 599554.98 | E12: 0 | F12: 0 | G12: 0 | H12: 0 | I12: 0 | J12: 0 | K12: 0 | L12: 0 | M12: 0 | N12: 0 | O12: 1464774.2 | P12: =O12/O$26*100 -> 4.0119804
A13: 9. | B13: ROMANYA | C13: 570522.62 | D13: 539355.58 | E13: 0 | F13: 0 | G13: 0 | H13: 0 | I13: 0 | J13: 0 | K13: 0 | L13: 0 | M13: 0 | N13: 0 | O13: 1109878.2 | P13: =O13/O$26*100 -> 3.039929
A14: 10. | B14: HOLLANDA | C14: 543545.12 | D14: 554851.07 | E14: 0 | F14: 0 | G14: 0 | H14: 0 | I14: 0 | J14: 0 | K14: 0 | L14: 0 | M14: 0 | N14: 0 | O14: 1098396.2 | P14: =O14/O$26*100 -> 3.0084801
A15: 11. | B15: POLONYA | C15: 424543.23 | D15: 483962.15 | E15: 0 | F15: 0 | G15: 0 | H15: 0 | I15: 0 | J15: 0 | K15: 0 | L15: 0 | M15: 0 | N15: 0 | O15: 908505.38 | P15: =O15/O$26*100 -> 2.4883738
A16: 12. | B16: RUSYA FEDERASYONU | C16: 430118.02 | D16: 464722.6 | E16: 0 | F16: 0 | G16: 0 | H16: 0 | I16: 0 | J16: 0 | K16: 0 | L16: 0 | M16: 0 | N16: 0 | O16: 894840.62 | P16: =O16/O$26*100 -> 2.4509464
... A24: 20. | B24: LİBYA | C24: 225294.67 | D24: 258670.26 | E24: 0 | F24: 0 | G24: 0 | H24: 0 | I24: 0 | J24: 0 | K24: 0 | L24: 0 | M24: 0 | N24: 0 | O24: 483964.93 | P24: =O24/O$26*100 -> 1.325568
B25: İlk 20 Ülke Toplam | O25: =SUM(O5:O24) -> 24030637 | P25: =SUM(P5:P24) -> 65.819323
B26: Genel Toplam | O26: 36510004 | P26: =O26/O$26*100 -> 100

Sheet KARŞL.
A22: * Aylar bazında toplam ihracat grafiğinde TUİK rakamları kullanılmıştır.

Sheet SEKT1
B1: I. TARIM
B2: A. BİTKİSEL ÜRÜNLER

Sheet SEKT2 

Sheet SEKT3 
C2: B. HAYVANSAL ÜRÜNLER
C21: C. AĞAÇ MAMULLERİ VE ORMAN ÜRÜNLERİ

Sheet SEKT4 
B1: II. SANAYİ
B2: A. TARIMA DAYALI İŞLENMİŞ ÜRÜNLER

Sheet SEKT5 
B1: B. KİMYEVİ MADDELER
B18: C. SANAYİ MAMULLERİ

Sheet 2002_2025_AYLIK_IHR
B1: (x1000 $) | C1: OCAK | D1: ŞUBAT | E1: MART | F1: NİSAN | G1: MAYIS | H1: HAZİRAN | I1: TEMMUZ | J1: AGUSTOS | K1: EYLÜL | L1: EKİM | M1: KASIM | N1: ARALIK | O1: TOPLAM
A2: 2025 | B2: I. TARIM | C2: =C4+C6+C8+C10+C12+C14+C16+C18+C20+C22 -> 3014235.2 | D2: =D4+D6+D8+D10+D12+D14+D16+D18+D20+D22 -> 2965423.8 | O2: =O4+O6+O8+O10+O12+O14+O16+O18+O20+O22 -> 5979659
A3: 2024 | B3: I. TARIM | C3: =C5+C7+C9+C11+C13+C15+C17+C19+C21+C23 -> 3093478.8 | D3: =D5+D7+D9+D11+D13+D15+D17+D19+D21+D23 -> 3106589.5 | E3: =E5+E7+E9+E11+E13+E15+E17+E19+E21+E23 -> 3068646.9 | F3: =F5+F7+F9+F11+F13+F15+F17+F19+F21+F23 -> 2583168 | G3: =G5+G7+G9+G11+G13+G15+G17+G19+G21+G23 -> 3146041.9 | H3: =H5+H7+H9+H11+H13+H15+H17+H19+H21+H23 -> 2434166.3 | I3: =I5+I7+I9+I11+I13+I15+I17+I19+I21+I23 -> 2844870.1 | J3: =J5+J7+J9+J11+J13+J15+J17+J19+J21+J23 -> 2839286.8 | ... O3: =O5+O7+O9+O11+O13+O15+O17+O19+O21+O23 -> 36206625
A4: 2025 | B4: Hububat, Bakliyat, Yağlı Tohumlar ve Mamulleri | C4: 1027755.2 | D4: 1070169 | O4: 2097924.2
A5: 2024 | B5: Hububat, Bakliyat, Yağlı Tohumlar ve Mamulleri | C5: 1010012.1 | D5: 1046831.5 | E5: 1037467.5 | F5: 865266.75 | G5: 1059528.9 | H5: 809216.39 | I5: 941737.99 | J5: 964892.62 | K5: 943402.76 | L5: 1034102.7 | M5: 1057686.5 | N5: 1131368.6 | O5: 11901514
A6: 2025 | B6: Yaş Meyve ve Sebze | C6: 353250.24 | D6: 319343.88 | O6: 672594.13
A7: 2024 | B7: Yaş Meyve ve Sebze | C7: 365786.03 | D7: 318978.49 | E7: 276701.53 | F7: 211805.7 | G7: 283634.73 | H7: 259744.38 | I7: 205539.19 | J7: 213029.55 | K7: 267547.43 | L7: 289020.8 | M7: 360137.09 | N7: 349169.42 | O7: 3401094.4
A8: 2025 | B8: Meyve Sebze Mamulleri | C8: 210456.5 | D8: 199473.29 | O8: 409929.78
A9: 2024 | B9: Meyve Sebze Mamulleri | C9: 232088.58 | D9: 234169.64 | E9: 239526.91 | F9: 199500.3 | G9: 216877.72 | H9: 164240.45 | I9: 225422.82 | J9: 219222.47 | K9: 227187.02 | L9: 277465.23 | M9: 242661.49 | N9: 247781.13 | O9: 2726143.8
A10: 2025 | B10: Kuru Meyve ve Mamulleri | C10: 164567.72 | D10: 146637.97 | O10: 311205.69
A11: 2024 | B11: Kuru Meyve ve Mamulleri | C11: 160121.92 | D11: 170080.52 | E11: 157757.54 | F11: 114339.35 | G11: 135676.91 | H11: 88559.557 | I11: 103641.01 | J11: 118838.26 | K11: 196806.7 | L11: 235666.07 | M11: 193099.89 | N11: 179172.57 | O11: 1853760.3
A12: 2025 | B12: Fındık ve Mamulleri | C12: 208789.73 | D12: 217693.75 | O12: 426483.48
A13: 2024 | B13: Fındık ve Mamulleri | C13: 206128.33 | D13: 196631.18 | E13: 200759.99 | F13: 176579.71 | G13: 234691.5 | H13: 151405.28 | I13: 214662.48 | J13: 161821.53 | K13: 194028.26 | L13: 320668.05 | M13: 291368.1 | N13: 286879.52 | O13: 2635623.9
A14: 2025 | B14: Zeytin ve Zeytinyağı | C14: 51262.625 | D14: 41195.971 | O14: 92458.595
A15: 2024 | B15: Zeytin ve Zeytinyağı | C15: 83436.901 | D15: 82610.769 | E15: 78426.065 | F15: 49173.908 | G15: 69796.724 | H15: 70268.485 | I15: 61429.349 | J15: 55487.356 | K15: 56089.078 | L15: 60641.232 | M15: 74775.331 | N15: 71035.423 | O15: 813170.62
A16: 2025 | B16: Tütün | C16: 86044.395 | D16: 67747.012 | O16: 153791.41
A17: 2024 | B17: Tütün | C17: 64406 | D17: 76260.281 | E17: 83673.392 | F17: 67010.118 | G17: 76952.423 | H17: 80441.302 | I17: 93554.622 | J17: 98098.891 | K17: 77068.33 | L17: 91153.999 | M17: 79503.759 | N17: 90566.73 | O17: 978689.85
A18: 2025 | B18: Süs Bitkileri ve Mamulleri | C18: 18347.959 | D18: 19426.086 | O18: 37774.046
A19: 2024 | B19: Süs Bitkileri ve Mamulleri | C19: 13984.519 | D19: 17475.449 | E19: 17466.657 | F19: 14415.687 | G19: 14684.507 | H19: 7954.6204 | I19: 6293.0091 | J19: 5688.9343 | K19: 7601.4904 | L19: 10952.754 | M19: 10347.757 | N19: 13807.078 | O19: 140672.46
A20: 2025 | B20: Su Ürünleri ve Hayvansal Mamuller | C20: 284657.05 | D20: 276116.65 | O20: 560773.71
A21: 2024 | B21: Su Ürünleri ve Hayvansal Mamuller | C21: 355960.4 | D21: 311356.39 | E21: 301716.03 | F21: 302178.78 | G21: 317479.84 | H21: 257665.7 | I21: 286297.65 | J21: 337285.63 | K21: 330368.84 | L21: 366778.45 | M21: 346929.08 | N21: 348923.64 | O21: 3862940.4
A22: 2025 | B22: Mobilya, Kağıt ve Orman Ürünleri | C22: 609103.77 | D22: 607620.17 | O22: 1216723.9
A23: 2024 | B23: Mobilya, Kağıt ve Orman Ürünleri | C23: 601554.01 | D23: 652195.26 | E23: 675151.29 | F23: 582897.66 | G23: 736718.59 | H23: 544670.1 | I23: 706291.94 | J23: 664921.6 | K23: 660650.75 | L23: 689369.07 | M23: 669909.46 | N23: 708685.62 | O23: 7893015.4
A24: 2025 | B24: II. SANAYİ | C24: =C26+C28+C30+C32+C34+C36+C38+C40+C42+C44+C46+C48+C50+C52+C54 -> 14958654 | D24: =D26+D28+D30+D32+D34+D36+D38+D40+D42+D44+D46+D48+D50+D52+D54 -> 14695576 | O24: =O26+O28+O30+O32+O34+O36+O38+O40+O42+O44+O46+O48+O50+O52+O54 -> 29654230
A25: 2024 | B25: II. SANAYİ | C25: =C27+C29+C31+C33+C35+C37+C39+C41+C43+C45+C47+C49+C51+C53+C55 -> 13628623 | D25: =D27+D29+D31+D33+D35+D37+D39+D41+D43+D45+D47+D49+D51+D53+D55 -> 14883168 | E25: =E27+E29+E31+E33+E35+E37+E39+E41+E43+E45+E47+E49+E51+E53+E55 -> 16223972 | F25: =F27+F29+F31+F33+F35+F37+F39+F41+F43+F45+F47+F49+F51+F53+F55 -> 13219082 | G25: =G27+G29+G31+G33+G35+G37+G39+G41+G43+G45+G47+G49+G51+G53+G55 -> 17153850 | H25: =H27+H29+H31+H33+H35+H37+H39+H41+H43+H45+H47+H49+H51+H53+H55 -> 13245437 | I25: =I27+I29+I31+I33+I35+I37+I39+I41+I43+I45+I47+I49+I51+I53+I55 -> 15906317 | J25: =J27+J29+J31+J33+J35+J37+J39+J41+J43+J45+J47+J49+J51+J53+J55 -> 15478356 | ... O25: =O27+O29+O31+O33+O35+O37+O39+O41+O43+O45+O47+O49+O51+O53+O55 -> 1.8375951e+08
A26: 2025 | B26: Tekstil ve Hammaddeleri | C26: 825953.99 | D26: 760192.43 | O26: 1586146.4
A27: 2024 | B27: Tekstil ve Hammaddeleri | C27: 784313.66 | D27: 810014.68 | E27: 816135.25 | F27: 698227.97 | G27: 863043.4 | H27: 645030.12 | I27: 797534.84 | J27: 798369.39 | K27: 805261.06 | L27: 840125.38 | M27: 853583.77 | N27: 781407.22 | O27: 9493046.7
A28: 2025 | B28: Deri ve Deri Mamulleri | C28: 126457.07 | D28: 132488.67 | O28: 258945.74
A29: 2024 | B29: Deri ve Deri Mamulleri | C29: 120200.55 | D29: 142925.33 | E29: 145748.1 | F29: 105393.17 | G29: 135760.51 | H29: 98665.51 | I29: 138549.79 | J29: 147865.04 | K29: 131957.88 | L29: 132656.07 | M29: 116573.43 | N29: 110030.21 | O29: 1526325.6
A30: 2025 | B30: Halı | C30: 229277.79 | D30: 227818.85 | O30: 457096.64
A31: 2024 | B31: Halı | C31: 238938.1 | D31: 260241.12 | E31: 247042.46 | F31: 190122.02 | G31: 260317.94 | H31: 177521.52 | I31: 230131.54 | J31: 231281.5 | K31: 250295.67 | L31: 274182.41 | M31: 259904.95 | N31: 247142.27 | O31: 2867121.5
A32: 2025 | B32: Kimyevi Maddeler ve Mamulleri | C32: 2551020.3 | D32: 2495006.1 | O32: 5046026.4
A33: 2024 | B33: Kimyevi Maddeler ve Mamulleri | C33: 2368523.2 | D33: 2618725.7 | E33: 3078781.7 | F33: 2492529 | G33: 3021297.4 | H33: 2217510.8 | I33: 2584040.7 | J33: 2555908.6 | K33: 2192283.9 | L33: 2451230.3 | M33: 2519938.8 | N33: 2673128.7 | O33: 30773899
A34: 2025 | B34: Hazırgiyim ve Konfeksiyon | C34: 1411879.1 | D34: 1358570.7 | O34: 2770449.7
A35: 2024 | B35: Hazırgiyim ve Konfeksiyon | C35: 1418087.7 | D35: 1498030.5 | E35: 1611789.3 | F35: 1225819.4 | G35: 1640868.2 | H35: 1294264 | I35: 1657615.2 | J35: 1667885.9 | K35: 1581003.5 | L35: 1572193.5 | M35: 1486728.9 | N35: 1261574.3 | O35: 17915860
A36: 2025 | B36: Otomotiv Endüstrisi | C36: 2998791.1 | D36: 2980748.5 | O36: 5979539.6
A37: 2024 | B37: Otomotiv Endüstrisi | C37: 2776731.1 | D37: 3127697.9 | E37: 3221175.1 | F37: 2739741.2 | G37: 3211251.4 | H37: 2613907.3 | I37: 3119750.6 | J37: 2697297.8 | K37: 3400353.9 | L37: 3570647.3 | M37: 3237636.1 | N37: 3485365.8 | O37: 37201555
A38: 2025 | B38: Gemi, Yat ve Hizmetleri | C38: 82415.475 | D38: 158789.88 | O38: 241205.36
A39: 2024 | B39: Gemi, Yat ve Hizmetleri | C39: 167284.18 | D39: 141283.32 | E39: 143314.96 | F39: 80867.332 | G39: 168228.99 | H39: 220068.33 | I39: 118317.06 | J39: 91670.812 | K39: 234435.91 | L39: 172867.8 | M39: 152747.58 | N39: 221165.67 | O39: 1912251.9
A40: 2025 | B40: Elektrik ve Elektronik | C40: 1224367.1 | D40: 1296350.1 | O40: 2520717.2
A41: 2024 | B41: Elektrik ve Elektronik | C41: 1207653.5 | D41: 1286253.5 | E41: 1459946.9 | F41: 1195153.5 | G41: 1494983.8 | H41: 1188501.9 | I41: 1407505.8 | J41: 1476370.9 | K41: 1477607.2 | L41: 1550121.8 | M41: 1448796.8 | N41: 1477630.8 | O41: 16670526
A42: 2025 | B42: Makine ve Aksamları | C42: 791464.08 | D42: 813126.8 | O42: 1604590.9
A43: 2024 | B43: Makine ve Aksamları | C43: 823159.15 | D43: 910304.26 | E43: 1026543.5 | F43: 844649.66 | G43: 1065607.7 | H43: 763599.23 | I43: 946347.25 | J43: 975065.78 | K43: 925627.16 | L43: 995222 | M43: 944850.21 | N43: 964525.67 | O43: 11185502
A44: 2025 | B44: Demir ve Demir Dışı Metaller | C44: 1010920 | D44: 1021524.6 | O44: 2032444.6
A45: 2024 | B45: Demir ve Demir Dışı Metaller | C45: 938412.69 | D45: 982933.24 | E45: 1078743.9 | F45: 916584.86 | G45: 1205517.3 | H45: 935437.74 | I45: 1101825.5 | J45: 1078019.1 | K45: 1042723.4 | L45: 1118331.6 | M45: 1059231.7 | N45: 972897.99 | O45: 12430659
A46: 2025 | B46: Çelik | C46: 1251004.1 | D46: 1242479.9 | O46: 2493484
A47: 2024 | B47: Çelik | C47: 1113603.7 | D47: 1375414.3 | E47: 1467723 | F47: 1192172.1 | G47: 1452120.3 | H47: 1312479.5 | I47: 1415864.6 | J47: 1404853.9 | K47: 1466603.5 | L47: 1254004.5 | M47: 1247401.5 | N47: 1437748.6 | O47: 16139989
A48: 2025 | B48: Çimento Cam Seramik ve Toprak Ürünleri | C48: 318566.27 | D48: 321456.21 | O48: 640022.49
A49: 2024 | B49: Çimento Cam Seramik ve Toprak Ürünleri | C49: 322349.24 | D49: 348209.81 | E49: 385061.22 | F49: 334453.99 | G49: 419451.94 | H49: 332515.44 | I49: 381534.38 | J49: 362574.11 | K49: 375893.21 | L49: 364466.74 | M49: 345330.1 | N49: 340044.88 | O49: 4311885.1
A50: 2025 | B50: Mücevher | C50: 1163993.1 | D50: 861617.15 | O50: 2025610.3
A51: 2024 | B51: Mücevher | C51: 468306.45 | D51: 481096.82 | E51: 544469.57 | F51: 341928.69 | G51: 581647.79 | H51: 402477.92 | I51: 953843.71 | J51: 962345.3 | K51: 672423.5 | L51: 755569.99 | M51: 675938.57 | N51: 617148.71 | O51: 7457197
A52: 2025 | B52: Savunma ve Havacılık Sanayii | C52: 382696.28 | D52: 433644.05 | O52: 816340.33
A53: 2024 | B53: Savunma ve Havacılık Sanayii | C53: 329917.98 | D53: 299894.91 | E53: 358181.2 | F53: 349697.7 | G53: 980446.61 | H53: 564215.97 | I53: 431178.59 | J53: 422596.1 | K53: 566550.09 | L53: 820121.81 | M53: 614129.78 | N53: 997531.98 | O53: 6734462.7
A54: 2025 | B54: İklimlendirme Sanayii | C54: 589848.69 | D54: 591761.96 | O54: 1181610.6
A55: 2024 | B55: İklimlendirme Sanayii | C55: 551141.56 | D55: 600143.01 | E55: 639315.41 | F55: 511741.32 | G55: 653306.38 | H55: 479241.74 | I55: 622277.53 | J55: 606252.02 | K55: 615415.55 | L55: 628571.5 | M55: 624580.3 | N55: 607242.42 | O55: 7139228.7
A56: 2025 | B56: III. MADENCİLİK | C56: =C58 -> 457574.17 | D56: =D58 -> 418540.63 | O56: =O58 -> 876114.8
A57: 2024 | B57: III. MADENCİLİK | C57: =C59 -> 445638.95 | D57: =D59 -> 452009.54 | E57: =E59 -> 499133.05 | F57: =F59 -> 465816.46 | G57: =G59 -> 545499.02 | H57: =H59 -> 432184.4 | I57: =I59 -> 569373.25 | J57: =J59 -> 521644.85 | ... O57: =O59 -> 6009477
A58: 2025 | B58: Madencilik Ürünleri | C58: 457574.17 | D58: 418540.63 | O58: 876114.8
A59: 2024 | B59: Madencilik Ürünleri | C59: 445638.95 | D59: 452009.54 | E59: 499133.05 | F59: 465816.46 | G59: 545499.02 | H59: 432184.4 | I59: 569373.25 | J59: 521644.85 | K59: 491564.19 | L59: 566666.53 | M59: 485437.93 | N59: 534508.8 | O59: 6009477
A60: 2002 | B60: T O P L A M | C60: 2607319.7 | D60: 2383773 | E60: 2918943.5 | F60: 2742857.9 | G60: 3000325.2 | H60: 2770693.9 | I60: 3103851.9 | J60: 2975889 | K60: 3218206.9 | L60: 3501128 | M60: 3593604.9 | N60: 3242495.2 | O60: =SUM(C60:N60) -> 36059089
A61: 2003 | B61: T O P L A M | C61: 3533705.6 | D61: 2923460.4 | E61: 3908256 | F61: 3662183.4 | G61: 3860471.3 | H61: 3796113.5 | I61: 4236114.3 | J61: 3828726.2 | K61: 4114677.5 | L61: 4824388.3 | M61: 3969697.5 | N61: 4595042.4 | O61: =SUM(C61:N61) -> 47252836
A62: 2004 | B62: T O P L A M | C62: 4619660.8 | D62: 3664503 | E62: 5218042.2 | F62: 5072463 | G62: 5170061.6 | H62: 5284383.3 | I62: 5632138.8 | J62: 4707491.3 | K62: 5656283.5 | L62: 5867342.1 | M62: 5733909 | N62: 6540874.2 | O62: =SUM(C62:N62) -> 63167153
A63: 2005 | B63: T O P L A M | C63: 4997279.7 | D63: 5651741.3 | E63: 6591859.2 | F63: 6128131.9 | G63: 5977226.2 | H63: 6038534.4 | I63: 5763466.4 | J63: 5552867.2 | K63: 6814268.9 | L63: 6772178.6 | M63: 5942575.8 | N63: 7246278.6 | O63: =SUM(C63:N63) -> 73476408
A64: 2006 | B64: T O P L A M | C64: 5133048.9 | D64: 6058251.3 | E64: 7411101.7 | F64: 6456090.3 | G64: 7041543.2 | H64: 7815434.6 | I64: 7067411.5 | J64: 6811202.4 | K64: 7606551.1 | L64: 6888812.5 | M64: 8641474.6 | N64: 8603753.5 | O64: =SUM(C64:N64) -> 85534676
A65: 2007 | B65: T O P L A M | C65: 6564559.8 | D65: 7656951.6 | E65: 8957851.6 | F65: 8313312 | G65: 9147620 | H65: 8980247.4 | I65: 8937741.6 | J65: 8736689.1 | K65: 9038743.9 | L65: 9895216.6 | M65: 11318798 | N65: 9724018 | O65: =SUM(C65:N65) -> 1.0727175e+08
A66: 2008 | B66: T O P L A M | C66: 10632207 | D66: 11077899 | E66: 11428587 | F66: 11363964 | G66: 12477969 | H66: 11770634 | I66: 12595427 | J66: 11046830 | K66: 12793148 | L66: 9722708.8 | M66: 9395872.9 | N66: 7721949 | O66: =SUM(C66:N66) -> 1.320272e+08
A67: 2009 | B67: T O P L A M | C67: 7884493.5 | D67: 8435115.8 | E67: 8155485.1 | F67: 7561696.3 | G67: 7346407.5 | H67: 8329692.8 | I67: 9055733.7 | J67: 7839908.8 | K67: 8480708.4 | L67: 10095768 | M67: 8903010.8 | N67: 10054592 | O67: =SUM(C67:N67) -> 1.0214261e+08
A68: 2010 | B68: T O P L A M | C68: 7828748.1 | D68: 8263237.8 | E68: 9886488.2 | F68: 9396006.7 | G68: 9799958.1 | H68: 9542907.6 | I68: 9564682.5 | J68: 8523452 | K68: 8909230.5 | L68: 10963586 | M68: 9382369.7 | N68: 11822552 | O68: =SUM(C68:N68) -> 1.1388322e+08
A69: 2011 | B69: T O P L A M | C69: 9551084.6 | D69: 10059126 | E69: 11811085 | F69: 11873269 | G69: 10943364 | H69: 11349954 | I69: 11860004 | J69: 11245125 | K69: 10750626 | L69: 11907219 | M69: 11078525 | N69: 12477486 | O69: =SUM(C69:N69) -> 1.3490687e+08
A70: 2012 | B70: T O P L A M | C70: 10348187 | D70: 11748000 | E70: 13208573 | F70: 12630227 | G70: 13131531 | H70: 13231199 | I70: 12830675 | J70: 12831395 | K70: 12952652 | L70: 13190770 | M70: 13753052 | N70: 12605476 | O70: =SUM(C70:N70) -> 1.5246174e+08
A71: 2013 | B71: T O P L A M | C71: 11481521 | D71: 12385691 | E71: 13122058 | F71: 12468203 | G71: 13277209 | H71: 12399974 | I71: 13059520 | J71: 11118301 | K71: 13060371 | L71: 12053705 | M71: 14201227 | N71: 13174857 | O71: =SUM(C71:N71) -> 1.5180264e+08
... A82: 2024 | B82: T O P L A M | C82: 20001454 | D82: 21092185 | E82: 22649907 | F82: 19293185 | G82: 24176962 | H82: 19014877 | I82: 22476432 | J82: 22002938 | K82: 21955759 | L82: 23475639 | M82: 22241407 | N82: 23433524 | O82: =SUM(C82:N82) -> 261814269
A83: 2025 | B83: T O P L A M | C83: 21165092 | D83: 20775674 | O83: =SUM(C83:N83) -> 41940766
