Workbook

Sheet SEKTOR_USD
B1: 1 - 30 EYLÜL İHRACAT RAKAMLARI
A5: SEKTÖREL BAZDA İHRACAT RAKAMLARI -1.000 $
B6: 1 - 30 EYLÜL | F6: 1 OCAK - 30 EYLÜL | J6: SON 12 AYLIK
A7: SEKTÖRLER | B7: 2025 | C7: 2026 | D7: Değişim ('26/'25) | E7: Pay(26) (%) | F7: 2025 | G7: 2026 | H7: Değişim ('26/'25) | I7: Pay(26) (%) | J7: 2024 - 2025 | K7: 2025 - 2026 | L7: Değişim ('26/'25) | M7: Pay(26) (%)
A8: I. TARIM | B8: =B9+B18+B20 -> 2915065.2 | C8: =C9+C18+C20 -> 3183461.1 | D8: =(C8-B8)/B8*100 -> 9.2072012 | E8: =C8/C$45*100 -> 12.255201 | F8: =F9+F18+F20 -> 25994239 | G8: =G9+G18+G20 -> 27134162 | H8: =(G8-F8)/F8*100 -> 4.3852926 | I8: =G8/G$45*100 -> 12.861448 | J8: =J9+J18+J20 -> 36106535 | K8: =K9+K18+K20 -> 37503504 | L8: =(K8-J8)/J8*100 -> 3.8690193 | M8: =K8/K$45*100 -> 13.218162
A9: A. BİTKİSEL ÜRÜNLER | B9: =B10+B11+B12+B13+B14+B15+B16+B17 -> 1883201.4 | C9: =C10+C11+C12+C13+C14+C15+C16+C17 -> 2086791.9 | D9: =(C9-B9)/B9*100 -> 10.810868 | E9: =C9/C$45*100 -> 8.0334116 | F9: =F10+F11+F12+F13+F14+F15+F16+F17 -> 17291459 | G9: =G10+G11+G12+G13+G14+G15+G16+G17 -> 18250951 | H9: =(G9-F9)/F9*100 -> 5.5489378 | I9: =G9/G$45*100 -> 8.6508534 | J9: =J10+J11+J12+J13+J14+J15+J16+J17 -> 24274086 | K9: =K10+K11+K12+K13+K14+K15+K16+K17 -> 25295369 | L9: =(K9-J9)/J9*100 -> 4.2072966 | M9: =K9/K$45*100 -> 8.9153881
A10: Hububat, Bakliyat, Yağlı Tohumlar ve Mamulleri | B10: 991732.36 | C10: 991026.71 | D10: =(C10-B10)/B10*100 -> -0.071153493 | E10: =C10/C$45*100 -> 3.8151028 | F10: 9035002.3 | G10: 8879581.7 | H10: =(G10-F10)/F10*100 -> -1.7202057 | I10: =G10/G$45*100 -> 4.2088743 | J10: 12251042 | K10: 12204728 | L10: =(K10-J10)/J10*100 -> -0.37803903 | M10: =K10/K$45*100 -> 4.3015734
A11: Yaş Meyve ve Sebze | B11: 240221.94 | C11: 275945.3 | D11: =(C11-B11)/B11*100 -> 14.870985 | E11: =C11/C$45*100 -> 1.062292 | F11: 2229871.7 | G11: 3169984.3 | H11: =(G11-F11)/F11*100 -> 42.159939 | I11: =G11/G$45*100 -> 1.5025556 | J11: 3227844.7 | K11: 4643355.3 | L11: =(K11-J11)/J11*100 -> 43.853116 | M11: =K11/K$45*100 -> 1.636557
A12: Meyve Sebze Mamulleri | B12: 225769.63 | C12: 233924.48 | D12: =(C12-B12)/B12*100 -> 3.6120222 | E12: =C12/C$45*100 -> 0.90052661 | F12: 1900818.5 | G12: 1830062 | H12: =(G12-F12)/F12*100 -> -3.7224216 | I12: =G12/G$45*100 -> 0.86743962 | J12: 2667607.6 | K12: 2514419.2 | L12: =(K12-J12)/J12*100 -> -5.7425392 | M12: =K12/K$45*100 -> 0.88621054
A13: Kuru Meyve ve Mamulleri | B13: 123516.49 | C13: 167857.13 | D13: =(C13-B13)/B13*100 -> 35.898564 | E13: =C13/C$45*100 -> 0.64619068 | F13: 1216969.6 | G13: 1126132.8 | H13: =(G13-F13)/F13*100 -> -7.4641768 | I13: =G13/G$45*100 -> 0.53378095 | J13: 1820925.5 | K13: 1642900.3 | L13: =(K13-J13)/J13*100 -> -9.7766343 | M13: =K13/K$45*100 -> 0.57904248
A14: Fındık ve Mamulleri | B14: 143585.97 | C14: 190303.67 | D14: =(C14-B14)/B14*100 -> 32.536396 | E14: =C14/C$45*100 -> 0.7326019 | F14: 1600940.5 | G14: 1920865.7 | H14: =(G14-F14)/F14*100 -> 19.983579 | I14: =G14/G$45*100 -> 0.9104801 | J14: 2496243.1 | K14: 2558273.4 | L14: =(K14-J14)/J14*100 -> 2.4849448 | M14: =K14/K$45*100 -> 0.90166702
A15: Zeytin ve Zeytinyağı | B15: 35974.836 | C15: 31690.212 | D15: =(C15-B15)/B15*100 -> -11.910057 | E15: =C15/C$45*100 -> 0.12199612 | F15: 381395.73 | G15: 273660.89 | H15: =(G15-F15)/F15*100 -> -28.247522 | I15: =G15/G$45*100 -> 0.1297138 | J15: 587725.78 | K15: 388004.58 | L15: =(K15-J15)/J15*100 -> -33.982038 | M15: =K15/K$45*100 -> 0.13675275
A16: Tütün | B16: 112281.46 | C16: 186542.75 | D16: =(C16-B16)/B16*100 -> 66.138514 | E16: =C16/C$45*100 -> 0.71812371 | F16: 805218.78 | G16: 929558.01 | H16: =(G16-F16)/F16*100 -> 15.44167 | I16: =G16/G$45*100 -> 0.44060553 | J16: 1066348.5 | K16: 1183953.9 | L16: =(K16-J16)/J16*100 -> 11.028803 | M16: =K16/K$45*100 -> 0.41728621
A17: Süs Bitkileri ve Mamulleri | B17: 10118.768 | C17: 9501.6188 | D17: =(C17-B17)/B17*100 -> -6.0990541 | E17: =C17/C$45*100 -> 0.036577876 | F17: 121241.75 | G17: 121105.76 | H17: =(G17-F17)/F17*100 -> -0.11217126 | I17: =G17/G$45*100 -> 0.057403481 | J17: 156349.34 | K17: 159734.46 | L17: =(K17-J17)/J17*100 -> 2.1650969 | M17: =K17/K$45*100 -> 0.056298631
A18: B. HAYVANSAL ÜRÜNLER | B18: =B19 -> 346479.46 | C18: =C19 -> 415823.59 | D18: =(C18-B18)/B18*100 -> 20.013923 | E18: =C18/C$45*100 -> 1.600774 | F18: =F19 -> 2856390.8 | G18: =G19 -> 3083563 | H18: =(G18-F18)/F18*100 -> 7.9531179 | I18: =G18/G$45*100 -> 1.4615924 | J18: =J19 -> 3918897.4 | K18: =K19 -> 4271054.5 | L18: =(K18-J18)/J18*100 -> 8.9861272 | M18: =K18/K$45*100 -> 1.5053391
A19: Su Ürünleri ve Hayvansal Mamuller | B19: 346479.46 | C19: 415823.59 | D19: =(C19-B19)/B19*100 -> 20.013923 | E19: =C19/C$45*100 -> 1.600774 | F19: 2856390.8 | G19: 3083563 | H19: =(G19-F19)/F19*100 -> 7.9531179 | I19: =G19/G$45*100 -> 1.4615924 | J19: 3918897.4 | K19: 4271054.5 | L19: =(K19-J19)/J19*100 -> 8.9861272 | M19: =K19/K$45*100 -> 1.5053391
A20: C. AĞAÇ VE ORMAN ÜRÜNLERİ | B20: =B21 -> 685384.25 | C20: =C21 -> 680845.61 | D20: =(C20-B20)/B20*100 -> -0.66220408 | E20: =C20/C$45*100 -> 2.6210151 | F20: =F21 -> 5846389.3 | G20: =G21 -> 5799648.3 | H20: =(G20-F20)/F20*100 -> -0.7994849 | I20: =G20/G$45*100 -> 2.7490023 | J20: =J21 -> 7913551.2 | K20: =K21 -> 7937080.1 | L20: =(K20-J20)/J20*100 -> 0.29732426 | M20: =K20/K$45*100 -> 2.7974349
A21: Mobilya, Kağıt ve Orman Ürünleri | B21: 685384.25 | C21: 680845.61 | D21: =(C21-B21)/B21*100 -> -0.66220408 | E21: =C21/C$45*100 -> 2.6210151 | F21: 5846389.3 | G21: 5799648.3 | H21: =(G21-F21)/F21*100 -> -0.7994849 | I21: =G21/G$45*100 -> 2.7490023 | J21: 7913551.2 | K21: 7937080.1 | L21: =(K21-J21)/J21*100 -> 0.29732426 | M21: =K21/K$45*100 -> 2.7974349
A22: II. SANAYİ | B22: =B23+B27+B29 -> 16120891 | C22: =C23+C27+C29 -> 18823179 | D22: =(C22-B22)/B22*100 -> 16.762646 | E22: =C22/C$45*100 -> 72.462591 | F22: =F23+F27+F29 -> 1.430143e+08 | G22: =G23+G27+G29 -> 1.5119174e+08 | H22: =(G22-F22)/F22*100 -> 5.7179159 | I22: =G22/G$45*100 -> 71.664077 | J22: =J23+J27+J29 -> 1.9127267e+08 | K22: =K23+K27+K29 -> 2.0279308e+08 | L22: =(K22-J22)/J22*100 -> 6.0230288 | M22: =K22/K$45*100 -> 71.474701
A23: A. TARIMA DAYALI İŞLENMİŞ ÜRÜNLER | B23: =B24+B25+B26 -> 1177667 | C23: =C24+C25+C26 -> 1252540.8 | D23: =(C23-B23)/B23*100 -> 6.3578126 | E23: =C23/C$45*100 -> 4.8218399 | F23: =F24+F25+F26 -> 10172321 | G23: =G24+G25+G26 -> 10283759 | H23: =(G23-F23)/F23*100 -> 1.0955095 | I23: =G23/G$45*100 -> 4.8744471 | J23: =J24+J25+J26 -> 13786209 | K23: =K24+K25+K26 -> 13796999 | L23: =(K23-J23)/J23*100 -> 0.078262973 | M23: =K23/K$45*100 -> 4.8627714
A24: Tekstil ve Hammaddeleri | B24: 785821.57 | C24: 839078.43 | D24: =(C24-B24)/B24*100 -> 6.7772193 | E24: =C24/C$45*100 -> 3.2301556 | F24: 7042877.2 | G24: 7162076.1 | H24: =(G24-F24)/F24*100 -> 1.6924755 | I24: =G24/G$45*100 -> 3.3947858 | J24: 9516544 | K24: 9522937.6 | L24: =(K24-J24)/J24*100 -> 0.067184606 | M24: =K24/K$45*100 -> 3.3563726
A25: Deri ve Deri Mamulleri | B25: 128454.37 | C25: 134314.96 | D25: =(C25-B25)/B25*100 -> 4.5623907 | E25: =C25/C$45*100 -> 0.51706516 | F25: 1113795 | G25: 1104518 | H25: =(G25-F25)/F25*100 -> -0.83292174 | I25: =G25/G$45*100 -> 0.52353562 | J25: 1472803.7 | K25: 1435041.4 | L25: =(K25-J25)/J25*100 -> -2.563969 | M25: =K25/K$45*100 -> 0.50578235
A26: Halı | B26: 263391.04 | C26: 279147.46 | D26: =(C26-B26)/B26*100 -> 5.9821388 | E26: =C26/C$45*100 -> 1.0746191 | F26: 2015648.6 | G26: 2017165.4 | H26: =(G26-F26)/F26*100 -> 0.075252065 | I26: =G26/G$45*100 -> 0.95612561 | J26: 2796861.5 | K26: 2839019.6 | L26: =(K26-J26)/J26*100 -> 1.5073351 | M26: =K26/K$45*100 -> 1.0006164
A27: B. KİMYEVİ MADDELER VE MAM. | B27: =B28 -> 2454619.5 | C27: =C28 -> 3067874.8 | D27: =(C27-B27)/B27*100 -> 24.983725 | E27: =C27/C$45*100 -> 11.810235 | F27: =F28 -> 24241488 | G27: =G28 -> 25801722 | H27: =(G27-F27)/F27*100 -> 6.4362164 | I27: =G27/G$45*100 -> 12.229878 | J27: =J28 -> 31865956 | K27: =K28 -> 33403397 | L27: =(K27-J27)/J27*100 -> 4.824715 | M27: =K27/K$45*100 -> 11.773074
A28: Kimyevi Maddeler ve Mamulleri | B28: 2454619.5 | C28: 3067874.8 | D28: =(C28-B28)/B28*100 -> 24.983725 | E28: =C28/C$45*100 -> 11.810235 | F28: 24241488 | G28: 25801722 | H28: =(G28-F28)/F28*100 -> 6.4362164 | I28: =G28/G$45*100 -> 12.229878 | J28: 31865956 | K28: 33403397 | L28: =(K28-J28)/J28*100 -> 4.824715 | M28: =K28/K$45*100 -> 11.773074
A29: C. SANAYİ MAMULLERİ | B29: =B30+B31+B32+B33+B34+B35+B36+B37+B38+B39+B40 -> 12488605 | C29: =C30+C31+C32+C33+C34+C35+C36+C37+C38+C39+C40 -> 14502763 | D29: =(C29-B29)/B29*100 -> 16.127972 | E29: =C29/C$45*100 -> 55.830517 | F29: =F30+F31+F32+F33+F34+F35+F36+F37+F38+F39+F40 -> 1.0860049e+08 | G29: =G30+G31+G32+G33+G34+G35+G36+G37+G38+G39+G40 -> 1.1510626e+08 | H29: =(G29-F29)/F29*100 -> 5.9905475 | I29: =G29/G$45*100 -> 54.559752 | J29: =J30+J31+J32+J33+J34+J35+J36+J37+J38+J39+J40 -> 1.456205e+08 | K29: =K30+K31+K32+K33+K34+K35+K36+K37+K38+K39+K40 -> 1.5559268e+08 | L29: =(K29-J29)/J29*100 -> 6.8480582 | M29: =K29/K$45*100 -> 54.838856
A30: Hazırgiyim ve Konfeksiyon | B30: 1485180.4 | C30: 1405586.7 | D30: =(C30-B30)/B30*100 -> -5.3591909 | E30: =C30/C$45*100 -> 5.4110124 | F30: 12697374 | G30: 12366603 | H30: =(G30-F30)/F30*100 -> -2.6050393 | I30: =G30/G$45*100 -> 5.8617037 | J30: 17013423 | K30: 16429113 | L30: =(K30-J30)/J30*100 -> -3.4344094 | M30: =K30/K$45*100 -> 5.7904637
A31: Otomotiv Endüstrisi | B31: 3657357.8 | C31: 3940038.8 | D31: =(C31-B31)/B31*100 -> 7.7291032 | E31: =C31/C$45*100 -> 15.167758 | F31: 30198314 | G31: 31145349 | H31: =(G31-F31)/F31*100 -> 3.1360539 | I31: =G31/G$45*100 -> 14.762729 | J31: 40489000 | K31: 42463747 | L31: =(K31-J31)/J31*100 -> 4.8772426 | M31: =K31/K$45*100 -> 14.966407
A32: Gemi, Yat ve Hizmetleri | B32: 230420.19 | C32: 181434.5 | D32: =(C32-B32)/B32*100 -> -21.259289 | E32: =C32/C$45*100 -> 0.69845873 | F32: 1483165.7 | G32: 1998191.7 | H32: =(G32-F32)/F32*100 -> 34.724781 | I32: =G32/G$45*100 -> 0.94713221 | J32: 2029946.7 | K32: 2758554.6 | L32: =(K32-J32)/J32*100 -> 35.892953 | M32: =K32/K$45*100 -> 0.97225639
A33: Elektrik ve Elektronik | B33: 1507297.4 | C33: 2063400.9 | D33: =(C33-B33)/B33*100 -> 36.894082 | E33: =C33/C$45*100 -> 7.9433646 | F33: 12879571 | G33: 14715675 | H33: =(G33-F33)/F33*100 -> 14.255946 | I33: =G33/G$45*100 -> 6.9751516 | J33: 17353720 | K33: 19559685 | L33: =(K33-J33)/J33*100 -> 12.711772 | M33: =K33/K$45*100 -> 6.8938381
A34: Makine ve Aksamları | B34: 940602.6 | C34: 954644.76 | D34: =(C34-B34)/B34*100 -> 1.4928891 | E34: =C34/C$45*100 -> 3.6750451 | F34: 8058079.2 | G34: 8228642.5 | H34: =(G34-F34)/F34*100 -> 2.1166745 | I34: =G34/G$45*100 -> 3.9003326 | J34: 10959686 | K34: 11424302 | L34: =(K34-J34)/J34*100 -> 4.2393157 | M34: =K34/K$45*100 -> 4.0265111
A35: Demir ve Demir Dışı Metaller | B35: 1130663.4 | C35: 1320510.5 | D35: =(C35-B35)/B35*100 -> 16.790771 | E35: =C35/C$45*100 -> 5.0834988 | F35: 9863486.8 | G35: 11234445 | H35: =(G35-F35)/F35*100 -> 13.899329 | I35: =G35/G$45*100 -> 5.325067 | J35: 13012156 | K35: 14609435 | L35: =(K35-J35)/J35*100 -> 12.275286 | M35: =K35/K$45*100 -> 5.1491156
A36: Çelik | B36: 1478955.2 | C36: 1485807 | D36: =(C36-B36)/B36*100 -> 0.46328775 | E36: =C36/C$45*100 -> 5.7198322 | F36: 12440810 | G36: 12742963 | H36: =(G36-F36)/F36*100 -> 2.4287177 | I36: =G36/G$45*100 -> 6.0400962 | J36: 16373723 | K36: 16834062 | L36: =(K36-J36)/J36*100 -> 2.8114491 | M36: =K36/K$45*100 -> 5.9331884
A37: Çimento Cam Seramik ve Toprak Ürünleri | B37: 381323.39 | C37: 375532.81 | D37: =(C37-B37)/B37*100 -> -1.5185461 | E37: =C37/C$45*100 -> 1.4456687 | F37: 3350887.3 | G37: 3399091.1 | H37: =(G37-F37)/F37*100 -> 1.4385371 | I37: =G37/G$45*100 -> 1.611151 | J37: 4400066.6 | K37: 4546601.3 | L37: =(K37-J37)/J37*100 -> 3.3302845 | M37: =K37/K$45*100 -> 1.602456
A38: Mücevher | B38: 498420.43 | C38: 1511859.6 | D38: =(C38-B38)/B38*100 -> 203.33017 | E38: =C38/C$45*100 -> 5.8201253 | F38: 6192322.5 | G38: 6860105.5 | H38: =(G38-F38)/F38*100 -> 10.784048 | I38: =G38/G$45*100 -> 3.2516533 | J38: 8261668.9 | K38: 8597066 | L38: =(K38-J38)/J38*100 -> 4.0596763 | M38: =K38/K$45*100 -> 3.0300478
A39: Savunma ve Havacılık Sanayii | B39: 572821.24 | C39: 634108.32 | D39: =(C39-B39)/B39*100 -> 10.699162 | E39: =C39/C$45*100 -> 2.441093 | F39: 5990983.7 | G39: 6926489.9 | H39: =(G39-F39)/F39*100 -> 15.615237 | I39: =G39/G$45*100 -> 3.2831192 | J39: 8422263.3 | K39: 10941333 | L39: =(K39-J39)/J39*100 -> 29.909654 | M39: =K39/K$45*100 -> 3.8562881
A40: İklimlendirme Sanayii | B40: 605562.82 | C40: 629839.66 | D40: =(C40-B40)/B40*100 -> 4.0089713 | E40: =C40/C$45*100 -> 2.4246602 | F40: 5445499.9 | G40: 5488702.7 | H40: =(G40-F40)/F40*100 -> 0.79336608 | I40: =G40/G$45*100 -> 2.6016158 | J40: 7304849.7 | K40: 7428782 | L40: =(K40-J40)/J40*100 -> 1.6965759 | M40: =K40/K$45*100 -> 2.6182845
A41: III. MADENCİLİK | B41: =B42 -> 549583.27 | C41: =C42 -> 682562.27 | D41: =(C41-B41)/B41*100 -> 24.196333 | E41: =C41/C$45*100 -> 2.6276236 | F41: =F42 -> 4506728.6 | G41: =G42 -> 5411494.5 | H41: =(G41-F41)/F41*100 -> 20.075891 | I41: =G41/G$45*100 -> 2.5650195 | J41: =J42 -> 6093116.7 | K41: =K42 -> 7115122.6 | L41: =(K41-J41)/J41*100 -> 16.773122 | M41: =K41/K$45*100 -> 2.5077349
A42: Madencilik Ürünleri | B42: 549583.27 | C42: 682562.27 | D42: =(C42-B42)/B42*100 -> 24.196333 | E42: =C42/C$45*100 -> 2.6276236 | F42: 4506728.6 | G42: 5411494.5 | H42: =(G42-F42)/F42*100 -> 20.075891 | I42: =G42/G$45*100 -> 2.5650195 | J42: 6093116.7 | K42: 7115122.6 | L42: =(K42-J42)/J42*100 -> 16.773122 | M42: =K42/K$45*100 -> 2.5077349
A43: T O P L A M (TİM*) | B43: =B8+B22+B41 -> 19585540 | C43: =C8+C22+C41 -> 22689203 | D43: =(C43-B43)/B43*100 -> 15.846706 | E43: =C43/C$45*100 -> 87.345416 | F43: =F8+F22+F41 -> 1.7351527e+08 | G43: =G8+G22+G41 -> 1.837374e+08 | H43: =(G43-F43)/F43*100 -> 5.8911973 | I43: =G43/G$45*100 -> 87.090545 | J43: =J8+J22+J41 -> 2.3347232e+08 | K43: =K8+K22+K41 -> 2.474117e+08 | L43: =(K43-J43)/J43*100 -> 5.9704648 | M43: =K43/K$45*100 -> 87.200598
A44: İhracatçı Birlikleri Kaydından Muaf İhracat ile Antrepo ve Serbest Bölgeler Farkı | B44: =B45-B43 -> 2928008.1 | C44: =C45-C43 -> 3287206.6 | D44: =(C44-B44)/B44*100 -> 12.267674 | E44: =C44/C$45*100 -> 12.654584 | F44: =F45-F43 -> 26964231 | G44: =G45-G43 -> 27235444 | H44: =(G44-F44)/F44*100 -> 1.0058247 | I44: =G44/G$45*100 -> 12.909455 | J44: =J45-J43 -> 36124307 | K44: =K45-K43 -> 36315367 | L44: =(K44-J44)/J44*100 -> 0.52889531 | M44: =K44/K$45*100 -> 12.799402
A45: GENEL İHRACAT TOPLAMI | B45: 22513548 | C45: 25976409 | D45: =(C45-B45)/B45*100 -> 15.381233 | E45: =C45/C$45*100 -> 100 | F45: 2.004795e+08 | G45: 2.1097284e+08 | H45: =(G45-F45)/F45*100 -> 5.234121 | I45: =G45/G$45*100 -> 100 | J45: 2.6959663e+08 | K45: 2.8372707e+08 | L45: =(K45-J45)/J45*100 -> 5.2413276 | M45: =K45/K$45*100 -> 100

Sheet SECILMIS_ISTATISTIK
A2: Tablo 1
A3: En yüksek ihracat artışı elde edilen ilk 10 ülke*
A5: ÜLKE (Bin$) | B5: 2025 1 - 30 EYLÜL | C5: 2026 1 - 30 EYLÜL | D5: Değ. %
A6: ERMENİSTAN | B6: 41.11535 | C6: 5609.3625 | D6: =(C6-B6)/B6 -> 135.42989
A7: GÜNEY KIBRIS RUM YÖNETİMİ | B7: 1.14779 | C7: 73.73516 | D7: =(C7-B7)/B7 -> 63.240985
A8: LESOTHO | B8: 0.54559 | C8: 21.26799 | D8: =(C8-B8)/B8 -> 37.981635
A9: TUVALU | B9: 1.1682 | C9: 20.89 | D9: =(C9-B9)/B9 -> 16.882212
A10: KUZEY MARİANA ADALARI | B10: 0.97128 | C10: 14.51098 | D10: =(C10-B10)/B10 -> 13.940058
A11: MALİ | B11: 5285.5232 | C11: 65938.535 | D11: =(C11-B11)/B11 -> 11.475309
A12: ARUBA | B12: 169.46284 | C12: 1765.8929 | D12: =(C12-B12)/B12 -> 9.4205316
A13: GÜNEY SUDAN | B13: 280.97425 | C13: 2844.1783 | D13: =(C13-B13)/B13 -> 9.1225584
A14: İSVİÇRE | B14: 102907.46 | C14: 1024194.8 | D14: =(C14-B14)/B14 -> 8.9525809
A15: RUANDA | B15: 3292.6082 | C15: 32470.449 | D15: =(C15-B15)/B15 -> 8.8616195
A18: Tablo 2
A19: En fazla ihracat yapılan ilk 10 ülke
A21: ÜLKE (Bin$) | B21: 2025 1 - 30 EYLÜL | C21: 2026 1 - 30 EYLÜL | D21: Değ. %
A22: ALMANYA | B22: 1729044.6 | C22: 1865892.9 | D22: =(C22-B22)/B22 -> 0.079146743
A23: ABD | B23: 1092323.3 | C23: 1463147.5 | D23: =(C23-B23)/B23 -> 0.33948206
A24: BİRLEŞİK KRALLIK | B24: 1249566.9 | C24: 1353595.3 | D24: =(C24-B24)/B24 -> 0.083251594
A25: İTALYA | B25: 993447.66 | C25: 1056182.8 | D25: =(C25-B25)/B25 -> 0.063148912
A26: İSPANYA | B26: 908724.01 | C26: 1038668.5 | D26: =(C26-B26)/B26 -> 0.14299663
A27: İSVİÇRE | B27: 102907.46 | C27: 1024194.8 | D27: =(C27-B27)/B27 -> 8.9525809
A28: FRANSA | B28: 907023.1 | C28: 976291.48 | D28: =(C28-B28)/B28 -> 0.076368921
A29: IRAK | B29: 921846.75 | C29: 946098.04 | D29: =(C29-B29)/B29 -> 0.026307298
A30: HOLLANDA | B30: 647451.54 | C30: 650417.9 | D30: =(C30-B30)/B30 -> 0.0045815815
A31: ROMANYA | B31: 634045 | C31: 599793.21 | D31: =(C31-B31)/B31 -> -0.054021065
A33: Tablo 3
A34: İhracatını en yüksek oranlı artıran ilk 10 sektör
A36: SEKTÖR (Bin$) | B36: 2025 1 - 30 EYLÜL | C36: 2026 1 - 30 EYLÜL | D36: Değ. %
A37: Mücevher | B37: 498420.43 | C37: 1511859.6 | D37: =(C37-B37)/B37 -> 2.0333017
A38: Tütün | B38: 112281.46 | C38: 186542.75 | D38: =(C38-B38)/B38 -> 0.66138514
A39: Elektrik ve Elektronik | B39: 1507297.4 | C39: 2063400.9 | D39: =(C39-B39)/B39 -> 0.36894082
A40: Kuru Meyve ve Mamulleri | B40: 123516.49 | C40: 167857.13 | D40: =(C40-B40)/B40 -> 0.35898564
A41: Fındık ve Mamulleri | B41: 143585.97 | C41: 190303.67 | D41: =(C41-B41)/B41 -> 0.32536396
A42: Kimyevi Maddeler ve Mamulleri | B42: 2454619.5 | C42: 3067874.8 | D42: =(C42-B42)/B42 -> 0.24983725
A43: Madencilik Ürünleri | B43: 549583.27 | C43: 682562.27 | D43: =(C43-B43)/B43 -> 0.24196333
A44: Su Ürünleri ve Hayvansal Mamuller | B44: 346479.46 | C44: 415823.59 | D44: =(C44-B44)/B44 -> 0.20013923
A45: Demir ve Demir Dışı Metaller | B45: 1130663.4 | C45: 1320510.5 | D45: =(C45-B45)/B45 -> 0.16790771
A46: Yaş Meyve ve Sebze | B46: 240221.94 | C46: 275945.3 | D46: =(C46-B46)/B46 -> 0.14870985
A48: Tablo 4
A49: En fazla ihracat yapan ilk 10 sektör
A51: SEKTÖR (Bin$) | B51: 2025 1 - 30 EYLÜL | C51: 2026 1 - 30 EYLÜL | D51: Değ. %
A52: Otomotiv Endüstrisi | B52: 3657357.8 | C52: 3940038.8 | D52: =(C52-B52)/B52 -> 0.077291032
A53: Kimyevi Maddeler ve Mamulleri | B53: 2454619.5 | C53: 3067874.8 | D53: =(C53-B53)/B53 -> 0.24983725
A54: Elektrik ve Elektronik | B54: 1507297.4 | C54: 2063400.9 | D54: =(C54-B54)/B54 -> 0.36894082
A55: Mücevher | B55: 498420.43 | C55: 1511859.6 | D55: =(C55-B55)/B55 -> 2.0333017
A56: Çelik | B56: 1478955.2 | C56: 1485807 | D56: =(C56-B56)/B56 -> 0.0046328775
A57: Hazırgiyim ve Konfeksiyon | B57: 1485180.4 | C57: 1405586.7 | D57: =(C57-B57)/B57 -> -0.053591909
A58: Demir ve Demir Dışı Metaller | B58: 1130663.4 | C58: 1320510.5 | D58: =(C58-B58)/B58 -> 0.16790771
A59: Hububat, Bakliyat, Yağlı Tohumlar ve Mamulleri | B59: 991732.36 | C59: 991026.71 | D59: =(C59-B59)/B59 -> -0.00071153493
A60: Makine ve Aksamları | B60: 940602.6 | C60: 954644.76 | D60: =(C60-B60)/B60 -> 0.014928891
A61: Tekstil ve Hammaddeleri | B61: 785821.57 | C61: 839078.43 | D61: =(C61-B61)/B61 -> 0.067772193
A63: Tablo 5
A64: En fazla ihracat yapan ilk 10 il
A66: İL (Bin$) | B66: 2025 1 - 30 EYLÜL | C66: 2026 1 - 30 EYLÜL | D66: Değ. %
A67: İSTANBUL | B67: 7698160.9 | C67: 9535495.9 | D67: =(C67-B67)/B67 -> 0.23867193
A68: KOCAELI | B68: 1871409.6 | C68: 2197601.6 | D68: =(C68-B68)/B68 -> 0.17430281
A69: ANKARA | B69: 1347987.7 | C69: 1699685.3 | D69: =(C69-B69)/B69 -> 0.26090565
A70: BURSA | B70: 1582767.2 | C70: 1622738.7 | D70: =(C70-B70)/B70 -> 0.025254176
A71: İZMIR | B71: 1112141.8 | C71: 1234968.7 | D71: =(C71-B71)/B71 -> 0.11044175
A72: GAZIANTEP | B72: 881347.91 | C72: 1025925.7 | D72: =(C72-B72)/B72 -> 0.16404166
A73: DENIZLI | B73: 391026.44 | C73: 479391.24 | D73: =(C73-B73)/B73 -> 0.22598165
A74: SAKARYA | B74: 614498.37 | C74: 451986.8 | D74: =(C74-B74)/B74 -> -0.26446215
A75: MANISA | B75: 453339.5 | C75: 436410.37 | D75: =(C75-B75)/B75 -> -0.037343166
A76: KONYA | B76: 297194.09 | C76: 332901.53 | D76: =(C76-B76)/B76 -> 0.12014857
A78: Tablo 6
A79: İhracatını en yüksek oranlı artıran ilk 10 il
A81: İL (Bin$) | B81: 2025 1 - 30 EYLÜL | C81: 2026 1 - 30 EYLÜL | D81: Değ. %
A82: BINGÖL | B82: 381.31422 | C82: 1867.9449 | D82: =(C82-B82)/B82 -> 3.8987025
A83: HAKKARI | B83: 1174.2461 | C83: 5670.1096 | D83: =(C83-B83)/B83 -> 3.8287235
A84: KASTAMONU | B84: 6604.729 | C84: 24805.018 | D84: =(C84-B84)/B84 -> 2.7556451
A85: TUNCELI | B85: 67.0964 | C85: 210.75146 | D85: =(C85-B85)/B85 -> 2.1410249
A86: ELAZIĞ | B86: 25747.376 | C86: 54195.415 | D86: =(C86-B86)/B86 -> 1.1048909
A87: BALIKESIR | B87: 59933.333 | C87: 119390.75 | D87: =(C87-B87)/B87 -> 0.99205922
A88: AĞRI | B88: 1357.1879 | C88: 2529.1761 | D88: =(C88-B88)/B88 -> 0.86354156
A89: MALATYA | B89: 24559.433 | C89: 44469.994 | D89: =(C89-B89)/B89 -> 0.81070934
A90: OSMANIYE | B90: 11552.82 | C90: 20437.995 | D90: =(C90-B90)/B90 -> 0.76909149
A91: MUŞ | B91: 498.38607 | C91: 750.39337 | D91: =(C91-B91)/B91 -> 0.50564676
A92: NOT =2025 Yılında 0 fobusd üzerindeki İller baz alınmıştır.

Sheet SEKTOR_TL
B1: 2026 İHRACAT RAKAMLARI - TL
A5: SEKTÖREL BAZDA İHRACAT KAYIT RAKAMLARI - 1.000 TL
B6: =SEKTOR_USD!B6 -> 1 - 30 EYLÜL | F6: =SEKTOR_USD!F6 -> 1 OCAK - 30 EYLÜL | J6: SON 12 AYLIK
A7: SEKTÖRLER | B7: =SEKTOR_USD!B7 -> 2025 | C7: =SEKTOR_USD!C7 -> 2026 | D7: Değişim ('26/'25) | E7: Pay(26) (%) | F7: =SEKTOR_USD!F7 -> 2025 | G7: =SEKTOR_USD!G7 -> 2026 | H7: Değişim ('26/'25) | I7: Pay(26) (%) | J7: =SEKTOR_USD!J7 -> 2024 - 2025 | K7: =SEKTOR_USD!K7 -> 2025 - 2026 | L7: Değişim ('26/'25) | M7: Pay(26) (%)
A8: I. TARIM | B8: =SEKTOR_USD!B8*$B$52 -> 1.2053072e+08 | C8: =SEKTOR_USD!C8*$C$52 -> 1.5488408e+08 | D8: =(C8-B8)/B8*100 -> 28.501747 | E8: =C8/C$43*100 -> 14.030731 | F8: =SEKTOR_USD!F8*$B$53 -> 1.0041527e+09 | G8: =SEKTOR_USD!G8*$C$53 -> 1.2401074e+09 | H8: =(G8-F8)/F8*100 -> 23.497888 | I8: =G8/G$43*100 -> 14.767904 | J8: =SEKTOR_USD!J8*$B$54 -> 1.3581531e+09 | K8: =SEKTOR_USD!K8*$C$54 -> 1.6819195e+09 | L8: =(K8-J8)/J8*100 -> 23.838726 | M8: =K8/K$43*100 -> 15.158339
A9: A. BİTKİSEL ÜRÜNLER | B9: =SEKTOR_USD!B9*$B$52 -> 77865711 | C9: =SEKTOR_USD!C9*$C$52 -> 1.0152813e+08 | D9: =(C9-B9)/B9*100 -> 30.388747 | E9: =C9/C$43*100 -> 9.1972905 | F9: =SEKTOR_USD!F9*$B$53 -> 6.6796591e+08 | G9: =SEKTOR_USD!G9*$C$53 -> 8.341197e+08 | H9: =(G9-F9)/F9*100 -> 24.874592 | I9: =G9/G$43*100 -> 9.9331718 | J9: =SEKTOR_USD!J9*$B$54 -> 9.1307367e+08 | K9: =SEKTOR_USD!K9*$C$54 -> 1.1344213e+09 | L9: =(K9-J9)/J9*100 -> 24.242039 | M9: =K9/K$43*100 -> 10.223999
A10: =SEKTOR_USD!A10 -> Hububat, Bakliyat, Yağlı Tohumlar ve Mamulleri | B10: =SEKTOR_USD!B10*$B$52 -> 41005675 | C10: =SEKTOR_USD!C10*$C$52 -> 48216157 | D10: =(C10-B10)/B10*100 -> 17.584108 | E10: =C10/C$43*100 -> 4.367834 | F10: =SEKTOR_USD!F10*$B$53 -> 3.4902049e+08 | G10: =SEKTOR_USD!G10*$C$53 -> 4.0582181e+08 | H10: =(G10-F10)/F10*100 -> 16.274493 | I10: =G10/G$43*100 -> 4.8327569 | J10: =SEKTOR_USD!J10*$B$54 -> 4.6082491e+08 | K10: =SEKTOR_USD!K10*$C$54 -> 5.4734541e+08 | L10: =(K10-J10)/J10*100 -> 18.775134 | M10: =K10/K$43*100 -> 4.9329632
A11: =SEKTOR_USD!A11 -> Yaş Meyve ve Sebze | B11: =SEKTOR_USD!B11*$B$52 -> 9932581.5 | C11: =SEKTOR_USD!C11*$C$52 -> 13425493 | D11: =(C11-B11)/B11*100 -> 35.166199 | E11: =C11/C$43*100 -> 1.2161966 | F11: =SEKTOR_USD!F11*$B$53 -> 86139539 | G11: =SEKTOR_USD!G11*$C$53 -> 1.4487718e+08 | H11: =(G11-F11)/F11*100 -> 68.188945 | I11: =G11/G$43*100 -> 1.7252799 | J11: =SEKTOR_USD!J11*$B$54 -> 1.214159e+08 | K11: =SEKTOR_USD!K11*$C$54 -> 2.0824054e+08 | L11: =(K11-J11)/J11*100 -> 71.510107 | M11: =K11/K$43*100 -> 1.8767727
A12: =SEKTOR_USD!A12 -> Meyve Sebze Mamulleri | B12: =SEKTOR_USD!B12*$B$52 -> 9335014.4 | C12: =SEKTOR_USD!C12*$C$52 -> 11381065 | D12: =(C12-B12)/B12*100 -> 21.918021 | E12: =C12/C$43*100 -> 1.0309947 | F12: =SEKTOR_USD!F12*$B$53 -> 73428271 | G12: =SEKTOR_USD!G12*$C$53 -> 83638971 | H12: =(G12-F12)/F12*100 -> 13.905678 | I12: =G12/G$43*100 -> 0.99602043 | J12: =SEKTOR_USD!J12*$B$54 -> 1.0034249e+08 | K12: =SEKTOR_USD!K12*$C$54 -> 1.1276415e+08 | L12: =(K12-J12)/J12*100 -> 12.379263 | M12: =K12/K$43*100 -> 1.0162895
A13: =SEKTOR_USD!A13 -> Kuru Meyve ve Mamulleri | B13: =SEKTOR_USD!B13*$B$52 -> 5107100.6 | C13: =SEKTOR_USD!C13*$C$52 -> 8166708.2 | D13: =(C13-B13)/B13*100 -> 59.908895 | E13: =C13/C$43*100 -> 0.73981064 | F13: =SEKTOR_USD!F13*$B$53 -> 47011314 | G13: =SEKTOR_USD!G13*$C$53 -> 51467432 | H13: =(G13-F13)/F13*100 -> 9.4788203 | I13: =G13/G$43*100 -> 0.61290345 | J13: =SEKTOR_USD!J13*$B$54 -> 68494405 | K13: =SEKTOR_USD!K13*$C$54 -> 73679143 | L13: =(K13-J13)/J13*100 -> 7.5695785 | M13: =K13/K$43*100 -> 0.66403498
A14: =SEKTOR_USD!A14 -> Fındık ve Mamulleri | B14: =SEKTOR_USD!B14*$B$52 -> 5936923.8 | C14: =SEKTOR_USD!C14*$C$52 -> 9258793.3 | D14: =(C14-B14)/B14*100 -> 55.952705 | E14: =C14/C$43*100 -> 0.8387411 | F14: =SEKTOR_USD!F14*$B$53 -> 61844040 | G14: =SEKTOR_USD!G14*$C$53 -> 87788956 | H14: =(G14-F14)/F14*100 -> 41.952168 | I14: =G14/G$43*100 -> 1.0454408 | J14: =SEKTOR_USD!J14*$B$54 -> 93896588 | K14: =SEKTOR_USD!K14*$C$54 -> 1.1473088e+08 | L14: =(K14-J14)/J14*100 -> 22.188551 | M14: =K14/K$43*100 -> 1.0340147
A15: =SEKTOR_USD!A15 -> Zeytin ve Zeytinyağı | B15: =SEKTOR_USD!B15*$B$52 -> 1487470.3 | C15: =SEKTOR_USD!C15*$C$52 -> 1541815.4 | D15: =(C15-B15)/B15*100 -> 3.6535265 | E15: =C15/C$43*100 -> 0.13967089 | F15: =SEKTOR_USD!F15*$B$53 -> 14733247 | G15: =SEKTOR_USD!G15*$C$53 -> 12507071 | H15: =(G15-F15)/F15*100 -> -15.109885 | I15: =G15/G$43*100 -> 0.14894131 | J15: =SEKTOR_USD!J15*$B$54 -> 22107400 | K15: =SEKTOR_USD!K15*$C$54 -> 17400840 | L15: =(K15-J15)/J15*100 -> -21.289521 | M15: =K15/K$43*100 -> 0.15682548
A16: =SEKTOR_USD!A16 -> Tütün | B16: =SEKTOR_USD!B16*$B$52 -> 4642560.1 | C16: =SEKTOR_USD!C16*$C$52 -> 9075814.5 | D16: =(C16-B16)/B16*100 -> 95.49159 | E16: =C16/C$43*100 -> 0.82216531 | F16: =SEKTOR_USD!F16*$B$53 -> 31105455 | G16: =SEKTOR_USD!G16*$C$53 -> 42483410 | H16: =(G16-F16)/F16*100 -> 36.578651 | I16: =G16/G$43*100 -> 0.50591661 | J16: =SEKTOR_USD!J16*$B$54 -> 40110869 | K16: =SEKTOR_USD!K16*$C$54 -> 53096779 | L16: =(K16-J16)/J16*100 -> 32.375039 | M16: =K16/K$43*100 -> 0.47853595
A17: =SEKTOR_USD!A17 -> Süs Bitkileri ve Mamulleri | B17: =SEKTOR_USD!B17*$B$52 -> 418385.97 | C17: =SEKTOR_USD!C17*$C$52 -> 462279.71 | D17: =(C17-B17)/B17*100 -> 10.491208 | E17: =C17/C$43*100 -> 0.041877271 | F17: =SEKTOR_USD!F17*$B$53 -> 4683546.8 | G17: =SEKTOR_USD!G17*$C$53 -> 5534873 | H17: =(G17-F17)/F17*100 -> 18.176953 | I17: =G17/G$43*100 -> 0.065912415 | J17: =SEKTOR_USD!J17*$B$54 -> 5881105.7 | K17: =SEKTOR_USD!K17*$C$54 -> 7163610.7 | L17: =(K17-J17)/J17*100 -> 21.807209 | M17: =K17/K$43*100 -> 0.064562208
A18: B. HAYVANSAL ÜRÜNLER | B18: =SEKTOR_USD!B18*$B$52 -> 14326067 | C18: =SEKTOR_USD!C18*$C$52 -> 20230954 | D18: =(C18-B18)/B18*100 -> 41.217782 | E18: =C18/C$43*100 -> 1.8326937 | F18: =SEKTOR_USD!F18*$B$53 -> 1.1034186e+08 | G18: =SEKTOR_USD!G18*$C$53 -> 1.4092748e+08 | H18: =(G18-F18)/F18*100 -> 27.71897 | I18: =G18/G$43*100 -> 1.6782446 | J18: =SEKTOR_USD!J18*$B$54 -> 1.4740996e+08 | K18: =SEKTOR_USD!K18*$C$54 -> 1.9154397e+08 | L18: =(K18-J18)/J18*100 -> 29.939641 | M18: =K18/K$43*100 -> 1.7262945
A19: =SEKTOR_USD!A19 -> Su Ürünleri ve Hayvansal Mamuller | B19: =SEKTOR_USD!B19*$B$52 -> 14326067 | C19: =SEKTOR_USD!C19*$C$52 -> 20230954 | D19: =(C19-B19)/B19*100 -> 41.217782 | E19: =C19/C$43*100 -> 1.8326937 | F19: =SEKTOR_USD!F19*$B$53 -> 1.1034186e+08 | G19: =SEKTOR_USD!G19*$C$53 -> 1.4092748e+08 | H19: =(G19-F19)/F19*100 -> 27.71897 | I19: =G19/G$43*100 -> 1.6782446 | J19: =SEKTOR_USD!J19*$B$54 -> 1.4740996e+08 | K19: =SEKTOR_USD!K19*$C$54 -> 1.9154397e+08 | L19: =(K19-J19)/J19*100 -> 29.939641 | M19: =K19/K$43*100 -> 1.7262945
A20: C. AĞAÇ VE ORMAN ÜRÜNLERİ | B20: =SEKTOR_USD!B20*$B$52 -> 28338940 | C20: =SEKTOR_USD!C20*$C$52 -> 33124999 | D20: =(C20-B20)/B20*100 -> 16.888632 | E20: =C20/C$43*100 -> 3.0007472 | F20: =SEKTOR_USD!F20*$B$53 -> 2.2584495e+08 | G20: =SEKTOR_USD!G20*$C$53 -> 2.6506021e+08 | H20: =(G20-F20)/F20*100 -> 17.363795 | I20: =G20/G$43*100 -> 3.1564877 | J20: =SEKTOR_USD!J20*$B$54 -> 2.976695e+08 | K20: =SEKTOR_USD!K20*$C$54 -> 3.5595421e+08 | L20: =(K20-J20)/J20*100 -> 19.580342 | M20: =K20/K$43*100 -> 3.2080455
A21: =SEKTOR_USD!A21 -> Mobilya, Kağıt ve Orman Ürünleri | B21: =SEKTOR_USD!B21*$B$52 -> 28338940 | C21: =SEKTOR_USD!C21*$C$52 -> 33124999 | D21: =(C21-B21)/B21*100 -> 16.888632 | E21: =C21/C$43*100 -> 3.0007472 | F21: =SEKTOR_USD!F21*$B$53 -> 2.2584495e+08 | G21: =SEKTOR_USD!G21*$C$53 -> 2.6506021e+08 | H21: =(G21-F21)/F21*100 -> 17.363795 | I21: =G21/G$43*100 -> 3.1564877 | J21: =SEKTOR_USD!J21*$B$54 -> 2.976695e+08 | K21: =SEKTOR_USD!K21*$C$54 -> 3.5595421e+08 | L21: =(K21-J21)/J21*100 -> 19.580342 | M21: =K21/K$43*100 -> 3.2080455
A22: II. SANAYİ | B22: =SEKTOR_USD!B22*$B$52 -> 6.6655889e+08 | C22: =SEKTOR_USD!C22*$C$52 -> 9.1579909e+08 | D22: =(C22-B22)/B22*100 -> 37.392075 | E22: =C22/C$43*100 -> 82.960955 | F22: =SEKTOR_USD!F22*$B$53 -> 5.5246164e+09 | G22: =SEKTOR_USD!G22*$C$53 -> 6.9098869e+09 | H22: =(G22-F22)/F22*100 -> 25.07451 | I22: =G22/G$43*100 -> 82.286863 | J22: =SEKTOR_USD!J22*$B$54 -> 7.1947522e+09 | K22: =SEKTOR_USD!K22*$C$54 -> 9.0946605e+09 | L22: =(K22-J22)/J22*100 -> 26.406862 | M22: =K22/K$43*100 -> 81.965838
A23: A. TARIMA DAYALI İŞLENMİŞ ÜRÜNLER | B23: =SEKTOR_USD!B23*$B$52 -> 48693611 | C23: =SEKTOR_USD!C23*$C$52 -> 60939534 | D23: =(C23-B23)/B23*100 -> 25.148933 | E23: =C23/C$43*100 -> 5.5204269 | F23: =SEKTOR_USD!F23*$B$53 -> 3.929549e+08 | G23: =SEKTOR_USD!G23*$C$53 -> 4.6999668e+08 | H23: =(G23-F23)/F23*100 -> 19.605756 | I23: =G23/G$43*100 -> 5.5969877 | J23: =SEKTOR_USD!J23*$B$54 -> 5.1857048e+08 | K23: =SEKTOR_USD!K23*$C$54 -> 6.1875396e+08 | L23: =(K23-J23)/J23*100 -> 19.319164 | M23: =K23/K$43*100 -> 5.5765344
A24: =SEKTOR_USD!A24 -> Tekstil ve Hammaddeleri | B24: =SEKTOR_USD!B24*$B$52 -> 32491774 | C24: =SEKTOR_USD!C24*$C$52 -> 40823458 | D24: =(C24-B24)/B24*100 -> 25.64244 | E24: =C24/C$43*100 -> 3.6981398 | F24: =SEKTOR_USD!F24*$B$53 -> 2.7206506e+08 | G24: =SEKTOR_USD!G24*$C$53 -> 3.2732698e+08 | H24: =(G24-F24)/F24*100 -> 20.312025 | I24: =G24/G$43*100 -> 3.8979959 | J24: =SEKTOR_USD!J24*$B$54 -> 3.5796633e+08 | K24: =SEKTOR_USD!K24*$C$54 -> 4.2707516e+08 | L24: =(K24-J24)/J24*100 -> 19.305956 | M24: =K24/K$43*100 -> 3.8490247
A25: =SEKTOR_USD!A25 -> Deri ve Deri Mamulleri | B25: =SEKTOR_USD!B25*$B$52 -> 5311269.8 | C25: =SEKTOR_USD!C25*$C$52 -> 6534789.8 | D25: =(C25-B25)/B25*100 -> 23.036299 | E25: =C25/C$43*100 -> 0.59197745 | F25: =SEKTOR_USD!F25*$B$53 -> 43025698 | G25: =SEKTOR_USD!G25*$C$53 -> 50479572 | H25: =(G25-F25)/F25*100 -> 17.324236 | I25: =G25/G$43*100 -> 0.60113945 | J25: =SEKTOR_USD!J25*$B$54 -> 55399747 | K25: =SEKTOR_USD!K25*$C$54 -> 64357299 | L25: =(K25-J25)/J25*100 -> 16.16894 | M25: =K25/K$43*100 -> 0.58002165
A26: =SEKTOR_USD!A26 -> Halı | B26: =SEKTOR_USD!B26*$B$52 -> 10890567 | C26: =SEKTOR_USD!C26*$C$52 -> 13581287 | D26: =(C26-B26)/B26*100 -> 24.706886 | E26: =C26/C$43*100 -> 1.2303097 | F26: =SEKTOR_USD!F26*$B$53 -> 77864136 | G26: =SEKTOR_USD!G26*$C$53 -> 92190120 | H26: =(G26-F26)/F26*100 -> 18.398693 | I26: =G26/G$43*100 -> 1.0978524 | J26: =SEKTOR_USD!J26*$B$54 -> 1.052044e+08 | K26: =SEKTOR_USD!K26*$C$54 -> 1.273215e+08 | L26: =(K26-J26)/J26*100 -> 21.022987 | M26: =K26/K$43*100 -> 1.147488
A27: B. KİMYEVİ MADDELER VE MAM. | B27: =SEKTOR_USD!B27*$B$52 -> 1.0149243e+08 | C27: =SEKTOR_USD!C27*$C$52 -> 1.4926049e+08 | D27: =(C27-B27)/B27*100 -> 47.065641 | E27: =C27/C$43*100 -> 13.521299 | F27: =SEKTOR_USD!F27*$B$53 -> 9.3644424e+08 | G27: =SEKTOR_USD!G27*$C$53 -> 1.1792111e+09 | H27: =(G27-F27)/F27*100 -> 25.924329 | I27: =G27/G$43*100 -> 14.042717 | J27: =SEKTOR_USD!J27*$B$54 -> 1.1986431e+09 | K27: =SEKTOR_USD!K27*$C$54 -> 1.4980421e+09 | L27: =(K27-J27)/J27*100 -> 24.978162 | M27: =K27/K$43*100 -> 13.501139
A28: =SEKTOR_USD!A28 -> Kimyevi Maddeler ve Mamulleri | B28: =SEKTOR_USD!B28*$B$52 -> 1.0149243e+08 | C28: =SEKTOR_USD!C28*$C$52 -> 1.4926049e+08 | D28: =(C28-B28)/B28*100 -> 47.065641 | E28: =C28/C$43*100 -> 13.521299 | F28: =SEKTOR_USD!F28*$B$53 -> 9.3644424e+08 | G28: =SEKTOR_USD!G28*$C$53 -> 1.1792111e+09 | H28: =(G28-F28)/F28*100 -> 25.924329 | I28: =G28/G$43*100 -> 14.042717 | J28: =SEKTOR_USD!J28*$B$54 -> 1.1986431e+09 | K28: =SEKTOR_USD!K28*$C$54 -> 1.4980421e+09 | L28: =(K28-J28)/J28*100 -> 24.978162 | M28: =K28/K$43*100 -> 13.501139
A29: C. SANAYİ MAMULLERİ | B29: =SEKTOR_USD!B29*$B$52 -> 5.1637285e+08 | C29: =SEKTOR_USD!C29*$C$52 -> 7.0559906e+08 | D29: =(C29-B29)/B29*100 -> 36.645268 | E29: =C29/C$43*100 -> 63.91923 | F29: =SEKTOR_USD!F29*$B$53 -> 4.1952173e+09 | G29: =SEKTOR_USD!G29*$C$53 -> 5.2606791e+09 | H29: =(G29-F29)/F29*100 -> 25.397059 | I29: =G29/G$43*100 -> 62.647159 | J29: =SEKTOR_USD!J29*$B$54 -> 5.4775387e+09 | K29: =SEKTOR_USD!K29*$C$54 -> 6.9778645e+09 | L29: =(K29-J29)/J29*100 -> 27.39051 | M29: =K29/K$43*100 -> 62.888165
A30: =SEKTOR_USD!A30 -> Hazırgiyim ve Konfeksiyon | B30: =SEKTOR_USD!B30*$B$52 -> 61408527 | C30: =SEKTOR_USD!C30*$C$52 -> 68385634 | D30: =(C30-B30)/B30*100 -> 11.361789 | E30: =C30/C$43*100 -> 6.1949587 | F30: =SEKTOR_USD!F30*$B$53 -> 4.9049726e+08 | G30: =SEKTOR_USD!G30*$C$53 -> 5.6518846e+08 | H30: =(G30-F30)/F30*100 -> 15.22765 | I30: =G30/G$43*100 -> 6.7305856 | J30: =SEKTOR_USD!J30*$B$54 -> 6.3996266e+08 | K30: =SEKTOR_USD!K30*$C$54 -> 7.3679638e+08 | L30: =(K30-J30)/J30*100 -> 15.13115 | M30: =K30/K$43*100 -> 6.6403944
A31: =SEKTOR_USD!A31 -> Otomotiv Endüstrisi | B31: =SEKTOR_USD!B31*$B$52 -> 1.5122268e+08 | C31: =SEKTOR_USD!C31*$C$52 -> 1.9169365e+08 | D31: =(C31-B31)/B31*100 -> 26.762501 | E31: =C31/C$43*100 -> 17.365259 | F31: =SEKTOR_USD!F31*$B$53 -> 1.1665554e+09 | G31: =SEKTOR_USD!G31*$C$53 -> 1.4234299e+09 | H31: =(G31-F31)/F31*100 -> 22.019918 | I31: =G31/G$43*100 -> 16.951012 | J31: =SEKTOR_USD!J31*$B$54 -> 1.5230003e+09 | K31: =SEKTOR_USD!K31*$C$54 -> 1.9043715e+09 | L31: =(K31-J31)/J31*100 -> 25.040788 | M31: =K31/K$43*100 -> 17.163193
A32: =SEKTOR_USD!A32 -> Gemi, Yat ve Hizmetleri | B32: =SEKTOR_USD!B32*$B$52 -> 9527303.8 | C32: =SEKTOR_USD!C32*$C$52 -> 8827284 | D32: =(C32-B32)/B32*100 -> -7.347512 | E32: =C32/C$43*100 -> 0.79965128 | F32: =SEKTOR_USD!F32*$B$53 -> 57294420 | G32: =SEKTOR_USD!G32*$C$53 -> 91322971 | H32: =(G32-F32)/F32*100 -> 59.392434 | I32: =G32/G$43*100 -> 1.0875259 | J32: =SEKTOR_USD!J32*$B$54 -> 76356774 | K32: =SEKTOR_USD!K32*$C$54 -> 1.2371289e+08 | L32: =(K32-J32)/J32*100 -> 62.019534 | M32: =K32/K$43*100 -> 1.1149653
A33: =SEKTOR_USD!A33 -> Elektrik ve Elektronik | B33: =SEKTOR_USD!B33*$B$52 -> 62323010 | C33: =SEKTOR_USD!C33*$C$52 -> 1.0039009e+08 | D33: =(C33-B33)/B33*100 -> 61.0803 | E33: =C33/C$43*100 -> 9.0941975 | F33: =SEKTOR_USD!F33*$B$53 -> 4.9753547e+08 | G33: =SEKTOR_USD!G33*$C$53 -> 6.7254767e+08 | H33: =(G33-F33)/F33*100 -> 35.175825 | I33: =G33/G$43*100 -> 8.0090802 | J33: =SEKTOR_USD!J33*$B$54 -> 6.5276295e+08 | K33: =SEKTOR_USD!K33*$C$54 -> 8.7719312e+08 | L33: =(K33-J33)/J33*100 -> 34.381573 | M33: =K33/K$43*100 -> 7.9057233
A34: =SEKTOR_USD!A34 -> Makine ve Aksamları | B34: =SEKTOR_USD!B34*$B$52 -> 38891586 | C34: =SEKTOR_USD!C34*$C$52 -> 46446075 | D34: =(C34-B34)/B34*100 -> 19.424483 | E34: =C34/C$43*100 -> 4.2074848 | F34: =SEKTOR_USD!F34*$B$53 -> 3.1128213e+08 | G34: =SEKTOR_USD!G34*$C$53 -> 3.7607206e+08 | H34: =(G34-F34)/F34*100 -> 20.813893 | I34: =G34/G$43*100 -> 4.4784799 | J34: =SEKTOR_USD!J34*$B$54 -> 4.1225037e+08 | K34: =SEKTOR_USD!K34*$C$54 -> 5.1234564e+08 | L34: =(K34-J34)/J34*100 -> 24.280215 | M34: =K34/K$43*100 -> 4.6175269
A35: =SEKTOR_USD!A35 -> Demir ve Demir Dışı Metaller | B35: =SEKTOR_USD!B35*$B$52 -> 46750127 | C35: =SEKTOR_USD!C35*$C$52 -> 64246441 | D35: =(C35-B35)/B35*100 -> 37.425169 | E35: =C35/C$43*100 -> 5.819995 | F35: =SEKTOR_USD!F35*$B$53 -> 3.810247e+08 | G35: =SEKTOR_USD!G35*$C$53 -> 5.1344568e+08 | H35: =(G35-F35)/F35*100 -> 34.753912 | I35: =G35/G$43*100 -> 6.1144032 | J35: =SEKTOR_USD!J35*$B$54 -> 4.8945433e+08 | K35: =SEKTOR_USD!K35*$C$54 -> 6.5518928e+08 | L35: =(K35-J35)/J35*100 -> 33.861168 | M35: =K35/K$43*100 -> 5.9049086
A36: =SEKTOR_USD!A36 -> Çelik | B36: =SEKTOR_USD!B36*$B$52 -> 61151131 | C36: =SEKTOR_USD!C36*$C$52 -> 72288571 | D36: =(C36-B36)/B36*100 -> 18.212974 | E36: =C36/C$43*100 -> 6.5485202 | F36: =SEKTOR_USD!F36*$B$53 -> 4.8058624e+08 | G36: =SEKTOR_USD!G36*$C$53 -> 5.8238916e+08 | H36: =(G36-F36)/F36*100 -> 21.18307 | I36: =G36/G$43*100 -> 6.9354213 | J36: =SEKTOR_USD!J36*$B$54 -> 6.1590022e+08 | K36: =SEKTOR_USD!K36*$C$54 -> 7.5495711e+08 | L36: =(K36-J36)/J36*100 -> 22.577828 | M36: =K36/K$43*100 -> 6.8040684
A37: =SEKTOR_USD!A37 -> Çimento Cam Seramik ve Toprak Ürünleri | B37: =SEKTOR_USD!B37*$B$52 -> 15766777 | C37: =SEKTOR_USD!C37*$C$52 -> 18270697 | D37: =(C37-B37)/B37*100 -> 15.880993 | E37: =C37/C$43*100 -> 1.6551169 | F37: =SEKTOR_USD!F37*$B$53 -> 1.2944417e+08 | G37: =SEKTOR_USD!G37*$C$53 -> 1.55348e+08 | H37: =(G37-F37)/F37*100 -> 20.011591 | I37: =G37/G$43*100 -> 1.8499724 | J37: =SEKTOR_USD!J37*$B$54 -> 1.6550921e+08 | K37: =SEKTOR_USD!K37*$C$54 -> 2.0390142e+08 | L37: =(K37-J37)/J37*100 -> 23.196414 | M37: =K37/K$43*100 -> 1.8376662
A38: =SEKTOR_USD!A38 -> Mücevher | B38: =SEKTOR_USD!B38*$B$52 -> 20608449 | C38: =SEKTOR_USD!C38*$C$52 -> 73556098 | D38: =(C38-B38)/B38*100 -> 256.92204 | E38: =C38/C$43*100 -> 6.6633438 | F38: =SEKTOR_USD!F38*$B$53 -> 2.3920829e+08 | G38: =SEKTOR_USD!G38*$C$53 -> 3.1352608e+08 | H38: =(G38-F38)/F38*100 -> 31.068233 | I38: =G38/G$43*100 -> 3.7336468 | J38: =SEKTOR_USD!J38*$B$54 -> 3.1076401e+08 | K38: =SEKTOR_USD!K38*$C$54 -> 3.8555259e+08 | L38: =(K38-J38)/J38*100 -> 24.066038 | M38: =K38/K$43*100 -> 3.4748017
A39: =SEKTOR_USD!A39 -> Savunma ve Havacılık Sanayii | B39: =SEKTOR_USD!B39*$B$52 -> 23684738 | C39: =SEKTOR_USD!C39*$C$52 -> 30851102 | D39: =(C39-B39)/B39*100 -> 30.257305 | E39: =C39/C$43*100 -> 2.7947581 | F39: =SEKTOR_USD!F39*$B$53 -> 2.3143061e+08 | G39: =SEKTOR_USD!G39*$C$53 -> 3.1656003e+08 | H39: =(G39-F39)/F39*100 -> 36.783997 | I39: =G39/G$43*100 -> 3.7697769 | J39: =SEKTOR_USD!J39*$B$54 -> 3.1680479e+08 | K39: =SEKTOR_USD!K39*$C$54 -> 4.9068593e+08 | L39: =(K39-J39)/J39*100 -> 54.885894 | M39: =K39/K$43*100 -> 4.4223184
A40: =SEKTOR_USD!A40 -> İklimlendirme Sanayii | B40: =SEKTOR_USD!B40*$B$52 -> 25038522 | C40: =SEKTOR_USD!C40*$C$52 -> 30643420 | D40: =(C40-B40)/B40*100 -> 22.385103 | E40: =C40/C$43*100 -> 2.7759445 | F40: =SEKTOR_USD!F40*$B$53 -> 2.1035867e+08 | G40: =SEKTOR_USD!G40*$C$53 -> 2.5084912e+08 | H40: =(G40-F40)/F40*100 -> 19.248291 | I40: =G40/G$43*100 -> 2.987254 | J40: =SEKTOR_USD!J40*$B$54 -> 2.747731e+08 | K40: =SEKTOR_USD!K40*$C$54 -> 3.3315856e+08 | L40: =(K40-J40)/J40*100 -> 21.248611 | M40: =K40/K$43*100 -> 3.0025993
A41: III. MADENCİLİK | B41: =SEKTOR_USD!B41*$B$52 -> 22723906 | C41: =SEKTOR_USD!C41*$C$52 -> 33208519 | D41: =(C41-B41)/B41*100 -> 46.139134 | E41: =C41/C$43*100 -> 3.0083132 | F41: =SEKTOR_USD!F41*$B$53 -> 1.740941e+08 | G41: =SEKTOR_USD!G41*$C$53 -> 2.4732049e+08 | H41: =(G41-F41)/F41*100 -> 42.061381 | I41: =G41/G$43*100 -> 2.945233 | J41: =SEKTOR_USD!J41*$B$54 -> 2.2919357e+08 | K41: =SEKTOR_USD!K41*$C$54 -> 3.1909188e+08 | L41: =(K41-J41)/J41*100 -> 39.223752 | M41: =K41/K$43*100 -> 2.875823
A42: =SEKTOR_USD!A42 -> Madencilik Ürünleri | B42: =SEKTOR_USD!B42*$B$52 -> 22723906 | C42: =SEKTOR_USD!C42*$C$52 -> 33208519 | D42: =(C42-B42)/B42*100 -> 46.139134 | E42: =C42/C$43*100 -> 3.0083132 | F42: =SEKTOR_USD!F42*$B$53 -> 1.740941e+08 | G42: =SEKTOR_USD!G42*$C$53 -> 2.4732049e+08 | H42: =(G42-F42)/F42*100 -> 42.061381 | I42: =G42/G$43*100 -> 2.945233 | J42: =SEKTOR_USD!J42*$B$54 -> 2.2919357e+08 | K42: =SEKTOR_USD!K42*$C$54 -> 3.1909188e+08 | L42: =(K42-J42)/J42*100 -> 39.223752 | M42: =K42/K$43*100 -> 2.875823
A43: T O P L A M (TİM*) | B43: =SEKTOR_USD!B43*$B$52 -> 8.0981351e+08 | C43: =SEKTOR_USD!C43*$C$52 -> 1.1038917e+09 | D43: =(C43-B43)/B43*100 -> 36.314308 | E43: =C43/C$43*100 -> 100 | F43: =SEKTOR_USD!F43*$B$53 -> 6.7028633e+09 | G43: =SEKTOR_USD!G43*$C$53 -> 8.3973148e+09 | H43: =(G43-F43)/F43*100 -> 25.279518 | I43: =G43/G$43*100 -> 100 | J43: =SEKTOR_USD!J43*$B$54 -> 8.7820989e+09 | K43: =SEKTOR_USD!K43*$C$54 -> 1.1095672e+10 | L43: =(K43-J43)/J43*100 -> 26.344192 | M43: =K43/K$43*100 -> 100
A44: İhracatçı Birlikleri Kaydından Muaf İhracat | B44: =SEKTOR_USD!B45*2.1157 -> 47631913 | C44: =SEKTOR_USD!C45*2.7012 -> 70167476 | F44: =SEKTOR_USD!F45*2.1642 -> 4.3387774e+08 | G44: =SEKTOR_USD!G45*2.5613 -> 5.4036474e+08 | H44: =(G44-F44)/F44*100 -> 24.543089 | I44: =G44/G$45*100 -> #REF! | J44: =SEKTOR_USD!J45*2.0809 -> 5.6100362e+08 | K44: =SEKTOR_USD!K45*2.3856 -> 6.768593e+08 | L44: =(K44-J44)/J44*100 -> 20.651502 | M44: =K44/K$45*100 -> #REF!
A45: T O P L A M (TİM+TUİK*) | B45: =SEKTOR_USD!#REF!*2.1157 -> #REF! | C45: =SEKTOR_USD!#REF!*2.7012 -> #REF! | D45: =(C45-B45)/B45*100 -> #REF! | E45: =C45/C$45*100 -> #REF! | F45: =SEKTOR_USD!#REF!*2.1642 -> #REF! | G45: =SEKTOR_USD!#REF!*2.5613 -> #REF! | H45: =(G45-F45)/F45*100 -> #REF! | I45: =G45/G$45*100 -> #REF! | J45: =SEKTOR_USD!#REF!*2.0809 -> #REF! | K45: =SEKTOR_USD!#REF!*2.3856 -> #REF! | L45: =(K45-J45)/J45*100 -> #REF! | M45: =K45/K$45*100 -> #REF!
A47: *Ocak-Haziran dönemi için ilk 5 ay TUİK, son ay TİM rakamı kullanılmıştır.
A48: Son 12 aylık dönem için ilk 11 ay TUİK, son ay TİM rakamı kullanılmıştır.
A50: Not: İlgili dönem ortalama MB Dolar Satış Kuru baz alınarak hesaplanmıştır.
B51: 2025 | C51: 2026
A52: Eylül | B52: 41.347521 | C52: 48.652732
A53: Ocak-Eylül | B53: 38.629818 | C53: 45.702807
A54: Son 12 Ay | B54: 37.615161 | C54: 44.846997

Sheet USDvsTL
A5: İHRACAT ARTIŞI KARŞILAŞTIRMA TABLOSU (USD - TL)
B6: EYLÜL (2025/2024) | D6: OCAK - EYLÜL (2026/2025) | F6: SON 12 AYLIK (2026/2025)
A7: SEKTÖRLER | B7: USD Bazında Artış (%) | C7: TL Bazında Artış (%) | D7: USD Bazında Artış (%) | E7: TL Bazında Artış (%) | F7: USD Bazında Artış (%) | G7: TL Bazında Artış (%)
A8: I. TARIM | B8: =SEKTOR_USD!D8 -> 9.2072012 | C8: =SEKTOR_TL!D8 -> 28.501747 | D8: =SEKTOR_USD!H8 -> 4.3852926 | E8: =SEKTOR_TL!H8 -> 23.497888 | F8: =SEKTOR_USD!L8 -> 3.8690193 | G8: =SEKTOR_TL!L8 -> 23.838726
A9: A. BİTKİSEL ÜRÜNLER | B9: =SEKTOR_USD!D9 -> 10.810868 | C9: =SEKTOR_TL!D9 -> 30.388747 | D9: =SEKTOR_USD!H9 -> 5.5489378 | E9: =SEKTOR_TL!H9 -> 24.874592 | F9: =SEKTOR_USD!L9 -> 4.2072966 | G9: =SEKTOR_TL!L9 -> 24.242039
A10: Hububat, Bakliyat, Yağlı Tohumlar ve Mam. | B10: =SEKTOR_USD!D10 -> -0.071153493 | C10: =SEKTOR_TL!D10 -> 17.584108 | D10: =SEKTOR_USD!H10 -> -1.7202057 | E10: =SEKTOR_TL!H10 -> 16.274493 | F10: =SEKTOR_USD!L10 -> -0.37803903 | G10: =SEKTOR_TL!L10 -> 18.775134
A11: Yaş Meyve ve Sebze | B11: =SEKTOR_USD!D11 -> 14.870985 | C11: =SEKTOR_TL!D11 -> 35.166199 | D11: =SEKTOR_USD!H11 -> 42.159939 | E11: =SEKTOR_TL!H11 -> 68.188945 | F11: =SEKTOR_USD!L11 -> 43.853116 | G11: =SEKTOR_TL!L11 -> 71.510107
A12: Meyve Sebze Mamulleri | B12: =SEKTOR_USD!D12 -> 3.6120222 | C12: =SEKTOR_TL!D12 -> 21.918021 | D12: =SEKTOR_USD!H12 -> -3.7224216 | E12: =SEKTOR_TL!H12 -> 13.905678 | F12: =SEKTOR_USD!L12 -> -5.7425392 | G12: =SEKTOR_TL!L12 -> 12.379263
A13: Kuru Meyve ve Mamulleri | B13: =SEKTOR_USD!D13 -> 35.898564 | C13: =SEKTOR_TL!D13 -> 59.908895 | D13: =SEKTOR_USD!H13 -> -7.4641768 | E13: =SEKTOR_TL!H13 -> 9.4788203 | F13: =SEKTOR_USD!L13 -> -9.7766343 | G13: =SEKTOR_TL!L13 -> 7.5695785
A14: Fındık ve Mamulleri | B14: =SEKTOR_USD!D14 -> 32.536396 | C14: =SEKTOR_TL!D14 -> 55.952705 | D14: =SEKTOR_USD!H14 -> 19.983579 | E14: =SEKTOR_TL!H14 -> 41.952168 | F14: =SEKTOR_USD!L14 -> 2.4849448 | G14: =SEKTOR_TL!L14 -> 22.188551
A15: Zeytin ve Zeytinyağı | B15: =SEKTOR_USD!D15 -> -11.910057 | C15: =SEKTOR_TL!D15 -> 3.6535265 | D15: =SEKTOR_USD!H15 -> -28.247522 | E15: =SEKTOR_TL!H15 -> -15.109885 | F15: =SEKTOR_USD!L15 -> -33.982038 | G15: =SEKTOR_TL!L15 -> -21.289521
A16: Tütün ve Mamulleri | B16: =SEKTOR_USD!D16 -> 66.138514 | C16: =SEKTOR_TL!D16 -> 95.49159 | D16: =SEKTOR_USD!H16 -> 15.44167 | E16: =SEKTOR_TL!H16 -> 36.578651 | F16: =SEKTOR_USD!L16 -> 11.028803 | G16: =SEKTOR_TL!L16 -> 32.375039
A17: Süs Bitkileri | B17: =SEKTOR_USD!D17 -> -6.0990541 | C17: =SEKTOR_TL!D17 -> 10.491208 | D17: =SEKTOR_USD!H17 -> -0.11217126 | E17: =SEKTOR_TL!H17 -> 18.176953 | F17: =SEKTOR_USD!L17 -> 2.1650969 | G17: =SEKTOR_TL!L17 -> 21.807209
A18: B. HAYVANSAL ÜRÜNLER | B18: =SEKTOR_USD!D18 -> 20.013923 | C18: =SEKTOR_TL!D18 -> 41.217782 | D18: =SEKTOR_USD!H18 -> 7.9531179 | E18: =SEKTOR_TL!H18 -> 27.71897 | F18: =SEKTOR_USD!L18 -> 8.9861272 | G18: =SEKTOR_TL!L18 -> 29.939641
A19: Su Ürünleri ve Hayvansal Mamuller | B19: =SEKTOR_USD!D19 -> 20.013923 | C19: =SEKTOR_TL!D19 -> 41.217782 | D19: =SEKTOR_USD!H19 -> 7.9531179 | E19: =SEKTOR_TL!H19 -> 27.71897 | F19: =SEKTOR_USD!L19 -> 8.9861272 | G19: =SEKTOR_TL!L19 -> 29.939641
... A43: T O P L A M | B43: =SEKTOR_USD!D43 -> 15.846706 | C43: =SEKTOR_TL!D43 -> 36.314308 | D43: =SEKTOR_USD!H43 -> 5.8911973 | E43: =SEKTOR_TL!H43 -> 25.279518 | F43: =SEKTOR_USD!L43 -> 5.9704648 | G43: =SEKTOR_TL!L43 -> 26.344192
A44: İhracatçı Birlikleri Kaydından Muaf İhracat | D44: =SEKTOR_USD!H45 -> 5.234121 | E44: =SEKTOR_TL!H44 -> 24.543089 | F44: =SEKTOR_USD!L45 -> 5.2413276 | G44: =SEKTOR_TL!L44 -> 20.651502
A45: T O P L A M | B45: =SEKTOR_USD!#REF! -> #REF! | C45: =SEKTOR_TL!D45 -> #REF! | D45: =SEKTOR_USD!#REF! -> #REF! | E45: =SEKTOR_TL!H45 -> #REF! | F45: =SEKTOR_USD!#REF! -> #REF! | G45: =SEKTOR_TL!L45 -> #REF!

Sheet GEN_SEK
C2: 1 - 30 EYLÜL İHRACAT RAKAMLARI
A6: İHRACATÇI BİRLİKLERİ GENEL SEKRETERLİKLERİ BAZINDA İHRACAT RAKAMLARI (1.000 $)
B7: 1 - 30 EYLÜL | F7: 1 OCAK - 30 EYLÜL | J7: SON 12 AYLIK
A8: İHRACATÇI BİRLİKLERİ GENEL SEKRETERLİKLERİ | B8: 2025 | C8: 2026 | D8: Değişim ('26/'25) | E8: Pay(26) (%) | F8: 2025 | G8: 2026 | H8: Değişim ('26/'25) | I8: Pay(26) (%) | J8: 2024 - 2025 | K8: 2025 - 2026 | L8: Değişim ('26/'25) | M8: Pay(26) (%)
A9: İMMİB | B9: 5874207.5 | C9: 7689297.8 | D9: =(C9-B9)/B9*100 -> 30.899321 | E9: =C9/C$23*100 -> 33.889679 | F9: 52421500 | G9: 56193169 | H9: =(G9-F9)/F9*100 -> 7.1948879 | I9: =G9/G$23*100 -> 30.583414 | J9: 69781427 | K9: 73876478 | L9: =(K9-J9)/J9*100 -> 5.8683978 | M9: =K9/K$23*100 -> 29.859735
A10: UİB | B10: 3896862.7 | C10: 4123769.3 | D10: =(C10-B10)/B10*100 -> 5.8228029 | E10: =C10/C$23*100 -> 18.17503 | F10: 31507262 | G10: 32777158 | H10: =(G10-F10)/F10*100 -> 4.0304865 | I10: =G10/G$23*100 -> 17.839133 | J10: 42121296 | K10: 44554087 | L10: =(K10-J10)/J10*100 -> 5.7756803 | M10: =K10/K$23*100 -> 18.008076
A11: OAİB | B11: 2303401 | C11: 2678149.2 | D11: =(C11-B11)/B11*100 -> 16.269343 | E11: =C11/C$23*100 -> 11.803628 | F11: 21599567 | G11: 23053824 | H11: =(G11-F11)/F11*100 -> 6.7328083 | I11: =G11/G$23*100 -> 12.54716 | J11: 29372973 | K11: 32797456 | L11: =(K11-J11)/J11*100 -> 11.658621 | M11: =K11/K$23*100 -> 13.256227
A12: EİB | B12: 1536746.6 | C12: 1705637.5 | D12: =(C12-B12)/B12*100 -> 10.990159 | E12: =C12/C$23*100 -> 7.5173975 | F12: 13690017 | G12: 14483348 | H12: =(G12-F12)/F12*100 -> 5.7949619 | I12: =G12/G$23*100 -> 7.8826347 | J12: 18483115 | K12: 19291215 | L12: =(K12-J12)/J12*100 -> 4.372097 | M12: =K12/K$23*100 -> 7.797212
A13: İTKİB | B13: 1625316.8 | C13: 1548905.7 | D13: =(C13-B13)/B13*100 -> -4.7012997 | E13: =C13/C$23*100 -> 6.8266205 | F13: 15077017 | G13: 14078627 | H13: =(G13-F13)/F13*100 -> -6.6219356 | I13: =G13/G$23*100 -> 7.6623634 | J13: 20123657 | K13: 18791905 | L13: =(K13-J13)/J13*100 -> -6.6178397 | M13: =K13/K$23*100 -> 7.5953988
A14: AKİB | B14: 1246025.5 | C14: 1385638 | D14: =(C14-B14)/B14*100 -> 11.204629 | E14: =C14/C$23*100 -> 6.107037 | F14: 12082286 | G14: 13807605 | H14: =(G14-F14)/F14*100 -> 14.279742 | I14: =G14/G$23*100 -> 7.5148584 | J14: 16652021 | K14: 18519859 | L14: =(K14-J14)/J14*100 -> 11.216886 | M14: =K14/K$23*100 -> 7.4854419
A15: İİB | B15: 1008003.4 | C15: 1083316.2 | D15: =(C15-B15)/B15*100 -> 7.4714817 | E15: =C15/C$23*100 -> 4.7745891 | F15: 9184149.3 | G15: 9566108.1 | H15: =(G15-F15)/F15*100 -> 4.158892 | I15: =G15/G$23*100 -> 5.2064023 | J15: 12535429 | K15: 13107892 | L15: =(K15-J15)/J15*100 -> 4.566759 | M15: =K15/K$23*100 -> 5.2980081
A16: GAİB | B16: 1054869.8 | C16: 1206178.8 | D16: =(C16-B16)/B16*100 -> 14.343863 | E16: =C16/C$23*100 -> 5.3160919 | F16: 8769446.4 | G16: 9357493.8 | H16: =(G16-F16)/F16*100 -> 6.7056386 | I16: =G16/G$23*100 -> 5.0928629 | J16: 11942212 | K16: 12586722 | L16: =(K16-J16)/J16*100 -> 5.3969058 | M16: =K16/K$23*100 -> 5.087359
A17: DENİB | B17: 302628.71 | C17: 388331.96 | D17: =(C17-B17)/B17*100 -> 28.319603 | E17: =C17/C$23*100 -> 1.7115276 | F17: 2650365.6 | G17: 3031719.7 | H17: =(G17-F17)/F17*100 -> 14.388736 | I17: =G17/G$23*100 -> 1.6500286 | J17: 3570643.4 | K17: 3971637.3 | L17: =(K17-J17)/J17*100 -> 11.2303 | M17: =K17/K$23*100 -> 1.6052746
A18: DAİB | B18: 322617.04 | C18: 307920.01 | D18: =(C18-B18)/B18*100 -> -4.5555658 | E18: =C18/C$23*100 -> 1.3571213 | F18: 2120101.9 | G18: 2426205.7 | H18: =(G18-F18)/F18*100 -> 14.438167 | I18: =G18/G$23*100 -> 1.3204746 | J18: 2769870.8 | K18: 3302307.1 | L18: =(K18-J18)/J18*100 -> 19.222422 | M18: =K18/K$23*100 -> 1.3347417
A19: BAİB | B19: 203840.05 | C19: 264514.07 | D19: =(C19-B19)/B19*100 -> 29.765506 | E19: =C19/C$23*100 -> 1.1658148 | F19: 2016481.7 | G19: 2233212.2 | H19: =(G19-F19)/F19*100 -> 10.747955 | I19: =G19/G$23*100 -> 1.2154369 | J19: 2690314.2 | K19: 2958978.4 | L19: =(K19-J19)/J19*100 -> 9.9863511 | M19: =K19/K$23*100 -> 1.1959735
A20: KİB | B20: 115197.63 | C20: 162906.51 | D20: =(C20-B20)/B20*100 -> 41.414815 | E20: =C20/C$23*100 -> 0.71799136 | F20: 1286424.8 | G20: 1476733.4 | H20: =(G20-F20)/F20*100 -> 14.793599 | I20: =G20/G$23*100 -> 0.80371953 | J20: 1896796 | K20: 1967762.5 | L20: =(K20-J20)/J20*100 -> 3.7413856 | M20: =K20/K$23*100 -> 0.79533928
... A22: HİZMET | B22: 552.96841 | C22: 23270.072 | D22: =(C22-B22)/B22*100 -> 4108.2099 | E22: =C22/C$23*100 -> 0.10256011 | F22: 7696.6554 | G22: 26931.164 | H22: =(G22-F22)/F22*100 -> 249.90737 | I22: =G22/G$23*100 -> 0.014657421 | J22: 15070.346 | K22: 32853.012 | L22: =(K22-J22)/J22*100 -> 117.99773 | M22: =K22/K$23*100 -> 0.013278682
A23: TOPLAM | B23: =SUM(B9:B22) -> 19585540 | C23: =SUM(C9:C22) -> 22689203 | D23: =(C23-B23)/B23*100 -> 15.846706 | E23: =C23/C$23*100 -> 100 | F23: =SUM(F9:F22) -> 1.7351527e+08 | G23: =SUM(G9:G22) -> 1.837374e+08 | H23: =(G23-F23)/F23*100 -> 5.8911973 | I23: =G23/G$23*100 -> 100 | J23: =SUM(J9:J22) -> 2.3347232e+08 | K23: =SUM(K9:K22) -> 2.474117e+08 | L23: =(K23-J23)/J23*100 -> 5.9704648 | M23: =K23/K$23*100 -> 100

Sheet Toplam İhracat  bar gra

Sheet ULKE
B3: 2026 YILI İHRACATIMIZDA İLK 20 ÜLKE (1.000 $)
B4: ÜLKE | C4: OCAK | D4: ŞUBAT | E4: MART | F4: NİSAN | G4: MAYIS | H4: HAZİRAN | I4: TEMMUZ | J4: AĞUSTOS | K4: EYLÜL | L4: EKİM | M4: KASIM | N4: ARALIK | O4: KÜMÜLATİF | P4: % PAY
A5: 1. | B5: ALMANYA | C5: 1580467.8 | D5: 1653634 | E5: 1612582.9 | F5: 1905821.6 | G5: 1542072.3 | H5: 1812120.5 | I5: 1886354.6 | J5: 1579622.7 | K5: 1865892.9 | L5: 0 | M5: 0 | N5: 0 | O5: 15438569 | P5: =O5/O$26*100 -> 8.4025187
A6: 2. | B6: ABD | C6: 1031930.9 | D6: 992028.53 | E6: 1141949.3 | F6: 1285767.9 | G6: 1224482.4 | H6: 1283004.6 | I6: 1280031.2 | J6: 1305189.7 | K6: 1463147.5 | L6: 0 | M6: 0 | N6: 0 | O6: 11007532 | P6: =O6/O$26*100 -> 5.9909045
A7: 3. | B7: BİRLEŞİK KRALLIK | C7: 1128096.6 | D7: 1113341.7 | E7: 1092238.8 | F7: 1271833.1 | G7: 1058366.6 | H7: 1164600 | I7: 1244619.9 | J7: 1145020.6 | K7: 1353595.3 | L7: 0 | M7: 0 | N7: 0 | O7: 10571713 | P7: =O7/O$26*100 -> 5.7537076
A8: 4. | B8: İTALYA | C8: 958252.8 | D8: 1006037.4 | E8: 1245898.1 | F8: 1299938.1 | G8: 1063973.9 | H8: 1230385.5 | I8: 967699.5 | J8: 787686.44 | K8: 1056182.8 | L8: 0 | M8: 0 | N8: 0 | O8: 9616054.5 | P8: =O8/O$26*100 -> 5.2335859
A9: 5. | B9: İSPANYA | C9: 828863.16 | D9: 787382.61 | E9: 866932.8 | F9: 1030656.9 | G9: 971008.13 | H9: 1083161.1 | I9: 807016.28 | J9: 868445.63 | K9: 1038668.5 | L9: 0 | M9: 0 | N9: 0 | O9: 8282135.1 | P9: =O9/O$26*100 -> 4.5075936
A10: 6. | B10: FRANSA | C10: 732012.44 | D10: 860740.61 | E10: 937551.27 | F10: 951027.71 | G10: 856053.19 | H10: 1009983.9 | I10: 872477.7 | J10: 703972.08 | K10: 976291.48 | L10: 0 | M10: 0 | N10: 0 | O10: 7900110.4 | P10: =O10/O$26*100 -> 4.2996747
A11: 7. | B11: IRAK | C11: 752687.03 | D11: 648931.25 | E11: 532474.12 | F11: 678561.54 | G11: 639455.49 | H11: 789257.75 | I11: 877937.88 | J11: 829777.47 | K11: 946098.04 | L11: 0 | M11: 0 | N11: 0 | O11: 6695180.6 | P11: =O11/O$26*100 -> 3.6438856
A12: 8. | B12: ROMANYA | C12: 438016.51 | D12: 560839.27 | E12: 754173.31 | F12: 683216.7 | G12: 533584.34 | H12: 696233.42 | I12: 767792.62 | J12: 457382.22 | K12: 599793.21 | L12: 0 | M12: 0 | N12: 0 | O12: 5491031.6 | P12: =O12/O$26*100 -> 2.9885215
A13: 9. | B13: HOLLANDA | C13: 597205.1 | D13: 547739.08 | E13: 464500.55 | F13: 737475.78 | G13: 586172.57 | H13: 629789.28 | I13: 664906.42 | J13: 579714.42 | K13: 650417.9 | L13: 0 | M13: 0 | N13: 0 | O13: 5457921.1 | P13: =O13/O$26*100 -> 2.9705009
A14: 10. | B14: POLONYA | C14: 515158.4 | D14: 523386.11 | E14: 489269.2 | F14: 588854.75 | G14: 473613.71 | H14: 581461.97 | I14: 569859.16 | J14: 507371.57 | K14: 581724.25 | L14: 0 | M14: 0 | N14: 0 | O14: 4830699.1 | P14: =O14/O$26*100 -> 2.6291322
A15: 11. | B15: RUSYA FEDERASYONU | C15: 398227.73 | D15: 454072.33 | E15: 438085.5 | F15: 469567.19 | G15: 443938.57 | H15: 538855.13 | I15: 527666.64 | J15: 363900.48 | K15: 479231.82 | L15: 0 | M15: 0 | N15: 0 | O15: 4113545.4 | P15: =O15/O$26*100 -> 2.2388177
A16: 12. | B16: BULGARİSTAN | C16: 377592.64 | D16: 361448.42 | E16: 486826.17 | F16: 487333.79 | G16: 361801.49 | H16: 471331.63 | I16: 434032.84 | J16: 448601.39 | K16: 484322.47 | L16: 0 | M16: 0 | N16: 0 | O16: 3913290.8 | P16: =O16/O$26*100 -> 2.1298282
... A24: 20. | B24: YUNANİSTAN | C24: 257897.54 | D24: 243952.9 | E24: 337905.27 | F24: 288113 | G24: 288576.42 | H24: 327498.01 | I24: 285942.02 | J24: 266853.44 | K24: 277032.59 | L24: 0 | M24: 0 | N24: 0 | O24: 2573771.2 | P24: =O24/O$26*100 -> 1.4007879
B25: İlk 20 Ülke Toplam | O25: =SUM(O5:O24) -> 1.1782521e+08 | P25: =SUM(P5:P24) -> 64.126964
B26: Genel Toplam | O26: 1.837374e+08 | P26: =O26/O$26*100 -> 100

Sheet KARŞL.
A22: * Aylar bazında toplam ihracat grafiğinde TUİK rakamları kullanılmıştır.

Sheet SEKT1
B1: I. TARIM
B2: A. BİTKİSEL ÜRÜNLER

Sheet SEKT2 

Sheet SEKT3 
C2: B. HAYVANSAL ÜRÜNLER
C21: C. AĞAÇ MAMULLERİ VE ORMAN ÜRÜNLERİ

Sheet SEKT4 
B1: II. SANAYİ
B2: A. TARIMA DAYALI İŞLENMİŞ ÜRÜNLER

Sheet SEKT5 
B1: B. KİMYEVİ MADDELER
B18: C. SANAYİ MAMULLERİ

Sheet 2002_2026_AYLIK_IHR
B1: (x1000 $) | C1: OCAK | D1: ŞUBAT | E1: MART | F1: NİSAN | G1: MAYIS | H1: HAZİRAN | I1: TEMMUZ | J1: AGUSTOS | K1: EYLÜL | L1: EKİM | M1: KASIM | N1: ARALIK | O1: TOPLAM
A2: 2026 | B2: I. TARIM | C2: =C4+C6+C8+C10+C12+C14+C16+C18+C20+C22 -> 2972943.8 | D2: =D4+D6+D8+D10+D12+D14+D16+D18+D20+D22 -> 2905019.4 | E2: =E4+E6+E8+E10+E12+E14+E16+E18+E20+E22 -> 2938938.4 | F2: =F4+F6+F8+F10+F12+F14+F16+F18+F20+F22 -> 3267436.6 | G2: =G4+G6+G8+G10+G12+G14+G16+G18+G20+G22 -> 2742543 | H2: =H4+H6+H8+H10+H12+H14+H16+H18+H20+H22 -> 3160005.6 | I2: =I4+I6+I8+I10+I12+I14+I16+I18+I20+I22 -> 3158381 | J2: =J4+J6+J8+J10+J12+J14+J16+J18+J20+J22 -> 2805433.6 | K2: =K4+K6+K8+K10+K12+K14+K16+K18+K20+K22 -> 3183461.1 | O2: =O4+O6+O8+O10+O12+O14+O16+O18+O20+O22 -> 27134162
A3: 2025 | B3: I. TARIM | C3: =C5+C7+C9+C11+C13+C15+C17+C19+C21+C23 -> 3004800.3 | D3: =D5+D7+D9+D11+D13+D15+D17+D19+D21+D23 -> 2949455.1 | E3: =E5+E7+E9+E11+E13+E15+E17+E19+E21+E23 -> 3117036.4 | F3: =F5+F7+F9+F11+F13+F15+F17+F19+F21+F23 -> 2767943.8 | G3: =G5+G7+G9+G11+G13+G15+G17+G19+G21+G23 -> 3099780.2 | H3: =H5+H7+H9+H11+H13+H15+H17+H19+H21+H23 -> 2542841.7 | I3: =I5+I7+I9+I11+I13+I15+I17+I19+I21+I23 -> 2893494.5 | J3: =J5+J7+J9+J11+J13+J15+J17+J19+J21+J23 -> 2703821.9 | ... O3: =O5+O7+O9+O11+O13+O15+O17+O19+O21+O23 -> 36363580
A4: 2026 | B4: Hububat, Bakliyat, Yağlı Tohumlar ve Mamulleri | C4: 925794.22 | D4: 949046.59 | E4: 944839.25 | F4: 1108137.3 | G4: 900742.9 | H4: 1013780.7 | I4: 1091241.4 | J4: 954972.63 | K4: 991026.71 | O4: 8879581.7
A5: 2025 | B5: Hububat, Bakliyat, Yağlı Tohumlar ve Mamulleri | C5: 1024708.6 | D5: 1063663.1 | E5: 1106850.9 | F5: 956182 | G5: 1055818.6 | H5: 862664.01 | I5: 1018279 | J5: 955103.8 | K5: 991732.36 | L5: 1089641.7 | M5: 1030711.3 | N5: 1204793.5 | O5: 12360149
A6: 2026 | B6: Yaş Meyve ve Sebze | C6: 512423.19 | D6: 397479.24 | E6: 394524.09 | F6: 328686.1 | G6: 322143.6 | H6: 398016.09 | I6: 294666.56 | J6: 246100.14 | K6: 275945.3 | O6: 3169984.3
A7: 2025 | B7: Yaş Meyve ve Sebze | C7: 352916.12 | D7: 318987.64 | E7: 298166.45 | F7: 235491.99 | G7: 282671.36 | H7: 202611.68 | I7: 121341.55 | J7: 177463.02 | K7: 240221.94 | L7: 334467.94 | M7: 517955.39 | N7: 620947.63 | O7: 3703242.7
A8: 2026 | B8: Meyve Sebze Mamulleri | C8: 186786.43 | D8: 188436.3 | E8: 202224.48 | F8: 209903.46 | G8: 190088.15 | H8: 202797.61 | I8: 215083.4 | J8: 200817.7 | K8: 233924.48 | O8: 1830062
A9: 2025 | B9: Meyve Sebze Mamulleri | C9: 209828.84 | D9: 198799.59 | E9: 223977.32 | F9: 197644.15 | G9: 219783.12 | H9: 186531.8 | I9: 229092.2 | J9: 209391.82 | K9: 225769.63 | L9: 231934.48 | M9: 212003.59 | N9: 240419.13 | O9: 2585175.7
A10: 2026 | B10: Kuru Meyve ve Mamulleri | C10: 137713.12 | D10: 133509.52 | E10: 130120.75 | F10: 134205.13 | G10: 98996.385 | H10: 114338.11 | I10: 108969.58 | J10: 100423.1 | K10: 167857.13 | O10: 1126132.8
A11: 2025 | B11: Kuru Meyve ve Mamulleri | C11: 163152.75 | D11: 144858.23 | E11: 160642.42 | F11: 133032.65 | G11: 140798.29 | H11: 104641.84 | I11: 135310.44 | J11: 111016.48 | K11: 123516.49 | L11: 188162.16 | M11: 160393.6 | N11: 168211.66 | O11: 1733737
A12: 2026 | B12: Fındık ve Mamulleri | C12: 176904.09 | D12: 202583.9 | E12: 267846.55 | F12: 327943.78 | G12: 212071.94 | H12: 240762.58 | I12: 186372.62 | J12: 116076.59 | K12: 190303.67 | O12: 1920865.7
A13: 2025 | B13: Fındık ve Mamulleri | C13: 206060.89 | D13: 215798.86 | E13: 216963.53 | F13: 208113.84 | G13: 183702.04 | H13: 139627.17 | I13: 164268.67 | J13: 122819.55 | K13: 143585.97 | L13: 200088.88 | M13: 193596.29 | N13: 243722.51 | O13: 2238348.2
A14: 2026 | B14: Zeytin ve Zeytinyağı | C14: 29911.215 | D14: 29498.176 | E14: 29257.854 | F14: 37413.189 | G14: 30612.139 | H14: 30825.522 | I14: 29187.202 | J14: 25265.38 | K14: 31690.212 | O14: 273660.89
A15: 2025 | B15: Zeytin ve Zeytinyağı | C15: 51206.495 | D15: 41063.263 | E15: 52678.842 | F15: 36783.289 | G15: 46377.821 | H15: 38066.881 | I15: 46750.79 | J15: 32493.512 | K15: 35974.836 | L15: 35437.127 | M15: 35969.178 | N15: 42937.386 | O15: 495739.42
A16: 2026 | B16: Tütün | C16: 63852.644 | D16: 80043.007 | E16: 63330.948 | F16: 81261.418 | G16: 92281.277 | H16: 125938.38 | I16: 110382.51 | J16: 125925.07 | K16: 186542.75 | O16: 929558.01
A17: 2025 | B17: Tütün | C17: 85913.865 | D17: 65991.33 | E17: 62660.677 | F17: 77198.856 | G17: 99877.327 | H17: 99311.339 | I17: 109376.61 | J17: 92607.31 | K17: 112281.46 | L17: 82093.362 | M17: 71462.505 | N17: 100840.07 | O17: 1059614.7
A18: 2026 | B18: Süs Bitkileri ve Mamulleri | C18: 14882.811 | D18: 22093.156 | E18: 17676.323 | F18: 16503.755 | G18: 12804.479 | H18: 9540.3304 | I18: 9861.6022 | J18: 8241.6795 | K18: 9501.6188 | O18: 121105.76
A19: 2025 | B19: Süs Bitkileri ve Mamulleri | C19: 18347.959 | D19: 19389.357 | E19: 18490.98 | F19: 14928.546 | G19: 13651.143 | H19: 8090.8728 | I19: 8822.1545 | J19: 9401.9723 | K19: 10118.768 | L19: 12525.304 | M19: 11742.039 | N19: 14361.359 | O19: 159870.46
A20: 2026 | B20: Su Ürünleri ve Hayvansal Mamuller | C20: 363637.82 | D20: 304648.72 | E20: 290511.86 | F20: 320998.84 | G20: 291939.79 | H20: 332032.06 | I20: 383635.13 | J20: 380335.17 | K20: 415823.59 | O20: 3083563
A21: 2025 | B21: Su Ürünleri ve Hayvansal Mamuller | C21: 284326.54 | D21: 275420.19 | E21: 304836.21 | F21: 287905.59 | G21: 335125.5 | H21: 313835.32 | I21: 370478.42 | J21: 337983.61 | K21: 346479.46 | L21: 381273.72 | M21: 362449.6 | N21: 443768.24 | O21: 4043882.4
A22: 2026 | B22: Mobilya, Kağıt ve Orman Ürünleri | C22: 561038.23 | D22: 597680.82 | E22: 598606.34 | F22: 702383.62 | G22: 590862.38 | H22: 691974.18 | I22: 728981 | J22: 647276.1 | K22: 680845.61 | O22: 5799648.3
A23: 2025 | B23: Mobilya, Kağıt ve Orman Ürünleri | C23: 608338.18 | D23: 605483.61 | E23: 671769.15 | F23: 620662.92 | G23: 721975 | H23: 587460.76 | I23: 689774.56 | J23: 655540.84 | K23: 685384.25 | L23: 731383.77 | M23: 669670.81 | N23: 736377.23 | O23: 7983821.1
A24: 2026 | B24: II. SANAYİ | C24: =C26+C28+C30+C32+C34+C36+C38+C40+C42+C44+C46+C48+C50+C52+C54+C56 -> 14108240 | D24: =D26+D28+D30+D32+D34+D36+D38+D40+D42+D44+D46+D48+D50+D52+D54+D56 -> 15149535 | E24: =E26+E28+E30+E32+E34+E36+E38+E40+E42+E44+E46+E48+E50+E52+E54+E56 -> 15992284 | F24: =F26+F28+F30+F32+F34+F36+F38+F40+F42+F44+F46+F48+F50+F52+F54+F56 -> 18235648 | G24: =G26+G28+G30+G32+G34+G36+G38+G40+G42+G44+G46+G48+G50+G52+G54+G56 -> 16095059 | H24: =H26+H28+H30+H32+H34+H36+H38+H40+H42+H44+H46+H48+H50+H52+H54+H56 -> 17903073 | I24: =I26+I28+I30+I32+I34+I36+I38+I40+I42+I44+I46+I48+I50+I52+I54+I56 -> 18250228 | J24: =J26+J28+J30+J32+J34+J36+J38+J40+J42+J44+J46+J48+J50+J52+J54+J56 -> 16634494 | K24: =K26+K28+K30+K32+K34+K36+K38+K40+K42+K44+K46+K48+K50+K52+K54+K56 -> 18823179 | O24: =O26+O28+O30+O32+O34+O36+O38+O40+O42+O44+O46+O48+O50+O52+O54+O56 -> 1.5119174e+08
A25: 2025 | B25: II. SANAYİ | C25: =C27+C29+C31+C33+C35+C37+C39+C41+C43+C45+C47+C49+C51+C53+C55+C57 -> 14942985 | D25: =D27+D29+D31+D33+D35+D37+D39+D41+D43+D45+D47+D49+D51+D53+D55+D57 -> 14668823 | E25: =E27+E29+E31+E33+E35+E37+E39+E41+E43+E45+E47+E49+E51+E53+E55+E57 -> 16481043 | F25: =F27+F29+F31+F33+F35+F37+F39+F41+F43+F45+F47+F49+F51+F53+F55+F57 -> 14829572 | G25: =G27+G29+G31+G33+G35+G37+G39+G41+G43+G45+G47+G49+G51+G53+G55+G57 -> 17894768 | H25: =H27+H29+H31+H33+H35+H37+H39+H41+H43+H45+H47+H49+H51+H53+H55+H57 -> 14591370 | I25: =I27+I29+I31+I33+I35+I37+I39+I41+I43+I45+I47+I49+I51+I53+I55+I57 -> 18149807 | J25: =J27+J29+J31+J33+J35+J37+J39+J41+J43+J45+J47+J49+J51+J53+J55+J57 -> 15335044 | ... O25: =O27+O29+O31+O33+O35+O37+O39+O41+O43+O45+O47+O49+O51+O53+O55+O57 -> 1.9461564e+08
A26: 2026 | B26: Tekstil ve Hammaddeleri | C26: 728118.83 | D26: 757363.96 | E26: 747397.31 | F26: 892601.87 | G26: 738333.17 | H26: 840485.21 | I26: 845930.9 | J26: 772766.46 | K26: 839078.43 | O26: 7162076.1
A27: 2025 | B27: Tekstil ve Hammaddeleri | C27: 825083.22 | D27: 755757.47 | E27: 838027.12 | F27: 769934.76 | G27: 852159.28 | H27: 691162.71 | I27: 776101.03 | J27: 748830.02 | K27: 785821.57 | L27: 838984.16 | M27: 740928.14 | N27: 780949.2 | O27: 9403738.7
A28: 2026 | B28: Deri ve Deri Mamulleri | C28: 106233.67 | D28: 126719.04 | E28: 112877.3 | F28: 122777.62 | G28: 103887.19 | H28: 109417.73 | I28: 148350.05 | J28: 139940.42 | K28: 134314.96 | O28: 1104518
A29: 2025 | B29: Deri ve Deri Mamulleri | C29: 126177.4 | D29: 132248.76 | E29: 140687.86 | F29: 102625.47 | G29: 124003.22 | H29: 90353.7 | I29: 132121.8 | J29: 137122.42 | K29: 128454.37 | L29: 129118.9 | M29: 100339.45 | N29: 101065.11 | O29: 1444318.5
A30: 2026 | B30: Halı | C30: 206143.91 | D30: 220790.17 | E30: 207027.97 | F30: 237325.63 | G30: 181516.99 | H30: 204556.75 | I30: 234515.32 | J30: 246141.17 | K30: 279147.46 | O30: 2017165.4
A31: 2025 | B31: Halı | C31: 229213.03 | D31: 227605.86 | E31: 234220.14 | F31: 199115.23 | G31: 233946.09 | H31: 165379.25 | I31: 230952.04 | J31: 231825.87 | K31: 263391.04 | L31: 286242.44 | M31: 250763.23 | N31: 284848.55 | O31: 2837502.8
A32: 2026 | B32: Kimyevi Maddeler ve Mamulleri | C32: 2316471.6 | D32: 2394621.2 | E32: 3053048.8 | F32: 3097210.5 | G32: 2926286.4 | H32: 3276929.9 | I32: 3040985.7 | J32: 2628293.2 | K32: 3067874.8 | O32: 25801722
A33: 2025 | B33: Kimyevi Maddeler ve Mamulleri | C33: 2550841.9 | D33: 2485556.6 | E33: 2724519.5 | F33: 2611348.9 | G33: 2786759.8 | H33: 2594381.4 | I33: 3424422.6 | J33: 2609037.4 | K33: 2454619.5 | L33: 2650682.4 | M33: 2349817.1 | N33: 2601175.5 | O33: 31843163
A34: 2026 | B34: Hazırgiyim ve Konfeksiyon | C34: 1337258.5 | D34: 1323450.5 | E34: 1207540.5 | F34: 1445425 | G34: 1283822.6 | H34: 1371913.4 | I34: 1580220.9 | J34: 1411384.6 | K34: 1405586.7 | O34: 12366603
A35: 2025 | B35: Hazırgiyim ve Konfeksiyon | C35: 1409229.8 | D35: 1354606 | E35: 1413608.7 | F35: 1225036.4 | G35: 1514376.9 | H35: 1195468.1 | I35: 1580696.5 | J35: 1519171.5 | K35: 1485180.4 | L35: 1508533.2 | M35: 1285015.2 | N35: 1268961.7 | O35: 16759884
A36: 2026 | B36: Otomotiv Endüstrisi | C36: 3058954.8 | D36: 3540041 | E36: 3288322.8 | F36: 3852929.6 | G36: 3258743 | H36: 3835110 | I36: 3583557.9 | J36: 2787651.2 | K36: 3940038.8 | O36: 31145349
A37: 2025 | B37: Otomotiv Endüstrisi | C37: 2996338.5 | D37: 2976587.4 | E37: 3514214.6 | F37: 3141750.1 | G37: 3942310.4 | H37: 3405075.9 | I37: 3834838.1 | J37: 2729840.9 | K37: 3657357.8 | L37: 3809170 | M37: 3749702.8 | N37: 3759525.3 | O37: 41516712
A38: 2026 | B38: Gemi, Yat ve Hizmetleri | C38: 166912.11 | D38: 165265.07 | E38: 235413.85 | F38: 353492.78 | G38: 349619.63 | H38: 279412.78 | I38: 166187.65 | J38: 100453.35 | K38: 181434.5 | O38: 1998191.7
A39: 2025 | B39: Gemi, Yat ve Hizmetleri | C39: 82415.475 | D39: 158782.83 | E39: 86356.292 | F39: 129783.3 | G39: 367051.56 | H39: 84044.055 | I39: 262568.56 | J39: 81743.42 | K39: 230420.19 | L39: 304893.73 | M39: 164250.66 | N39: 291218.45 | O39: 2243528.5
A40: 2026 | B40: Elektrik ve Elektronik | C40: 1340470.5 | D40: 1407007 | E40: 1475087.9 | F40: 1762159.1 | G40: 1479782.2 | H40: 1661663.8 | I40: 1802525.3 | J40: 1723578.8 | K40: 2063400.9 | O40: 14715675
A41: 2025 | B41: Elektrik ve Elektronik | C41: 1223526.2 | D41: 1292779.5 | E41: 1477428.1 | F41: 1378795.5 | G41: 1672887.3 | H41: 1274531.4 | I41: 1563386.6 | J41: 1488938.8 | K41: 1507297.4 | L41: 1640852.5 | M41: 1476776.6 | N41: 1726380.2 | O41: 17723580
A42: 2026 | B42: Makine ve Aksamları | C42: 811832.76 | D42: 879709.53 | E42: 885120.72 | F42: 1024347.8 | G42: 834279.98 | H42: 917086 | I42: 1024473.5 | J42: 897147.42 | K42: 954644.76 | O42: 8228642.5
A43: 2025 | B43: Makine ve Aksamları | C43: 790353.39 | D43: 807785.44 | E43: 915049.39 | F43: 853185.5 | G43: 1006417.5 | H43: 797324.16 | I43: 985146.2 | J43: 962214.95 | K43: 940602.6 | L43: 1067005.4 | M43: 979382.73 | N43: 1149271.4 | O43: 11253739
A44: 2026 | B44: Demir ve Demir Dışı Metaller | C44: 1072910.1 | D44: 1096776.3 | E44: 1133774.4 | F44: 1360627.4 | G44: 1175777 | H44: 1360932.1 | I44: 1403859.1 | J44: 1309278.4 | K44: 1320510.5 | O44: 11234445
A45: 2025 | B45: Demir ve Demir Dışı Metaller | C45: 1010378.2 | D45: 1020123.1 | E45: 1135102.7 | F45: 1080114.7 | G45: 1234348.4 | H45: 967548.42 | I45: 1186761 | J45: 1098447 | K45: 1130663.4 | L45: 1219311.5 | M45: 1048100.9 | N45: 1107577.2 | O45: 13238476
A46: 2026 | B46: Çelik | C46: 1079043.1 | D46: 1174739.7 | E46: 1528982.3 | F46: 1420196.1 | G46: 1418279.8 | H46: 1739178.9 | I46: 1374084.8 | J46: 1522651.1 | K46: 1485807 | O46: 12742963
A47: 2025 | B47: Çelik | C47: 1245833.7 | D47: 1233278 | E47: 1539795.2 | F47: 1300330.6 | G47: 1496070.9 | H47: 1430237.7 | I47: 1351623.1 | J47: 1364686.1 | K47: 1478955.2 | L47: 1286962.8 | M47: 1313238.5 | N47: 1490897.6 | O47: 16531909
A48: 2026 | B48: Çimento Cam Seramik ve Toprak Ürünleri | C48: 316660.93 | D48: 330840.4 | E48: 375885.64 | F48: 422444.15 | G48: 359423.51 | H48: 418599.89 | I48: 424286.59 | J48: 375417.15 | K48: 375532.81 | O48: 3399091.1
A49: 2025 | B49: Çimento Cam Seramik ve Toprak Ürünleri | C49: 317167.47 | D49: 320191.06 | E49: 375147.77 | F49: 387268.29 | G49: 413257.35 | H49: 365425.93 | I49: 427228.41 | J49: 363877.65 | K49: 381323.39 | L49: 402911.56 | M49: 359533.14 | N49: 385065.56 | O49: 4498397.6
A50: 2026 | B50: Mücevher | C50: 483534.06 | D50: 569602.74 | E50: 361179.01 | F50: 606000.68 | G50: 443040.43 | H50: 447003.14 | I50: 801975.94 | J50: 1635909.9 | K50: 1511859.6 | O50: 6860105.5
A51: 2025 | B51: Mücevher | C51: 1162501.6 | D51: 877795.87 | E51: 565444.91 | F51: 503104.91 | G51: 853218.95 | H51: 379383.98 | I51: 756173.58 | J51: 596278.26 | K51: 498420.43 | L51: 568803.54 | M51: 614831.47 | N51: 553325.49 | O51: 7929283
A52: 2026 | B52: Savunma ve Havacılık Sanayii | C52: 549277.73 | D52: 552693.88 | E52: 799738.49 | F52: 962304.37 | G52: 992061.55 | H52: 802541.83 | I52: 1122469.5 | J52: 511294.24 | K52: 634108.32 | O52: 6926489.9
A53: 2025 | B53: Savunma ve Havacılık Sanayii | C53: 385075.39 | D53: 435214.94 | E53: 883919.51 | F53: 538166.55 | G53: 740975.66 | H53: 619541.23 | I53: 981427.4 | J53: 833841.72 | K53: 572821.24 | L53: 707493.92 | M53: 746154.93 | N53: 2561194.3 | O53: 10005827
A54: 2026 | B54: İklimlendirme Sanayii | C54: 534417.53 | D54: 609915.01 | E54: 580886.77 | F54: 675805.63 | G54: 550205.42 | H54: 638241.52 | I54: 696804.38 | J54: 572586.76 | K54: 629839.66 | O54: 5488702.7
A55: 2025 | B55: İklimlendirme Sanayii | C55: 588849.93 | D55: 590510.17 | E55: 637521.17 | F55: 609011.31 | G55: 656984.47 | H55: 531511.54 | I55: 656360.28 | J55: 569188.22 | K55: 605562.82 | L55: 665841.11 | M55: 612666.39 | N55: 661571.82 | O55: 7385579.2
A56: 2026 | O56: =SUM(C56:N56) -> 0
A57: 2025 | O57: =SUM(C57:N57) -> 0
A58: 2026 | B58: III. MADENCİLİK | C58: =C60 -> 518889.23 | D58: =D60 -> 473999.48 | E58: =E60 -> 571415.62 | F58: =F60 -> 675602.18 | G58: =G60 -> 501503.76 | H58: =H60 -> 692475.1 | I58: =I60 -> 644728.94 | J58: =J60 -> 650317.9 | K58: =K60 -> 682562.27 | O58: =O60 -> 5411494.5
A59: 2025 | B59: III. MADENCİLİK | C59: =C61 -> 456640.65 | D59: =D61 -> 417965.56 | E59: =E61 -> 492702.61 | F59: =F61 -> 474386.29 | G59: =G61 -> 531011.78 | H59: =H61 -> 490379.54 | I59: =I61 -> 571275.47 | J59: =J61 -> 522783.4 | ... O59: =O61 -> 6210356.7
A60: 2026 | B60: Madencilik Ürünleri | C60: 518889.23 | D60: 473999.48 | E60: 571415.62 | F60: 675602.18 | G60: 501503.76 | H60: 692475.1 | I60: 644728.94 | J60: 650317.9 | K60: 682562.27 | O60: 5411494.5
A61: 2025 | B61: Madencilik Ürünleri | C61: 456640.65 | D61: 417965.56 | E61: 492702.61 | F61: 474386.29 | G61: 531011.78 | H61: 490379.54 | I61: 571275.47 | J61: 522783.4 | K61: 549583.27 | L61: 583303.74 | M61: 531833.67 | N61: 588490.75 | O61: 6210356.7
A62: 2002 | B62: T O P L A M | C62: 2607319.7 | D62: 2383773 | E62: 2918943.5 | F62: 2742857.9 | G62: 3000325.2 | H62: 2770693.9 | I62: 3103851.9 | J62: 2975889 | K62: 3218206.9 | L62: 3501128 | M62: 3593604.9 | N62: 3242495.2 | O62: =SUM(C62:N62) -> 36059089
A63: 2003 | B63: T O P L A M | C63: 3533705.6 | D63: 2923460.4 | E63: 3908256 | F63: 3662183.4 | G63: 3860471.3 | H63: 3796113.5 | I63: 4236114.3 | J63: 3828726.2 | K63: 4114677.5 | L63: 4824388.3 | M63: 3969697.5 | N63: 4595042.4 | O63: =SUM(C63:N63) -> 47252836
A64: 2004 | B64: T O P L A M | C64: 4619660.8 | D64: 3664503 | E64: 5218042.2 | F64: 5072463 | G64: 5170061.6 | H64: 5284383.3 | I64: 5632138.8 | J64: 4707491.3 | K64: 5656283.5 | L64: 5867342.1 | M64: 5733909 | N64: 6540874.2 | O64: =SUM(C64:N64) -> 63167153
A65: 2005 | B65: T O P L A M | C65: 4997279.7 | D65: 5651741.3 | E65: 6591859.2 | F65: 6128131.9 | G65: 5977226.2 | H65: 6038534.4 | I65: 5763466.4 | J65: 5552867.2 | K65: 6814268.9 | L65: 6772178.6 | M65: 5942575.8 | N65: 7246278.6 | O65: =SUM(C65:N65) -> 73476408
A66: 2006 | B66: T O P L A M | C66: 5133048.9 | D66: 6058251.3 | E66: 7411101.7 | F66: 6456090.3 | G66: 7041543.2 | H66: 7815434.6 | I66: 7067411.5 | J66: 6811202.4 | K66: 7606551.1 | L66: 6888812.5 | M66: 8641474.6 | N66: 8603753.5 | O66: =SUM(C66:N66) -> 85534676
A67: 2007 | B67: T O P L A M | C67: 6564559.8 | D67: 7656951.6 | E67: 8957851.6 | F67: 8313312 | G67: 9147620 | H67: 8980247.4 | I67: 8937741.6 | J67: 8736689.1 | K67: 9038743.9 | L67: 9895216.6 | M67: 11318798 | N67: 9724018 | O67: =SUM(C67:N67) -> 1.0727175e+08
A68: 2008 | B68: T O P L A M | C68: 10632207 | D68: 11077899 | E68: 11428587 | F68: 11363964 | G68: 12477969 | H68: 11770634 | I68: 12595427 | J68: 11046830 | K68: 12793148 | L68: 9722708.8 | M68: 9395872.9 | N68: 7721949 | O68: =SUM(C68:N68) -> 1.320272e+08
A69: 2009 | B69: T O P L A M | C69: 7884493.5 | D69: 8435115.8 | E69: 8155485.1 | F69: 7561696.3 | G69: 7346407.5 | H69: 8329692.8 | I69: 9055733.7 | J69: 7839908.8 | K69: 8480708.4 | L69: 10095768 | M69: 8903010.8 | N69: 10054592 | O69: =SUM(C69:N69) -> 1.0214261e+08
A70: 2010 | B70: T O P L A M | C70: 7828748.1 | D70: 8263237.8 | E70: 9886488.2 | F70: 9396006.7 | G70: 9799958.1 | H70: 9542907.6 | I70: 9564682.5 | J70: 8523452 | K70: 8909230.5 | L70: 10963586 | M70: 9382369.7 | N70: 11822552 | O70: =SUM(C70:N70) -> 1.1388322e+08
A71: 2011 | B71: T O P L A M | C71: 9551084.6 | D71: 10059126 | E71: 11811085 | F71: 11873269 | G71: 10943364 | H71: 11349954 | I71: 11860004 | J71: 11245125 | K71: 10750626 | L71: 11907219 | M71: 11078525 | N71: 12477486 | O71: =SUM(C71:N71) -> 1.3490687e+08
A72: 2012 | B72: T O P L A M | C72: 10348187 | D72: 11748000 | E72: 13208573 | F72: 12630227 | G72: 13131531 | H72: 13231199 | I72: 12830675 | J72: 12831395 | K72: 12952652 | L72: 13190770 | M72: 13753052 | N72: 12605476 | O72: =SUM(C72:N72) -> 1.5246174e+08
A73: 2013 | B73: T O P L A M | C73: 11481521 | D73: 12385691 | E73: 13122058 | F73: 12468203 | G73: 13277209 | H73: 12399974 | I73: 13059520 | J73: 11118301 | K73: 13060371 | L73: 12053705 | M73: 14201227 | N73: 13174857 | O73: =SUM(C73:N73) -> 1.5180264e+08
... A85: 2025 | B85: T O P L A M | C85: 21160019 | D85: 20727903 | E85: 23405171 | F85: 20779137 | G85: 24815507 | H85: 20467853 | I85: 24909274 | J85: 21701090 | K85: 22513548 | L85: 23949501 | M85: 22506333 | N85: 26298394 | O85: =SUM(C85:N85) -> 2.7323373e+08
A86: 2026 | B86: T O P L A M | C86: 20326951 | D86: 21016841 | E86: 21909993 | F86: 25381242 | G86: 22391580 | H86: 24883042 | I86: 25620125 | J86: 23466659 | K86: 25976409 | O86: =SUM(C86:N86) -> 2.1097284e+08
